BEGIN:VCALENDAR
VERSION:2.0
PRODID:-//TEN: The Esquire Network - ECPv6.15.15//NONSGML v1.0//EN
CALSCALE:GREGORIAN
METHOD:PUBLISH
X-WR-CALNAME:TEN: The Esquire Network
X-ORIGINAL-URL:https://tenesquire.com
X-WR-CALDESC:Events for TEN: The Esquire Network
REFRESH-INTERVAL;VALUE=DURATION:PT1H
X-Robots-Tag:noindex
X-PUBLISHED-TTL:PT1H
BEGIN:VTIMEZONE
TZID:America/Los_Angeles
BEGIN:DAYLIGHT
TZOFFSETFROM:-0800
TZOFFSETTO:-0700
TZNAME:PDT
DTSTART:20270314T100000
END:DAYLIGHT
BEGIN:STANDARD
TZOFFSETFROM:-0700
TZOFFSETTO:-0800
TZNAME:PST
DTSTART:20271107T090000
END:STANDARD
BEGIN:DAYLIGHT
TZOFFSETFROM:-0800
TZOFFSETTO:-0700
TZNAME:PDT
DTSTART:20280312T100000
END:DAYLIGHT
BEGIN:STANDARD
TZOFFSETFROM:-0700
TZOFFSETTO:-0800
TZNAME:PST
DTSTART:20281105T090000
END:STANDARD
BEGIN:DAYLIGHT
TZOFFSETFROM:-0800
TZOFFSETTO:-0700
TZNAME:PDT
DTSTART:20290311T100000
END:DAYLIGHT
BEGIN:STANDARD
TZOFFSETFROM:-0700
TZOFFSETTO:-0800
TZNAME:PST
DTSTART:20291104T090000
END:STANDARD
BEGIN:DAYLIGHT
TZOFFSETFROM:-0800
TZOFFSETTO:-0700
TZNAME:PDT
DTSTART:20300310T100000
END:DAYLIGHT
BEGIN:STANDARD
TZOFFSETFROM:-0700
TZOFFSETTO:-0800
TZNAME:PST
DTSTART:20301103T090000
END:STANDARD
BEGIN:DAYLIGHT
TZOFFSETFROM:-0800
TZOFFSETTO:-0700
TZNAME:PDT
DTSTART:20310309T100000
END:DAYLIGHT
BEGIN:STANDARD
TZOFFSETFROM:-0700
TZOFFSETTO:-0800
TZNAME:PST
DTSTART:20311102T090000
END:STANDARD
BEGIN:DAYLIGHT
TZOFFSETFROM:-0800
TZOFFSETTO:-0700
TZNAME:PDT
DTSTART:20320314T100000
END:DAYLIGHT
BEGIN:STANDARD
TZOFFSETFROM:-0700
TZOFFSETTO:-0800
TZNAME:PST
DTSTART:20321107T090000
END:STANDARD
END:VTIMEZONE
BEGIN:VEVENT
DTSTART;TZID=America/Los_Angeles:20280120T180000
DTEND;TZID=America/Los_Angeles:20280120T200000
DTSTAMP:20260423T154023
CREATED:20250618T222433Z
LAST-MODIFIED:20250618T222845Z
UID:10002677-1832004000-1832011200@tenesquire.com
SUMMARY:TEN Woodland Hills - In Person
DESCRIPTION:
URL:https://tenesquire.com/calendar/ten-woodland-hills-in-person/2028-01-20/
LOCATION:Sagebrush Cantina\, 23527 Calabasas Rd\, Calabasas\, California\, 91302\, United States
CATEGORIES:Mixers,Regular Meetings
ATTACH;FMTTYPE=image/jpeg:https://tenesquire.com/wp-content/uploads/2024/03/Woodland-Hills_in-person.jpg
ORGANIZER;CN="TEN%3A The Esquire Network":MAILTO:nathan@tenworking.com
GEO:34.157641;-118.63956
X-APPLE-STRUCTURED-LOCATION;VALUE=URI;X-ADDRESS=Sagebrush Cantina 23527 Calabasas Rd Calabasas California 91302 United States;X-APPLE-RADIUS=500;X-TITLE=23527 Calabasas Rd:geo:-118.63956,34.157641
END:VEVENT
BEGIN:VEVENT
DTSTART;TZID=America/Los_Angeles:20280316T180000
DTEND;TZID=America/Los_Angeles:20280316T200000
DTSTAMP:20260423T154023
CREATED:20250618T222433Z
LAST-MODIFIED:20250618T222845Z
UID:10002678-1836842400-1836849600@tenesquire.com
SUMMARY:TEN Woodland Hills - In Person
DESCRIPTION:
URL:https://tenesquire.com/calendar/ten-woodland-hills-in-person/2028-03-16/
LOCATION:Sagebrush Cantina\, 23527 Calabasas Rd\, Calabasas\, California\, 91302\, United States
CATEGORIES:Mixers,Regular Meetings
ATTACH;FMTTYPE=image/jpeg:https://tenesquire.com/wp-content/uploads/2024/03/Woodland-Hills_in-person.jpg
ORGANIZER;CN="TEN%3A The Esquire Network":MAILTO:nathan@tenworking.com
GEO:34.157641;-118.63956
X-APPLE-STRUCTURED-LOCATION;VALUE=URI;X-ADDRESS=Sagebrush Cantina 23527 Calabasas Rd Calabasas California 91302 United States;X-APPLE-RADIUS=500;X-TITLE=23527 Calabasas Rd:geo:-118.63956,34.157641
END:VEVENT
BEGIN:VEVENT
DTSTART;TZID=America/Los_Angeles:20280518T180000
DTEND;TZID=America/Los_Angeles:20280518T200000
DTSTAMP:20260423T154023
CREATED:20250618T222433Z
LAST-MODIFIED:20250618T222845Z
UID:10002679-1842285600-1842292800@tenesquire.com
SUMMARY:TEN Woodland Hills - In Person
DESCRIPTION:
URL:https://tenesquire.com/calendar/ten-woodland-hills-in-person/2028-05-18/
LOCATION:Sagebrush Cantina\, 23527 Calabasas Rd\, Calabasas\, California\, 91302\, United States
CATEGORIES:Mixers,Regular Meetings
ATTACH;FMTTYPE=image/jpeg:https://tenesquire.com/wp-content/uploads/2024/03/Woodland-Hills_in-person.jpg
ORGANIZER;CN="TEN%3A The Esquire Network":MAILTO:nathan@tenworking.com
GEO:34.157641;-118.63956
X-APPLE-STRUCTURED-LOCATION;VALUE=URI;X-ADDRESS=Sagebrush Cantina 23527 Calabasas Rd Calabasas California 91302 United States;X-APPLE-RADIUS=500;X-TITLE=23527 Calabasas Rd:geo:-118.63956,34.157641
END:VEVENT
BEGIN:VEVENT
DTSTART;TZID=America/Los_Angeles:20280720T180000
DTEND;TZID=America/Los_Angeles:20280720T200000
DTSTAMP:20260423T154023
CREATED:20250618T222433Z
LAST-MODIFIED:20250618T222845Z
UID:10002680-1847728800-1847736000@tenesquire.com
SUMMARY:TEN Woodland Hills - In Person
DESCRIPTION:
URL:https://tenesquire.com/calendar/ten-woodland-hills-in-person/2028-07-20/
LOCATION:Sagebrush Cantina\, 23527 Calabasas Rd\, Calabasas\, California\, 91302\, United States
CATEGORIES:Mixers,Regular Meetings
ATTACH;FMTTYPE=image/jpeg:https://tenesquire.com/wp-content/uploads/2024/03/Woodland-Hills_in-person.jpg
ORGANIZER;CN="TEN%3A The Esquire Network":MAILTO:nathan@tenworking.com
GEO:34.157641;-118.63956
X-APPLE-STRUCTURED-LOCATION;VALUE=URI;X-ADDRESS=Sagebrush Cantina 23527 Calabasas Rd Calabasas California 91302 United States;X-APPLE-RADIUS=500;X-TITLE=23527 Calabasas Rd:geo:-118.63956,34.157641
END:VEVENT
BEGIN:VEVENT
DTSTART;TZID=America/Los_Angeles:20280921T180000
DTEND;TZID=America/Los_Angeles:20280921T200000
DTSTAMP:20260423T154023
CREATED:20250618T222433Z
LAST-MODIFIED:20250618T222845Z
UID:10002681-1853172000-1853179200@tenesquire.com
SUMMARY:TEN Woodland Hills - In Person
DESCRIPTION:
URL:https://tenesquire.com/calendar/ten-woodland-hills-in-person/2028-09-21/
LOCATION:Sagebrush Cantina\, 23527 Calabasas Rd\, Calabasas\, California\, 91302\, United States
CATEGORIES:Mixers,Regular Meetings
ATTACH;FMTTYPE=image/jpeg:https://tenesquire.com/wp-content/uploads/2024/03/Woodland-Hills_in-person.jpg
ORGANIZER;CN="TEN%3A The Esquire Network":MAILTO:nathan@tenworking.com
GEO:34.157641;-118.63956
X-APPLE-STRUCTURED-LOCATION;VALUE=URI;X-ADDRESS=Sagebrush Cantina 23527 Calabasas Rd Calabasas California 91302 United States;X-APPLE-RADIUS=500;X-TITLE=23527 Calabasas Rd:geo:-118.63956,34.157641
END:VEVENT
BEGIN:VEVENT
DTSTART;TZID=America/Los_Angeles:20281116T180000
DTEND;TZID=America/Los_Angeles:20281116T200000
DTSTAMP:20260423T154023
CREATED:20250618T222433Z
LAST-MODIFIED:20250618T222845Z
UID:10002682-1858010400-1858017600@tenesquire.com
SUMMARY:TEN Woodland Hills - In Person
DESCRIPTION:
URL:https://tenesquire.com/calendar/ten-woodland-hills-in-person/2028-11-16/
LOCATION:Sagebrush Cantina\, 23527 Calabasas Rd\, Calabasas\, California\, 91302\, United States
CATEGORIES:Mixers,Regular Meetings
ATTACH;FMTTYPE=image/jpeg:https://tenesquire.com/wp-content/uploads/2024/03/Woodland-Hills_in-person.jpg
ORGANIZER;CN="TEN%3A The Esquire Network":MAILTO:nathan@tenworking.com
GEO:34.157641;-118.63956
X-APPLE-STRUCTURED-LOCATION;VALUE=URI;X-ADDRESS=Sagebrush Cantina 23527 Calabasas Rd Calabasas California 91302 United States;X-APPLE-RADIUS=500;X-TITLE=23527 Calabasas Rd:geo:-118.63956,34.157641
END:VEVENT
BEGIN:VEVENT
DTSTART;TZID=America/Los_Angeles:20290118T180000
DTEND;TZID=America/Los_Angeles:20290118T200000
DTSTAMP:20260423T154023
CREATED:20250618T222433Z
LAST-MODIFIED:20250618T222845Z
UID:10002683-1863453600-1863460800@tenesquire.com
SUMMARY:TEN Woodland Hills - In Person
DESCRIPTION:
URL:https://tenesquire.com/calendar/ten-woodland-hills-in-person/2029-01-18/
LOCATION:Sagebrush Cantina\, 23527 Calabasas Rd\, Calabasas\, California\, 91302\, United States
CATEGORIES:Mixers,Regular Meetings
ATTACH;FMTTYPE=image/jpeg:https://tenesquire.com/wp-content/uploads/2024/03/Woodland-Hills_in-person.jpg
ORGANIZER;CN="TEN%3A The Esquire Network":MAILTO:nathan@tenworking.com
GEO:34.157641;-118.63956
X-APPLE-STRUCTURED-LOCATION;VALUE=URI;X-ADDRESS=Sagebrush Cantina 23527 Calabasas Rd Calabasas California 91302 United States;X-APPLE-RADIUS=500;X-TITLE=23527 Calabasas Rd:geo:-118.63956,34.157641
END:VEVENT
BEGIN:VEVENT
DTSTART;TZID=America/Los_Angeles:20290315T180000
DTEND;TZID=America/Los_Angeles:20290315T200000
DTSTAMP:20260423T154023
CREATED:20250618T222433Z
LAST-MODIFIED:20250618T222845Z
UID:10002684-1868292000-1868299200@tenesquire.com
SUMMARY:TEN Woodland Hills - In Person
DESCRIPTION:
URL:https://tenesquire.com/calendar/ten-woodland-hills-in-person/2029-03-15/
LOCATION:Sagebrush Cantina\, 23527 Calabasas Rd\, Calabasas\, California\, 91302\, United States
CATEGORIES:Mixers,Regular Meetings
ATTACH;FMTTYPE=image/jpeg:https://tenesquire.com/wp-content/uploads/2024/03/Woodland-Hills_in-person.jpg
ORGANIZER;CN="TEN%3A The Esquire Network":MAILTO:nathan@tenworking.com
GEO:34.157641;-118.63956
X-APPLE-STRUCTURED-LOCATION;VALUE=URI;X-ADDRESS=Sagebrush Cantina 23527 Calabasas Rd Calabasas California 91302 United States;X-APPLE-RADIUS=500;X-TITLE=23527 Calabasas Rd:geo:-118.63956,34.157641
END:VEVENT
BEGIN:VEVENT
DTSTART;TZID=America/Los_Angeles:20290517T180000
DTEND;TZID=America/Los_Angeles:20290517T200000
DTSTAMP:20260423T154023
CREATED:20250618T222433Z
LAST-MODIFIED:20250618T222845Z
UID:10002685-1873735200-1873742400@tenesquire.com
SUMMARY:TEN Woodland Hills - In Person
DESCRIPTION:
URL:https://tenesquire.com/calendar/ten-woodland-hills-in-person/2029-05-17/
LOCATION:Sagebrush Cantina\, 23527 Calabasas Rd\, Calabasas\, California\, 91302\, United States
CATEGORIES:Mixers,Regular Meetings
ATTACH;FMTTYPE=image/jpeg:https://tenesquire.com/wp-content/uploads/2024/03/Woodland-Hills_in-person.jpg
ORGANIZER;CN="TEN%3A The Esquire Network":MAILTO:nathan@tenworking.com
GEO:34.157641;-118.63956
X-APPLE-STRUCTURED-LOCATION;VALUE=URI;X-ADDRESS=Sagebrush Cantina 23527 Calabasas Rd Calabasas California 91302 United States;X-APPLE-RADIUS=500;X-TITLE=23527 Calabasas Rd:geo:-118.63956,34.157641
END:VEVENT
BEGIN:VEVENT
DTSTART;TZID=America/Los_Angeles:20290719T180000
DTEND;TZID=America/Los_Angeles:20290719T200000
DTSTAMP:20260423T154023
CREATED:20250618T222433Z
LAST-MODIFIED:20250618T222845Z
UID:10002686-1879178400-1879185600@tenesquire.com
SUMMARY:TEN Woodland Hills - In Person
DESCRIPTION:
URL:https://tenesquire.com/calendar/ten-woodland-hills-in-person/2029-07-19/
LOCATION:Sagebrush Cantina\, 23527 Calabasas Rd\, Calabasas\, California\, 91302\, United States
CATEGORIES:Mixers,Regular Meetings
ATTACH;FMTTYPE=image/jpeg:https://tenesquire.com/wp-content/uploads/2024/03/Woodland-Hills_in-person.jpg
ORGANIZER;CN="TEN%3A The Esquire Network":MAILTO:nathan@tenworking.com
GEO:34.157641;-118.63956
X-APPLE-STRUCTURED-LOCATION;VALUE=URI;X-ADDRESS=Sagebrush Cantina 23527 Calabasas Rd Calabasas California 91302 United States;X-APPLE-RADIUS=500;X-TITLE=23527 Calabasas Rd:geo:-118.63956,34.157641
END:VEVENT
BEGIN:VEVENT
DTSTART;TZID=America/Los_Angeles:20290920T180000
DTEND;TZID=America/Los_Angeles:20290920T200000
DTSTAMP:20260423T154023
CREATED:20250618T222433Z
LAST-MODIFIED:20250618T222845Z
UID:10002687-1884621600-1884628800@tenesquire.com
SUMMARY:TEN Woodland Hills - In Person
DESCRIPTION:
URL:https://tenesquire.com/calendar/ten-woodland-hills-in-person/2029-09-20/
LOCATION:Sagebrush Cantina\, 23527 Calabasas Rd\, Calabasas\, California\, 91302\, United States
CATEGORIES:Mixers,Regular Meetings
ATTACH;FMTTYPE=image/jpeg:https://tenesquire.com/wp-content/uploads/2024/03/Woodland-Hills_in-person.jpg
ORGANIZER;CN="TEN%3A The Esquire Network":MAILTO:nathan@tenworking.com
GEO:34.157641;-118.63956
X-APPLE-STRUCTURED-LOCATION;VALUE=URI;X-ADDRESS=Sagebrush Cantina 23527 Calabasas Rd Calabasas California 91302 United States;X-APPLE-RADIUS=500;X-TITLE=23527 Calabasas Rd:geo:-118.63956,34.157641
END:VEVENT
BEGIN:VEVENT
DTSTART;TZID=America/Los_Angeles:20291115T180000
DTEND;TZID=America/Los_Angeles:20291115T200000
DTSTAMP:20260423T154023
CREATED:20250618T222433Z
LAST-MODIFIED:20250618T222845Z
UID:10002688-1889460000-1889467200@tenesquire.com
SUMMARY:TEN Woodland Hills - In Person
DESCRIPTION:
URL:https://tenesquire.com/calendar/ten-woodland-hills-in-person/2029-11-15/
LOCATION:Sagebrush Cantina\, 23527 Calabasas Rd\, Calabasas\, California\, 91302\, United States
CATEGORIES:Mixers,Regular Meetings
ATTACH;FMTTYPE=image/jpeg:https://tenesquire.com/wp-content/uploads/2024/03/Woodland-Hills_in-person.jpg
ORGANIZER;CN="TEN%3A The Esquire Network":MAILTO:nathan@tenworking.com
GEO:34.157641;-118.63956
X-APPLE-STRUCTURED-LOCATION;VALUE=URI;X-ADDRESS=Sagebrush Cantina 23527 Calabasas Rd Calabasas California 91302 United States;X-APPLE-RADIUS=500;X-TITLE=23527 Calabasas Rd:geo:-118.63956,34.157641
END:VEVENT
BEGIN:VEVENT
DTSTART;TZID=America/Los_Angeles:20300117T180000
DTEND;TZID=America/Los_Angeles:20300117T200000
DTSTAMP:20260423T154023
CREATED:20250618T222433Z
LAST-MODIFIED:20250618T222845Z
UID:10002689-1894903200-1894910400@tenesquire.com
SUMMARY:TEN Woodland Hills - In Person
DESCRIPTION:
URL:https://tenesquire.com/calendar/ten-woodland-hills-in-person/2030-01-17/
LOCATION:Sagebrush Cantina\, 23527 Calabasas Rd\, Calabasas\, California\, 91302\, United States
CATEGORIES:Mixers,Regular Meetings
ATTACH;FMTTYPE=image/jpeg:https://tenesquire.com/wp-content/uploads/2024/03/Woodland-Hills_in-person.jpg
ORGANIZER;CN="TEN%3A The Esquire Network":MAILTO:nathan@tenworking.com
GEO:34.157641;-118.63956
X-APPLE-STRUCTURED-LOCATION;VALUE=URI;X-ADDRESS=Sagebrush Cantina 23527 Calabasas Rd Calabasas California 91302 United States;X-APPLE-RADIUS=500;X-TITLE=23527 Calabasas Rd:geo:-118.63956,34.157641
END:VEVENT
BEGIN:VEVENT
DTSTART;TZID=America/Los_Angeles:20300321T180000
DTEND;TZID=America/Los_Angeles:20300321T200000
DTSTAMP:20260423T154023
CREATED:20250618T222433Z
LAST-MODIFIED:20250618T222845Z
UID:10002690-1900346400-1900353600@tenesquire.com
SUMMARY:TEN Woodland Hills - In Person
DESCRIPTION:
URL:https://tenesquire.com/calendar/ten-woodland-hills-in-person/2030-03-21/
LOCATION:Sagebrush Cantina\, 23527 Calabasas Rd\, Calabasas\, California\, 91302\, United States
CATEGORIES:Mixers,Regular Meetings
ATTACH;FMTTYPE=image/jpeg:https://tenesquire.com/wp-content/uploads/2024/03/Woodland-Hills_in-person.jpg
ORGANIZER;CN="TEN%3A The Esquire Network":MAILTO:nathan@tenworking.com
GEO:34.157641;-118.63956
X-APPLE-STRUCTURED-LOCATION;VALUE=URI;X-ADDRESS=Sagebrush Cantina 23527 Calabasas Rd Calabasas California 91302 United States;X-APPLE-RADIUS=500;X-TITLE=23527 Calabasas Rd:geo:-118.63956,34.157641
END:VEVENT
BEGIN:VEVENT
DTSTART;TZID=America/Los_Angeles:20300516T180000
DTEND;TZID=America/Los_Angeles:20300516T200000
DTSTAMP:20260423T154023
CREATED:20250618T222433Z
LAST-MODIFIED:20250618T222845Z
UID:10002691-1905184800-1905192000@tenesquire.com
SUMMARY:TEN Woodland Hills - In Person
DESCRIPTION:
URL:https://tenesquire.com/calendar/ten-woodland-hills-in-person/2030-05-16/
LOCATION:Sagebrush Cantina\, 23527 Calabasas Rd\, Calabasas\, California\, 91302\, United States
CATEGORIES:Mixers,Regular Meetings
ATTACH;FMTTYPE=image/jpeg:https://tenesquire.com/wp-content/uploads/2024/03/Woodland-Hills_in-person.jpg
ORGANIZER;CN="TEN%3A The Esquire Network":MAILTO:nathan@tenworking.com
GEO:34.157641;-118.63956
X-APPLE-STRUCTURED-LOCATION;VALUE=URI;X-ADDRESS=Sagebrush Cantina 23527 Calabasas Rd Calabasas California 91302 United States;X-APPLE-RADIUS=500;X-TITLE=23527 Calabasas Rd:geo:-118.63956,34.157641
END:VEVENT
BEGIN:VEVENT
DTSTART;TZID=America/Los_Angeles:20300718T180000
DTEND;TZID=America/Los_Angeles:20300718T200000
DTSTAMP:20260423T154023
CREATED:20250618T222433Z
LAST-MODIFIED:20250618T222845Z
UID:10002783-1910628000-1910635200@tenesquire.com
SUMMARY:TEN Woodland Hills - In Person
DESCRIPTION:
URL:https://tenesquire.com/calendar/ten-woodland-hills-in-person/2030-07-18/
LOCATION:Sagebrush Cantina\, 23527 Calabasas Rd\, Calabasas\, California\, 91302\, United States
CATEGORIES:Mixers,Regular Meetings
ATTACH;FMTTYPE=image/jpeg:https://tenesquire.com/wp-content/uploads/2024/03/Woodland-Hills_in-person.jpg
ORGANIZER;CN="TEN%3A The Esquire Network":MAILTO:nathan@tenworking.com
GEO:34.157641;-118.63956
X-APPLE-STRUCTURED-LOCATION;VALUE=URI;X-ADDRESS=Sagebrush Cantina 23527 Calabasas Rd Calabasas California 91302 United States;X-APPLE-RADIUS=500;X-TITLE=23527 Calabasas Rd:geo:-118.63956,34.157641
END:VEVENT
BEGIN:VEVENT
DTSTART;TZID=America/Los_Angeles:20300919T180000
DTEND;TZID=America/Los_Angeles:20300919T200000
DTSTAMP:20260423T154023
CREATED:20250618T222433Z
LAST-MODIFIED:20250618T222845Z
UID:10002825-1916071200-1916078400@tenesquire.com
SUMMARY:TEN Woodland Hills - In Person
DESCRIPTION:
URL:https://tenesquire.com/calendar/ten-woodland-hills-in-person/2030-09-19/
LOCATION:Sagebrush Cantina\, 23527 Calabasas Rd\, Calabasas\, California\, 91302\, United States
CATEGORIES:Mixers,Regular Meetings
ATTACH;FMTTYPE=image/jpeg:https://tenesquire.com/wp-content/uploads/2024/03/Woodland-Hills_in-person.jpg
ORGANIZER;CN="TEN%3A The Esquire Network":MAILTO:nathan@tenworking.com
GEO:34.157641;-118.63956
X-APPLE-STRUCTURED-LOCATION;VALUE=URI;X-ADDRESS=Sagebrush Cantina 23527 Calabasas Rd Calabasas California 91302 United States;X-APPLE-RADIUS=500;X-TITLE=23527 Calabasas Rd:geo:-118.63956,34.157641
END:VEVENT
BEGIN:VEVENT
DTSTART;TZID=America/Los_Angeles:20301121T180000
DTEND;TZID=America/Los_Angeles:20301121T200000
DTSTAMP:20260423T154023
CREATED:20250618T222433Z
LAST-MODIFIED:20250618T222845Z
UID:10002851-1921514400-1921521600@tenesquire.com
SUMMARY:TEN Woodland Hills - In Person
DESCRIPTION:
URL:https://tenesquire.com/calendar/ten-woodland-hills-in-person/2030-11-21/
LOCATION:Sagebrush Cantina\, 23527 Calabasas Rd\, Calabasas\, California\, 91302\, United States
CATEGORIES:Mixers,Regular Meetings
ATTACH;FMTTYPE=image/jpeg:https://tenesquire.com/wp-content/uploads/2024/03/Woodland-Hills_in-person.jpg
ORGANIZER;CN="TEN%3A The Esquire Network":MAILTO:nathan@tenworking.com
GEO:34.157641;-118.63956
X-APPLE-STRUCTURED-LOCATION;VALUE=URI;X-ADDRESS=Sagebrush Cantina 23527 Calabasas Rd Calabasas California 91302 United States;X-APPLE-RADIUS=500;X-TITLE=23527 Calabasas Rd:geo:-118.63956,34.157641
END:VEVENT
BEGIN:VEVENT
DTSTART;TZID=America/Los_Angeles:20310116T180000
DTEND;TZID=America/Los_Angeles:20310116T200000
DTSTAMP:20260423T154023
CREATED:20250618T222433Z
LAST-MODIFIED:20250618T222845Z
UID:10002949-1926352800-1926360000@tenesquire.com
SUMMARY:TEN Woodland Hills - In Person
DESCRIPTION:
URL:https://tenesquire.com/calendar/ten-woodland-hills-in-person/2031-01-16/
LOCATION:Sagebrush Cantina\, 23527 Calabasas Rd\, Calabasas\, California\, 91302\, United States
CATEGORIES:Mixers,Regular Meetings
ATTACH;FMTTYPE=image/jpeg:https://tenesquire.com/wp-content/uploads/2024/03/Woodland-Hills_in-person.jpg
ORGANIZER;CN="TEN%3A The Esquire Network":MAILTO:nathan@tenworking.com
GEO:34.157641;-118.63956
X-APPLE-STRUCTURED-LOCATION;VALUE=URI;X-ADDRESS=Sagebrush Cantina 23527 Calabasas Rd Calabasas California 91302 United States;X-APPLE-RADIUS=500;X-TITLE=23527 Calabasas Rd:geo:-118.63956,34.157641
END:VEVENT
BEGIN:VEVENT
DTSTART;TZID=America/Los_Angeles:20310320T180000
DTEND;TZID=America/Los_Angeles:20310320T200000
DTSTAMP:20260423T154023
CREATED:20250618T222433Z
LAST-MODIFIED:20250618T222845Z
UID:10003113-1931796000-1931803200@tenesquire.com
SUMMARY:TEN Woodland Hills - In Person
DESCRIPTION:
URL:https://tenesquire.com/calendar/ten-woodland-hills-in-person/2031-03-20/
LOCATION:Sagebrush Cantina\, 23527 Calabasas Rd\, Calabasas\, California\, 91302\, United States
CATEGORIES:Mixers,Regular Meetings
ATTACH;FMTTYPE=image/jpeg:https://tenesquire.com/wp-content/uploads/2024/03/Woodland-Hills_in-person.jpg
ORGANIZER;CN="TEN%3A The Esquire Network":MAILTO:nathan@tenworking.com
GEO:34.157641;-118.63956
X-APPLE-STRUCTURED-LOCATION;VALUE=URI;X-ADDRESS=Sagebrush Cantina 23527 Calabasas Rd Calabasas California 91302 United States;X-APPLE-RADIUS=500;X-TITLE=23527 Calabasas Rd:geo:-118.63956,34.157641
END:VEVENT
END:VCALENDAR