BEGIN:VCALENDAR
VERSION:2.0
PRODID:-//TEN: The Esquire Network - ECPv6.15.15//NONSGML v1.0//EN
CALSCALE:GREGORIAN
METHOD:PUBLISH
X-WR-CALNAME:TEN: The Esquire Network
X-ORIGINAL-URL:https://tenesquire.com
X-WR-CALDESC:Events for TEN: The Esquire Network
REFRESH-INTERVAL;VALUE=DURATION:PT1H
X-Robots-Tag:noindex
X-PUBLISHED-TTL:PT1H
BEGIN:VTIMEZONE
TZID:America/Los_Angeles
BEGIN:DAYLIGHT
TZOFFSETFROM:-0800
TZOFFSETTO:-0700
TZNAME:PDT
DTSTART:20260308T100000
END:DAYLIGHT
BEGIN:STANDARD
TZOFFSETFROM:-0700
TZOFFSETTO:-0800
TZNAME:PST
DTSTART:20261101T090000
END:STANDARD
BEGIN:DAYLIGHT
TZOFFSETFROM:-0800
TZOFFSETTO:-0700
TZNAME:PDT
DTSTART:20270314T100000
END:DAYLIGHT
BEGIN:STANDARD
TZOFFSETFROM:-0700
TZOFFSETTO:-0800
TZNAME:PST
DTSTART:20271107T090000
END:STANDARD
BEGIN:DAYLIGHT
TZOFFSETFROM:-0800
TZOFFSETTO:-0700
TZNAME:PDT
DTSTART:20280312T100000
END:DAYLIGHT
BEGIN:STANDARD
TZOFFSETFROM:-0700
TZOFFSETTO:-0800
TZNAME:PST
DTSTART:20281105T090000
END:STANDARD
END:VTIMEZONE
BEGIN:VEVENT
DTSTART;TZID=America/Los_Angeles:20270506T173000
DTEND;TZID=America/Los_Angeles:20270506T183000
DTSTAMP:20260425T095546
CREATED:20240329T051254Z
LAST-MODIFIED:20240329T054601Z
UID:10000538-1809624600-1809628200@tenesquire.com
SUMMARY:TEN South Bay
DESCRIPTION:
URL:https://tenesquire.com/calendar/ten-south-bay/2027-05-06/
LOCATION:Online Meeting
CATEGORIES:Regular Meetings
ATTACH;FMTTYPE=image/jpeg:https://tenesquire.com/wp-content/uploads/2024/03/South-Bay.jpg
END:VEVENT
BEGIN:VEVENT
DTSTART;TZID=America/Los_Angeles:20270510T150000
DTEND;TZID=America/Los_Angeles:20270510T160000
DTSTAMP:20260425T095546
CREATED:20240329T051627Z
LAST-MODIFIED:20250516T175243Z
UID:10000658-1809961200-1809964800@tenesquire.com
SUMMARY:TEN Bankruptcy Law
DESCRIPTION:If your practice involves bankruptcy law\, this is a perfect opportunity to find mentorship\, referral sources\, and build relationships with experts in your practice area. Whether you find yourself referring clients and/or potential clients to bankruptcy attorneys\, you find yourself needing to bring in a bankruptcy attorney on cases\, or there are certain aspects of bankruptcy law that you don’t practice\, you’re more than welcome to join us on the second Monday of every month! We’re excited to have you join us. See you soon!
URL:https://tenesquire.com/calendar/ten-bankruptcy-law/2027-05-10/
LOCATION:Online Meeting
CATEGORIES:Regular Meetings
ATTACH;FMTTYPE=image/jpeg:https://tenesquire.com/wp-content/uploads/2024/03/Bankruptcy-Law.jpg
END:VEVENT
BEGIN:VEVENT
DTSTART;TZID=America/Los_Angeles:20270511T120000
DTEND;TZID=America/Los_Angeles:20270511T130000
DTSTAMP:20260425T095546
CREATED:20240329T051741Z
LAST-MODIFIED:20250516T180153Z
UID:10000718-1810036800-1810040400@tenesquire.com
SUMMARY:TEN Sherman Oaks
DESCRIPTION:TEN Sherman Oaks for their annual TEN-FL event
URL:https://tenesquire.com/calendar/ten-sherman-oaks/2027-05-11/
LOCATION:Online Meeting
CATEGORIES:Regular Meetings
ATTACH;FMTTYPE=image/jpeg:https://tenesquire.com/wp-content/uploads/2024/03/Sherman-Oaks.jpg
ORGANIZER;CN="TEN%3A The Esquire Network":MAILTO:nathan@tenworking.com
END:VEVENT
BEGIN:VEVENT
DTSTART;TZID=America/Los_Angeles:20270513T080000
DTEND;TZID=America/Los_Angeles:20270513T090000
DTSTAMP:20260425T095546
CREATED:20250523T204021Z
LAST-MODIFIED:20250523T204202Z
UID:10002523-1810195200-1810198800@tenesquire.com
SUMMARY:TEN Family Law
DESCRIPTION:
URL:https://tenesquire.com/calendar/family-law/2027-05-13/
LOCATION:Online Meeting
CATEGORIES:Regular Meetings
ATTACH;FMTTYPE=image/jpeg:https://tenesquire.com/wp-content/uploads/2024/03/Family-Law.jpg
ORGANIZER;CN="TEN%3A The Esquire Network":MAILTO:nathan@tenworking.com
END:VEVENT
BEGIN:VEVENT
DTSTART;TZID=America/Los_Angeles:20270513T173000
DTEND;TZID=America/Los_Angeles:20270513T190000
DTSTAMP:20260425T095546
CREATED:20240329T052306Z
LAST-MODIFIED:20250619T220805Z
UID:10000898-1810229400-1810234800@tenesquire.com
SUMMARY:TEN Tasters
DESCRIPTION:TEN Beverly Hills Tasters went to San Diego with Attorney Sommelier Chris Celentino of Jace Wines and Toured Alesmith Brewery \nTEN Tasters Group Photo\, July 2023 \nTEN Beverly Hills Tasters in San Diego \nTEN Tasters Group Photo
URL:https://tenesquire.com/calendar/ten-tasters/2027-05-13/
LOCATION:Online Meeting
CATEGORIES:Regular Meetings
ATTACH;FMTTYPE=image/jpeg:https://tenesquire.com/wp-content/uploads/2024/03/Sherman-Oaks-2.jpg
ORGANIZER;CN="Amira Hasenbush":MAILTO:amira@allfamilylegal.com
END:VEVENT
BEGIN:VEVENT
DTSTART;TZID=America/Los_Angeles:20270517T113000
DTEND;TZID=America/Los_Angeles:20270517T123000
DTSTAMP:20260425T095546
CREATED:20240329T053042Z
LAST-MODIFIED:20240329T054637Z
UID:10001648-1810553400-1810557000@tenesquire.com
SUMMARY:TEN Probate and Estate Planning Law Group
DESCRIPTION:
URL:https://tenesquire.com/calendar/ten-probate-and-estate-planning-law-group/2027-05-17/
LOCATION:Online Meeting
CATEGORIES:Regular Meetings
ATTACH;FMTTYPE=image/jpeg:https://tenesquire.com/wp-content/uploads/2024/03/Mediators-2.jpg
END:VEVENT
BEGIN:VEVENT
DTSTART;TZID=America/Los_Angeles:20270518T080000
DTEND;TZID=America/Los_Angeles:20270518T090000
DTSTAMP:20260425T095546
CREATED:20240329T053319Z
LAST-MODIFIED:20240814T220752Z
UID:10001258-1810627200-1810630800@tenesquire.com
SUMMARY:TEN Ventura
DESCRIPTION:
URL:https://tenesquire.com/calendar/ten-ventura/2027-05-18/
LOCATION:Online Meeting
CATEGORIES:Regular Meetings
ATTACH;FMTTYPE=image/jpeg:https://tenesquire.com/wp-content/uploads/2024/03/Ventura_online.jpg
END:VEVENT
BEGIN:VEVENT
DTSTART;TZID=America/Los_Angeles:20270519T080000
DTEND;TZID=America/Los_Angeles:20270519T090000
DTSTAMP:20260425T095546
CREATED:20250630T203731Z
LAST-MODIFIED:20250630T203731Z
UID:10002718-1810713600-1810717200@tenesquire.com
SUMMARY:TEN Mediators
DESCRIPTION:
URL:https://tenesquire.com/calendar/ten-mediators/2027-05-19/
LOCATION:Online Meeting
CATEGORIES:Regular Meetings
ATTACH;FMTTYPE=image/jpeg:https://tenesquire.com/wp-content/uploads/2024/03/Mediators.jpg
ORGANIZER;CN="TEN%3A The Esquire Network":MAILTO:nathan@tenworking.com
END:VEVENT
BEGIN:VEVENT
DTSTART;TZID=America/Los_Angeles:20270521T110000
DTEND;TZID=America/Los_Angeles:20270521T120000
DTSTAMP:20260425T095546
CREATED:20240329T052431Z
LAST-MODIFIED:20250516T174417Z
UID:10002337-1810897200-1810900800@tenesquire.com
SUMMARY:TEN West Hollywood
DESCRIPTION:
URL:https://tenesquire.com/calendar/ten-west-hollywood/2027-05-21/
LOCATION:Online Meeting
CATEGORIES:Regular Meetings
ATTACH;FMTTYPE=image/jpeg:https://tenesquire.com/wp-content/uploads/2024/03/West-Hollywood.jpg
END:VEVENT
BEGIN:VEVENT
DTSTART;TZID=America/Los_Angeles:20270527T120000
DTEND;TZID=America/Los_Angeles:20270527T130000
DTSTAMP:20260425T095546
CREATED:20240329T054209Z
LAST-MODIFIED:20240329T054209Z
UID:10001528-1811419200-1811422800@tenesquire.com
SUMMARY:TEN Business and Corporate Law Group
DESCRIPTION:
URL:https://tenesquire.com/calendar/ten-business-and-corporate-law-group/2027-05-27/
LOCATION:Online Meeting
CATEGORIES:Regular Meetings
ATTACH;FMTTYPE=image/jpeg:https://tenesquire.com/wp-content/uploads/2024/03/Business-Corporate.jpg
ORGANIZER;CN="Alan Insul":MAILTO:ami@insullaw.com
END:VEVENT
BEGIN:VEVENT
DTSTART;TZID=America/Los_Angeles:20270603T130000
DTEND;TZID=America/Los_Angeles:20270603T140000
DTSTAMP:20260425T095546
CREATED:20240329T051133Z
LAST-MODIFIED:20240404T162614Z
UID:10000479-1812027600-1812031200@tenesquire.com
SUMMARY:TEN Employment Law
DESCRIPTION:
URL:https://tenesquire.com/calendar/ten-employment-law/2027-06-03/
LOCATION:Online Meeting
CATEGORIES:Regular Meetings
ATTACH;FMTTYPE=image/jpeg:https://tenesquire.com/wp-content/uploads/2024/03/Employment-Law.jpg
END:VEVENT
BEGIN:VEVENT
DTSTART;TZID=America/Los_Angeles:20270603T173000
DTEND;TZID=America/Los_Angeles:20270603T183000
DTSTAMP:20260425T095546
CREATED:20240329T051254Z
LAST-MODIFIED:20240329T054601Z
UID:10000539-1812043800-1812047400@tenesquire.com
SUMMARY:TEN South Bay
DESCRIPTION:
URL:https://tenesquire.com/calendar/ten-south-bay/2027-06-03/
LOCATION:Online Meeting
CATEGORIES:Regular Meetings
ATTACH;FMTTYPE=image/jpeg:https://tenesquire.com/wp-content/uploads/2024/03/South-Bay.jpg
END:VEVENT
BEGIN:VEVENT
DTSTART;TZID=America/Los_Angeles:20270607T120000
DTEND;TZID=America/Los_Angeles:20270607T130000
DTSTAMP:20260425T095546
CREATED:20260311T213238Z
LAST-MODIFIED:20260420T185004Z
UID:10002970-1812369600-1812373200@tenesquire.com
SUMMARY:TEN Santa Clarita
DESCRIPTION:
URL:https://tenesquire.com/calendar/ten-santa-clarita/2027-06-07/
LOCATION:Online Meeting
CATEGORIES:Regular Meetings
ORGANIZER;CN="TEN%3A The Esquire Network":MAILTO:nathan@tenworking.com
END:VEVENT
BEGIN:VEVENT
DTSTART;TZID=America/Los_Angeles:20270608T120000
DTEND;TZID=America/Los_Angeles:20270608T130000
DTSTAMP:20260425T095546
CREATED:20240329T051741Z
LAST-MODIFIED:20250516T180153Z
UID:10000719-1812456000-1812459600@tenesquire.com
SUMMARY:TEN Sherman Oaks
DESCRIPTION:TEN Sherman Oaks for their annual TEN-FL event
URL:https://tenesquire.com/calendar/ten-sherman-oaks/2027-06-08/
LOCATION:Online Meeting
CATEGORIES:Regular Meetings
ATTACH;FMTTYPE=image/jpeg:https://tenesquire.com/wp-content/uploads/2024/03/Sherman-Oaks.jpg
ORGANIZER;CN="TEN%3A The Esquire Network":MAILTO:nathan@tenworking.com
END:VEVENT
BEGIN:VEVENT
DTSTART;TZID=America/Los_Angeles:20270610T080000
DTEND;TZID=America/Los_Angeles:20270610T090000
DTSTAMP:20260425T095546
CREATED:20250523T204021Z
LAST-MODIFIED:20250523T204202Z
UID:10002524-1812614400-1812618000@tenesquire.com
SUMMARY:TEN Family Law
DESCRIPTION:
URL:https://tenesquire.com/calendar/family-law/2027-06-10/
LOCATION:Online Meeting
CATEGORIES:Regular Meetings
ATTACH;FMTTYPE=image/jpeg:https://tenesquire.com/wp-content/uploads/2024/03/Family-Law.jpg
ORGANIZER;CN="TEN%3A The Esquire Network":MAILTO:nathan@tenworking.com
END:VEVENT
BEGIN:VEVENT
DTSTART;TZID=America/Los_Angeles:20270610T173000
DTEND;TZID=America/Los_Angeles:20270610T190000
DTSTAMP:20260425T095546
CREATED:20240329T052306Z
LAST-MODIFIED:20250619T220805Z
UID:10000899-1812648600-1812654000@tenesquire.com
SUMMARY:TEN Tasters
DESCRIPTION:TEN Beverly Hills Tasters went to San Diego with Attorney Sommelier Chris Celentino of Jace Wines and Toured Alesmith Brewery \nTEN Tasters Group Photo\, July 2023 \nTEN Beverly Hills Tasters in San Diego \nTEN Tasters Group Photo
URL:https://tenesquire.com/calendar/ten-tasters/2027-06-10/
LOCATION:Online Meeting
CATEGORIES:Regular Meetings
ATTACH;FMTTYPE=image/jpeg:https://tenesquire.com/wp-content/uploads/2024/03/Sherman-Oaks-2.jpg
ORGANIZER;CN="Amira Hasenbush":MAILTO:amira@allfamilylegal.com
END:VEVENT
BEGIN:VEVENT
DTSTART;TZID=America/Los_Angeles:20270614T150000
DTEND;TZID=America/Los_Angeles:20270614T160000
DTSTAMP:20260425T095546
CREATED:20240329T051627Z
LAST-MODIFIED:20250516T175243Z
UID:10000659-1812985200-1812988800@tenesquire.com
SUMMARY:TEN Bankruptcy Law
DESCRIPTION:If your practice involves bankruptcy law\, this is a perfect opportunity to find mentorship\, referral sources\, and build relationships with experts in your practice area. Whether you find yourself referring clients and/or potential clients to bankruptcy attorneys\, you find yourself needing to bring in a bankruptcy attorney on cases\, or there are certain aspects of bankruptcy law that you don’t practice\, you’re more than welcome to join us on the second Monday of every month! We’re excited to have you join us. See you soon!
URL:https://tenesquire.com/calendar/ten-bankruptcy-law/2027-06-14/
LOCATION:Online Meeting
CATEGORIES:Regular Meetings
ATTACH;FMTTYPE=image/jpeg:https://tenesquire.com/wp-content/uploads/2024/03/Bankruptcy-Law.jpg
END:VEVENT
BEGIN:VEVENT
DTSTART;TZID=America/Los_Angeles:20270615T080000
DTEND;TZID=America/Los_Angeles:20270615T090000
DTSTAMP:20260425T095546
CREATED:20240329T053319Z
LAST-MODIFIED:20240814T220752Z
UID:10001259-1813046400-1813050000@tenesquire.com
SUMMARY:TEN Ventura
DESCRIPTION:
URL:https://tenesquire.com/calendar/ten-ventura/2027-06-15/
LOCATION:Online Meeting
CATEGORIES:Regular Meetings
ATTACH;FMTTYPE=image/jpeg:https://tenesquire.com/wp-content/uploads/2024/03/Ventura_online.jpg
END:VEVENT
BEGIN:VEVENT
DTSTART;TZID=America/Los_Angeles:20270616T080000
DTEND;TZID=America/Los_Angeles:20270616T090000
DTSTAMP:20260425T095546
CREATED:20250630T203731Z
LAST-MODIFIED:20250630T203731Z
UID:10002719-1813132800-1813136400@tenesquire.com
SUMMARY:TEN Mediators
DESCRIPTION:
URL:https://tenesquire.com/calendar/ten-mediators/2027-06-16/
LOCATION:Online Meeting
CATEGORIES:Regular Meetings
ATTACH;FMTTYPE=image/jpeg:https://tenesquire.com/wp-content/uploads/2024/03/Mediators.jpg
ORGANIZER;CN="TEN%3A The Esquire Network":MAILTO:nathan@tenworking.com
END:VEVENT
BEGIN:VEVENT
DTSTART;TZID=America/Los_Angeles:20270617T080000
DTEND;TZID=America/Los_Angeles:20270617T090000
DTSTAMP:20260425T095546
CREATED:20240329T053642Z
LAST-MODIFIED:20240329T053642Z
UID:10001360-1813219200-1813222800@tenesquire.com
SUMMARY:TEN Woodland Hills - Online
DESCRIPTION:
URL:https://tenesquire.com/calendar/ten-woodland-hills-online/2027-06-17/
LOCATION:Online Meeting
CATEGORIES:Regular Meetings
ATTACH;FMTTYPE=image/jpeg:https://tenesquire.com/wp-content/uploads/2024/03/Woodland-Hills_online.jpg
END:VEVENT
BEGIN:VEVENT
DTSTART;TZID=America/Los_Angeles:20270618T110000
DTEND;TZID=America/Los_Angeles:20270618T120000
DTSTAMP:20260425T095546
CREATED:20240329T052431Z
LAST-MODIFIED:20250516T174417Z
UID:10002338-1813316400-1813320000@tenesquire.com
SUMMARY:TEN West Hollywood
DESCRIPTION:
URL:https://tenesquire.com/calendar/ten-west-hollywood/2027-06-18/
LOCATION:Online Meeting
CATEGORIES:Regular Meetings
ATTACH;FMTTYPE=image/jpeg:https://tenesquire.com/wp-content/uploads/2024/03/West-Hollywood.jpg
END:VEVENT
BEGIN:VEVENT
DTSTART;TZID=America/Los_Angeles:20270621T113000
DTEND;TZID=America/Los_Angeles:20270621T123000
DTSTAMP:20260425T095546
CREATED:20240329T053042Z
LAST-MODIFIED:20240329T054637Z
UID:10001649-1813577400-1813581000@tenesquire.com
SUMMARY:TEN Probate and Estate Planning Law Group
DESCRIPTION:
URL:https://tenesquire.com/calendar/ten-probate-and-estate-planning-law-group/2027-06-21/
LOCATION:Online Meeting
CATEGORIES:Regular Meetings
ATTACH;FMTTYPE=image/jpeg:https://tenesquire.com/wp-content/uploads/2024/03/Mediators-2.jpg
END:VEVENT
BEGIN:VEVENT
DTSTART;TZID=America/Los_Angeles:20270624T120000
DTEND;TZID=America/Los_Angeles:20270624T130000
DTSTAMP:20260425T095546
CREATED:20240329T054209Z
LAST-MODIFIED:20240329T054209Z
UID:10001529-1813838400-1813842000@tenesquire.com
SUMMARY:TEN Business and Corporate Law Group
DESCRIPTION:
URL:https://tenesquire.com/calendar/ten-business-and-corporate-law-group/2027-06-24/
LOCATION:Online Meeting
CATEGORIES:Regular Meetings
ATTACH;FMTTYPE=image/jpeg:https://tenesquire.com/wp-content/uploads/2024/03/Business-Corporate.jpg
ORGANIZER;CN="Alan Insul":MAILTO:ami@insullaw.com
END:VEVENT
BEGIN:VEVENT
DTSTART;TZID=America/Los_Angeles:20270701T130000
DTEND;TZID=America/Los_Angeles:20270701T140000
DTSTAMP:20260425T095546
CREATED:20240329T051133Z
LAST-MODIFIED:20240404T162614Z
UID:10000480-1814446800-1814450400@tenesquire.com
SUMMARY:TEN Employment Law
DESCRIPTION:
URL:https://tenesquire.com/calendar/ten-employment-law/2027-07-01/
LOCATION:Online Meeting
CATEGORIES:Regular Meetings
ATTACH;FMTTYPE=image/jpeg:https://tenesquire.com/wp-content/uploads/2024/03/Employment-Law.jpg
END:VEVENT
BEGIN:VEVENT
DTSTART;TZID=America/Los_Angeles:20270701T173000
DTEND;TZID=America/Los_Angeles:20270701T183000
DTSTAMP:20260425T095546
CREATED:20240329T051254Z
LAST-MODIFIED:20240329T054601Z
UID:10000540-1814463000-1814466600@tenesquire.com
SUMMARY:TEN South Bay
DESCRIPTION:
URL:https://tenesquire.com/calendar/ten-south-bay/2027-07-01/
LOCATION:Online Meeting
CATEGORIES:Regular Meetings
ATTACH;FMTTYPE=image/jpeg:https://tenesquire.com/wp-content/uploads/2024/03/South-Bay.jpg
END:VEVENT
BEGIN:VEVENT
DTSTART;TZID=America/Los_Angeles:20270705T120000
DTEND;TZID=America/Los_Angeles:20270705T130000
DTSTAMP:20260425T095546
CREATED:20260311T213238Z
LAST-MODIFIED:20260420T185004Z
UID:10002971-1814788800-1814792400@tenesquire.com
SUMMARY:TEN Santa Clarita
DESCRIPTION:
URL:https://tenesquire.com/calendar/ten-santa-clarita/2027-07-05/
LOCATION:Online Meeting
CATEGORIES:Regular Meetings
ORGANIZER;CN="TEN%3A The Esquire Network":MAILTO:nathan@tenworking.com
END:VEVENT
BEGIN:VEVENT
DTSTART;TZID=America/Los_Angeles:20270708T080000
DTEND;TZID=America/Los_Angeles:20270708T090000
DTSTAMP:20260425T095546
CREATED:20250523T204021Z
LAST-MODIFIED:20250523T204202Z
UID:10002525-1815033600-1815037200@tenesquire.com
SUMMARY:TEN Family Law
DESCRIPTION:
URL:https://tenesquire.com/calendar/family-law/2027-07-08/
LOCATION:Online Meeting
CATEGORIES:Regular Meetings
ATTACH;FMTTYPE=image/jpeg:https://tenesquire.com/wp-content/uploads/2024/03/Family-Law.jpg
ORGANIZER;CN="TEN%3A The Esquire Network":MAILTO:nathan@tenworking.com
END:VEVENT
BEGIN:VEVENT
DTSTART;TZID=America/Los_Angeles:20270708T173000
DTEND;TZID=America/Los_Angeles:20270708T190000
DTSTAMP:20260425T095546
CREATED:20240329T052306Z
LAST-MODIFIED:20250619T220805Z
UID:10000900-1815067800-1815073200@tenesquire.com
SUMMARY:TEN Tasters
DESCRIPTION:TEN Beverly Hills Tasters went to San Diego with Attorney Sommelier Chris Celentino of Jace Wines and Toured Alesmith Brewery \nTEN Tasters Group Photo\, July 2023 \nTEN Beverly Hills Tasters in San Diego \nTEN Tasters Group Photo
URL:https://tenesquire.com/calendar/ten-tasters/2027-07-08/
LOCATION:Online Meeting
CATEGORIES:Regular Meetings
ATTACH;FMTTYPE=image/jpeg:https://tenesquire.com/wp-content/uploads/2024/03/Sherman-Oaks-2.jpg
ORGANIZER;CN="Amira Hasenbush":MAILTO:amira@allfamilylegal.com
END:VEVENT
BEGIN:VEVENT
DTSTART;TZID=America/Los_Angeles:20270712T150000
DTEND;TZID=America/Los_Angeles:20270712T160000
DTSTAMP:20260425T095546
CREATED:20240329T051627Z
LAST-MODIFIED:20250516T175243Z
UID:10000660-1815404400-1815408000@tenesquire.com
SUMMARY:TEN Bankruptcy Law
DESCRIPTION:If your practice involves bankruptcy law\, this is a perfect opportunity to find mentorship\, referral sources\, and build relationships with experts in your practice area. Whether you find yourself referring clients and/or potential clients to bankruptcy attorneys\, you find yourself needing to bring in a bankruptcy attorney on cases\, or there are certain aspects of bankruptcy law that you don’t practice\, you’re more than welcome to join us on the second Monday of every month! We’re excited to have you join us. See you soon!
URL:https://tenesquire.com/calendar/ten-bankruptcy-law/2027-07-12/
LOCATION:Online Meeting
CATEGORIES:Regular Meetings
ATTACH;FMTTYPE=image/jpeg:https://tenesquire.com/wp-content/uploads/2024/03/Bankruptcy-Law.jpg
END:VEVENT
BEGIN:VEVENT
DTSTART;TZID=America/Los_Angeles:20270713T120000
DTEND;TZID=America/Los_Angeles:20270713T130000
DTSTAMP:20260425T095546
CREATED:20240329T051741Z
LAST-MODIFIED:20250516T180153Z
UID:10000720-1815480000-1815483600@tenesquire.com
SUMMARY:TEN Sherman Oaks
DESCRIPTION:TEN Sherman Oaks for their annual TEN-FL event
URL:https://tenesquire.com/calendar/ten-sherman-oaks/2027-07-13/
LOCATION:Online Meeting
CATEGORIES:Regular Meetings
ATTACH;FMTTYPE=image/jpeg:https://tenesquire.com/wp-content/uploads/2024/03/Sherman-Oaks.jpg
ORGANIZER;CN="TEN%3A The Esquire Network":MAILTO:nathan@tenworking.com
END:VEVENT
END:VCALENDAR