BEGIN:VCALENDAR
VERSION:2.0
PRODID:-//TEN: The Esquire Network - ECPv6.15.15//NONSGML v1.0//EN
CALSCALE:GREGORIAN
METHOD:PUBLISH
X-WR-CALNAME:TEN: The Esquire Network
X-ORIGINAL-URL:https://tenesquire.com
X-WR-CALDESC:Events for TEN: The Esquire Network
REFRESH-INTERVAL;VALUE=DURATION:PT1H
X-Robots-Tag:noindex
X-PUBLISHED-TTL:PT1H
BEGIN:VTIMEZONE
TZID:America/Los_Angeles
BEGIN:DAYLIGHT
TZOFFSETFROM:-0800
TZOFFSETTO:-0700
TZNAME:PDT
DTSTART:20250309T100000
END:DAYLIGHT
BEGIN:STANDARD
TZOFFSETFROM:-0700
TZOFFSETTO:-0800
TZNAME:PST
DTSTART:20251102T090000
END:STANDARD
BEGIN:DAYLIGHT
TZOFFSETFROM:-0800
TZOFFSETTO:-0700
TZNAME:PDT
DTSTART:20260308T100000
END:DAYLIGHT
BEGIN:STANDARD
TZOFFSETFROM:-0700
TZOFFSETTO:-0800
TZNAME:PST
DTSTART:20261101T090000
END:STANDARD
BEGIN:DAYLIGHT
TZOFFSETFROM:-0800
TZOFFSETTO:-0700
TZNAME:PDT
DTSTART:20270314T100000
END:DAYLIGHT
BEGIN:STANDARD
TZOFFSETFROM:-0700
TZOFFSETTO:-0800
TZNAME:PST
DTSTART:20271107T090000
END:STANDARD
BEGIN:DAYLIGHT
TZOFFSETFROM:-0800
TZOFFSETTO:-0700
TZNAME:PDT
DTSTART:20280312T100000
END:DAYLIGHT
BEGIN:STANDARD
TZOFFSETFROM:-0700
TZOFFSETTO:-0800
TZNAME:PST
DTSTART:20281105T090000
END:STANDARD
BEGIN:DAYLIGHT
TZOFFSETFROM:-0800
TZOFFSETTO:-0700
TZNAME:PDT
DTSTART:20290311T100000
END:DAYLIGHT
BEGIN:STANDARD
TZOFFSETFROM:-0700
TZOFFSETTO:-0800
TZNAME:PST
DTSTART:20291104T090000
END:STANDARD
BEGIN:DAYLIGHT
TZOFFSETFROM:-0800
TZOFFSETTO:-0700
TZNAME:PDT
DTSTART:20300310T100000
END:DAYLIGHT
BEGIN:STANDARD
TZOFFSETFROM:-0700
TZOFFSETTO:-0800
TZNAME:PST
DTSTART:20301103T090000
END:STANDARD
END:VTIMEZONE
BEGIN:VEVENT
DTSTART;TZID=America/Los_Angeles:20261006T173000
DTEND;TZID=America/Los_Angeles:20261006T190000
DTSTAMP:20260423T140123
CREATED:20240329T053837Z
LAST-MODIFIED:20260420T185354Z
UID:10003048-1791307800-1791313200@tenesquire.com
SUMMARY:TEN Encino
DESCRIPTION:
URL:https://tenesquire.com/calendar/ten-encino/2026-10-06/
LOCATION:Lewitt Hackman\, 16633 Ventura Blvd 11th Fl.\, Encino\, CA\, 91436\, United States
CATEGORIES:Regular Meetings
ATTACH;FMTTYPE=image/jpeg:https://tenesquire.com/wp-content/uploads/2024/03/Encino.jpg
END:VEVENT
BEGIN:VEVENT
DTSTART;TZID=America/Los_Angeles:20261103T173000
DTEND;TZID=America/Los_Angeles:20261103T190000
DTSTAMP:20260423T140123
CREATED:20240329T053837Z
LAST-MODIFIED:20260420T185354Z
UID:10003049-1793727000-1793732400@tenesquire.com
SUMMARY:TEN Encino
DESCRIPTION:
URL:https://tenesquire.com/calendar/ten-encino/2026-11-03/
LOCATION:Lewitt Hackman\, 16633 Ventura Blvd 11th Fl.\, Encino\, CA\, 91436\, United States
CATEGORIES:Regular Meetings
ATTACH;FMTTYPE=image/jpeg:https://tenesquire.com/wp-content/uploads/2024/03/Encino.jpg
END:VEVENT
BEGIN:VEVENT
DTSTART;TZID=America/Los_Angeles:20261201T173000
DTEND;TZID=America/Los_Angeles:20261201T190000
DTSTAMP:20260423T140123
CREATED:20240329T053837Z
LAST-MODIFIED:20260420T185354Z
UID:10003050-1796146200-1796151600@tenesquire.com
SUMMARY:TEN Encino
DESCRIPTION:
URL:https://tenesquire.com/calendar/ten-encino/2026-12-01/
LOCATION:Lewitt Hackman\, 16633 Ventura Blvd 11th Fl.\, Encino\, CA\, 91436\, United States
CATEGORIES:Regular Meetings
ATTACH;FMTTYPE=image/jpeg:https://tenesquire.com/wp-content/uploads/2024/03/Encino.jpg
END:VEVENT
BEGIN:VEVENT
DTSTART;TZID=America/Los_Angeles:20270105T173000
DTEND;TZID=America/Los_Angeles:20270105T190000
DTSTAMP:20260423T140123
CREATED:20240329T053837Z
LAST-MODIFIED:20260420T185354Z
UID:10003051-1799170200-1799175600@tenesquire.com
SUMMARY:TEN Encino
DESCRIPTION:
URL:https://tenesquire.com/calendar/ten-encino/2027-01-05/
LOCATION:Lewitt Hackman\, 16633 Ventura Blvd 11th Fl.\, Encino\, CA\, 91436\, United States
CATEGORIES:Regular Meetings
ATTACH;FMTTYPE=image/jpeg:https://tenesquire.com/wp-content/uploads/2024/03/Encino.jpg
END:VEVENT
BEGIN:VEVENT
DTSTART;TZID=America/Los_Angeles:20270202T173000
DTEND;TZID=America/Los_Angeles:20270202T190000
DTSTAMP:20260423T140123
CREATED:20240329T053837Z
LAST-MODIFIED:20260420T185354Z
UID:10003052-1801589400-1801594800@tenesquire.com
SUMMARY:TEN Encino
DESCRIPTION:
URL:https://tenesquire.com/calendar/ten-encino/2027-02-02/
LOCATION:Lewitt Hackman\, 16633 Ventura Blvd 11th Fl.\, Encino\, CA\, 91436\, United States
CATEGORIES:Regular Meetings
ATTACH;FMTTYPE=image/jpeg:https://tenesquire.com/wp-content/uploads/2024/03/Encino.jpg
END:VEVENT
BEGIN:VEVENT
DTSTART;TZID=America/Los_Angeles:20270302T173000
DTEND;TZID=America/Los_Angeles:20270302T190000
DTSTAMP:20260423T140123
CREATED:20240329T053837Z
LAST-MODIFIED:20260420T185354Z
UID:10003053-1804008600-1804014000@tenesquire.com
SUMMARY:TEN Encino
DESCRIPTION:
URL:https://tenesquire.com/calendar/ten-encino/2027-03-02/
LOCATION:Lewitt Hackman\, 16633 Ventura Blvd 11th Fl.\, Encino\, CA\, 91436\, United States
CATEGORIES:Regular Meetings
ATTACH;FMTTYPE=image/jpeg:https://tenesquire.com/wp-content/uploads/2024/03/Encino.jpg
END:VEVENT
BEGIN:VEVENT
DTSTART;TZID=America/Los_Angeles:20270406T173000
DTEND;TZID=America/Los_Angeles:20270406T190000
DTSTAMP:20260423T140123
CREATED:20240329T053837Z
LAST-MODIFIED:20260420T185354Z
UID:10003054-1807032600-1807038000@tenesquire.com
SUMMARY:TEN Encino
DESCRIPTION:
URL:https://tenesquire.com/calendar/ten-encino/2027-04-06/
LOCATION:Lewitt Hackman\, 16633 Ventura Blvd 11th Fl.\, Encino\, CA\, 91436\, United States
CATEGORIES:Regular Meetings
ATTACH;FMTTYPE=image/jpeg:https://tenesquire.com/wp-content/uploads/2024/03/Encino.jpg
END:VEVENT
BEGIN:VEVENT
DTSTART;TZID=America/Los_Angeles:20270504T173000
DTEND;TZID=America/Los_Angeles:20270504T190000
DTSTAMP:20260423T140123
CREATED:20240329T053837Z
LAST-MODIFIED:20260420T185354Z
UID:10003055-1809451800-1809457200@tenesquire.com
SUMMARY:TEN Encino
DESCRIPTION:
URL:https://tenesquire.com/calendar/ten-encino/2027-05-04/
LOCATION:Lewitt Hackman\, 16633 Ventura Blvd 11th Fl.\, Encino\, CA\, 91436\, United States
CATEGORIES:Regular Meetings
ATTACH;FMTTYPE=image/jpeg:https://tenesquire.com/wp-content/uploads/2024/03/Encino.jpg
END:VEVENT
BEGIN:VEVENT
DTSTART;TZID=America/Los_Angeles:20270601T173000
DTEND;TZID=America/Los_Angeles:20270601T190000
DTSTAMP:20260423T140123
CREATED:20240329T053837Z
LAST-MODIFIED:20260420T185354Z
UID:10003056-1811871000-1811876400@tenesquire.com
SUMMARY:TEN Encino
DESCRIPTION:
URL:https://tenesquire.com/calendar/ten-encino/2027-06-01/
LOCATION:Lewitt Hackman\, 16633 Ventura Blvd 11th Fl.\, Encino\, CA\, 91436\, United States
CATEGORIES:Regular Meetings
ATTACH;FMTTYPE=image/jpeg:https://tenesquire.com/wp-content/uploads/2024/03/Encino.jpg
END:VEVENT
BEGIN:VEVENT
DTSTART;TZID=America/Los_Angeles:20270706T173000
DTEND;TZID=America/Los_Angeles:20270706T190000
DTSTAMP:20260423T140123
CREATED:20240329T053837Z
LAST-MODIFIED:20260420T185354Z
UID:10003057-1814895000-1814900400@tenesquire.com
SUMMARY:TEN Encino
DESCRIPTION:
URL:https://tenesquire.com/calendar/ten-encino/2027-07-06/
LOCATION:Lewitt Hackman\, 16633 Ventura Blvd 11th Fl.\, Encino\, CA\, 91436\, United States
CATEGORIES:Regular Meetings
ATTACH;FMTTYPE=image/jpeg:https://tenesquire.com/wp-content/uploads/2024/03/Encino.jpg
END:VEVENT
BEGIN:VEVENT
DTSTART;TZID=America/Los_Angeles:20270803T173000
DTEND;TZID=America/Los_Angeles:20270803T190000
DTSTAMP:20260423T140123
CREATED:20240329T053837Z
LAST-MODIFIED:20260420T185354Z
UID:10003058-1817314200-1817319600@tenesquire.com
SUMMARY:TEN Encino
DESCRIPTION:
URL:https://tenesquire.com/calendar/ten-encino/2027-08-03/
LOCATION:Lewitt Hackman\, 16633 Ventura Blvd 11th Fl.\, Encino\, CA\, 91436\, United States
CATEGORIES:Regular Meetings
ATTACH;FMTTYPE=image/jpeg:https://tenesquire.com/wp-content/uploads/2024/03/Encino.jpg
END:VEVENT
BEGIN:VEVENT
DTSTART;TZID=America/Los_Angeles:20270907T173000
DTEND;TZID=America/Los_Angeles:20270907T190000
DTSTAMP:20260423T140123
CREATED:20240329T053837Z
LAST-MODIFIED:20260420T185354Z
UID:10003059-1820338200-1820343600@tenesquire.com
SUMMARY:TEN Encino
DESCRIPTION:
URL:https://tenesquire.com/calendar/ten-encino/2027-09-07/
LOCATION:Lewitt Hackman\, 16633 Ventura Blvd 11th Fl.\, Encino\, CA\, 91436\, United States
CATEGORIES:Regular Meetings
ATTACH;FMTTYPE=image/jpeg:https://tenesquire.com/wp-content/uploads/2024/03/Encino.jpg
END:VEVENT
BEGIN:VEVENT
DTSTART;TZID=America/Los_Angeles:20271005T173000
DTEND;TZID=America/Los_Angeles:20271005T190000
DTSTAMP:20260423T140123
CREATED:20240329T053837Z
LAST-MODIFIED:20260420T185354Z
UID:10003060-1822757400-1822762800@tenesquire.com
SUMMARY:TEN Encino
DESCRIPTION:
URL:https://tenesquire.com/calendar/ten-encino/2027-10-05/
LOCATION:Lewitt Hackman\, 16633 Ventura Blvd 11th Fl.\, Encino\, CA\, 91436\, United States
CATEGORIES:Regular Meetings
ATTACH;FMTTYPE=image/jpeg:https://tenesquire.com/wp-content/uploads/2024/03/Encino.jpg
END:VEVENT
BEGIN:VEVENT
DTSTART;TZID=America/Los_Angeles:20271102T173000
DTEND;TZID=America/Los_Angeles:20271102T190000
DTSTAMP:20260423T140123
CREATED:20240329T053837Z
LAST-MODIFIED:20260420T185354Z
UID:10003061-1825176600-1825182000@tenesquire.com
SUMMARY:TEN Encino
DESCRIPTION:
URL:https://tenesquire.com/calendar/ten-encino/2027-11-02/
LOCATION:Lewitt Hackman\, 16633 Ventura Blvd 11th Fl.\, Encino\, CA\, 91436\, United States
CATEGORIES:Regular Meetings
ATTACH;FMTTYPE=image/jpeg:https://tenesquire.com/wp-content/uploads/2024/03/Encino.jpg
END:VEVENT
BEGIN:VEVENT
DTSTART;TZID=America/Los_Angeles:20271207T173000
DTEND;TZID=America/Los_Angeles:20271207T190000
DTSTAMP:20260423T140123
CREATED:20240329T053837Z
LAST-MODIFIED:20260420T185354Z
UID:10003062-1828200600-1828206000@tenesquire.com
SUMMARY:TEN Encino
DESCRIPTION:
URL:https://tenesquire.com/calendar/ten-encino/2027-12-07/
LOCATION:Lewitt Hackman\, 16633 Ventura Blvd 11th Fl.\, Encino\, CA\, 91436\, United States
CATEGORIES:Regular Meetings
ATTACH;FMTTYPE=image/jpeg:https://tenesquire.com/wp-content/uploads/2024/03/Encino.jpg
END:VEVENT
BEGIN:VEVENT
DTSTART;TZID=America/Los_Angeles:20280104T173000
DTEND;TZID=America/Los_Angeles:20280104T190000
DTSTAMP:20260423T140123
CREATED:20240329T053837Z
LAST-MODIFIED:20260420T185354Z
UID:10003063-1830619800-1830625200@tenesquire.com
SUMMARY:TEN Encino
DESCRIPTION:
URL:https://tenesquire.com/calendar/ten-encino/2028-01-04/
LOCATION:Lewitt Hackman\, 16633 Ventura Blvd 11th Fl.\, Encino\, CA\, 91436\, United States
CATEGORIES:Regular Meetings
ATTACH;FMTTYPE=image/jpeg:https://tenesquire.com/wp-content/uploads/2024/03/Encino.jpg
END:VEVENT
BEGIN:VEVENT
DTSTART;TZID=America/Los_Angeles:20280201T173000
DTEND;TZID=America/Los_Angeles:20280201T190000
DTSTAMP:20260423T140123
CREATED:20240329T053837Z
LAST-MODIFIED:20260420T185354Z
UID:10003064-1833039000-1833044400@tenesquire.com
SUMMARY:TEN Encino
DESCRIPTION:
URL:https://tenesquire.com/calendar/ten-encino/2028-02-01/
LOCATION:Lewitt Hackman\, 16633 Ventura Blvd 11th Fl.\, Encino\, CA\, 91436\, United States
CATEGORIES:Regular Meetings
ATTACH;FMTTYPE=image/jpeg:https://tenesquire.com/wp-content/uploads/2024/03/Encino.jpg
END:VEVENT
BEGIN:VEVENT
DTSTART;TZID=America/Los_Angeles:20280307T173000
DTEND;TZID=America/Los_Angeles:20280307T190000
DTSTAMP:20260423T140123
CREATED:20240329T053837Z
LAST-MODIFIED:20260420T185354Z
UID:10003065-1836063000-1836068400@tenesquire.com
SUMMARY:TEN Encino
DESCRIPTION:
URL:https://tenesquire.com/calendar/ten-encino/2028-03-07/
LOCATION:Lewitt Hackman\, 16633 Ventura Blvd 11th Fl.\, Encino\, CA\, 91436\, United States
CATEGORIES:Regular Meetings
ATTACH;FMTTYPE=image/jpeg:https://tenesquire.com/wp-content/uploads/2024/03/Encino.jpg
END:VEVENT
BEGIN:VEVENT
DTSTART;TZID=America/Los_Angeles:20280404T173000
DTEND;TZID=America/Los_Angeles:20280404T190000
DTSTAMP:20260423T140123
CREATED:20240329T053837Z
LAST-MODIFIED:20260420T185354Z
UID:10003066-1838482200-1838487600@tenesquire.com
SUMMARY:TEN Encino
DESCRIPTION:
URL:https://tenesquire.com/calendar/ten-encino/2028-04-04/
LOCATION:Lewitt Hackman\, 16633 Ventura Blvd 11th Fl.\, Encino\, CA\, 91436\, United States
CATEGORIES:Regular Meetings
ATTACH;FMTTYPE=image/jpeg:https://tenesquire.com/wp-content/uploads/2024/03/Encino.jpg
END:VEVENT
BEGIN:VEVENT
DTSTART;TZID=America/Los_Angeles:20280502T173000
DTEND;TZID=America/Los_Angeles:20280502T190000
DTSTAMP:20260423T140123
CREATED:20240329T053837Z
LAST-MODIFIED:20260420T185354Z
UID:10003067-1840901400-1840906800@tenesquire.com
SUMMARY:TEN Encino
DESCRIPTION:
URL:https://tenesquire.com/calendar/ten-encino/2028-05-02/
LOCATION:Lewitt Hackman\, 16633 Ventura Blvd 11th Fl.\, Encino\, CA\, 91436\, United States
CATEGORIES:Regular Meetings
ATTACH;FMTTYPE=image/jpeg:https://tenesquire.com/wp-content/uploads/2024/03/Encino.jpg
END:VEVENT
BEGIN:VEVENT
DTSTART;TZID=America/Los_Angeles:20280606T173000
DTEND;TZID=America/Los_Angeles:20280606T190000
DTSTAMP:20260423T140123
CREATED:20240329T053837Z
LAST-MODIFIED:20260420T185354Z
UID:10003068-1843925400-1843930800@tenesquire.com
SUMMARY:TEN Encino
DESCRIPTION:
URL:https://tenesquire.com/calendar/ten-encino/2028-06-06/
LOCATION:Lewitt Hackman\, 16633 Ventura Blvd 11th Fl.\, Encino\, CA\, 91436\, United States
CATEGORIES:Regular Meetings
ATTACH;FMTTYPE=image/jpeg:https://tenesquire.com/wp-content/uploads/2024/03/Encino.jpg
END:VEVENT
BEGIN:VEVENT
DTSTART;TZID=America/Los_Angeles:20280704T173000
DTEND;TZID=America/Los_Angeles:20280704T190000
DTSTAMP:20260423T140123
CREATED:20240329T053837Z
LAST-MODIFIED:20260420T185354Z
UID:10003069-1846344600-1846350000@tenesquire.com
SUMMARY:TEN Encino
DESCRIPTION:
URL:https://tenesquire.com/calendar/ten-encino/2028-07-04/
LOCATION:Lewitt Hackman\, 16633 Ventura Blvd 11th Fl.\, Encino\, CA\, 91436\, United States
CATEGORIES:Regular Meetings
ATTACH;FMTTYPE=image/jpeg:https://tenesquire.com/wp-content/uploads/2024/03/Encino.jpg
END:VEVENT
BEGIN:VEVENT
DTSTART;TZID=America/Los_Angeles:20280801T173000
DTEND;TZID=America/Los_Angeles:20280801T190000
DTSTAMP:20260423T140123
CREATED:20240329T053837Z
LAST-MODIFIED:20260420T185354Z
UID:10003070-1848763800-1848769200@tenesquire.com
SUMMARY:TEN Encino
DESCRIPTION:
URL:https://tenesquire.com/calendar/ten-encino/2028-08-01/
LOCATION:Lewitt Hackman\, 16633 Ventura Blvd 11th Fl.\, Encino\, CA\, 91436\, United States
CATEGORIES:Regular Meetings
ATTACH;FMTTYPE=image/jpeg:https://tenesquire.com/wp-content/uploads/2024/03/Encino.jpg
END:VEVENT
BEGIN:VEVENT
DTSTART;TZID=America/Los_Angeles:20280905T173000
DTEND;TZID=America/Los_Angeles:20280905T190000
DTSTAMP:20260423T140123
CREATED:20240329T053837Z
LAST-MODIFIED:20260420T185354Z
UID:10003071-1851787800-1851793200@tenesquire.com
SUMMARY:TEN Encino
DESCRIPTION:
URL:https://tenesquire.com/calendar/ten-encino/2028-09-05/
LOCATION:Lewitt Hackman\, 16633 Ventura Blvd 11th Fl.\, Encino\, CA\, 91436\, United States
CATEGORIES:Regular Meetings
ATTACH;FMTTYPE=image/jpeg:https://tenesquire.com/wp-content/uploads/2024/03/Encino.jpg
END:VEVENT
BEGIN:VEVENT
DTSTART;TZID=America/Los_Angeles:20281003T173000
DTEND;TZID=America/Los_Angeles:20281003T190000
DTSTAMP:20260423T140123
CREATED:20240329T053837Z
LAST-MODIFIED:20260420T185354Z
UID:10003072-1854207000-1854212400@tenesquire.com
SUMMARY:TEN Encino
DESCRIPTION:
URL:https://tenesquire.com/calendar/ten-encino/2028-10-03/
LOCATION:Lewitt Hackman\, 16633 Ventura Blvd 11th Fl.\, Encino\, CA\, 91436\, United States
CATEGORIES:Regular Meetings
ATTACH;FMTTYPE=image/jpeg:https://tenesquire.com/wp-content/uploads/2024/03/Encino.jpg
END:VEVENT
BEGIN:VEVENT
DTSTART;TZID=America/Los_Angeles:20281107T173000
DTEND;TZID=America/Los_Angeles:20281107T190000
DTSTAMP:20260423T140123
CREATED:20240329T053837Z
LAST-MODIFIED:20260420T185354Z
UID:10003073-1857231000-1857236400@tenesquire.com
SUMMARY:TEN Encino
DESCRIPTION:
URL:https://tenesquire.com/calendar/ten-encino/2028-11-07/
LOCATION:Lewitt Hackman\, 16633 Ventura Blvd 11th Fl.\, Encino\, CA\, 91436\, United States
CATEGORIES:Regular Meetings
ATTACH;FMTTYPE=image/jpeg:https://tenesquire.com/wp-content/uploads/2024/03/Encino.jpg
END:VEVENT
BEGIN:VEVENT
DTSTART;TZID=America/Los_Angeles:20281205T173000
DTEND;TZID=America/Los_Angeles:20281205T190000
DTSTAMP:20260423T140123
CREATED:20240329T053837Z
LAST-MODIFIED:20260420T185354Z
UID:10003074-1859650200-1859655600@tenesquire.com
SUMMARY:TEN Encino
DESCRIPTION:
URL:https://tenesquire.com/calendar/ten-encino/2028-12-05/
LOCATION:Lewitt Hackman\, 16633 Ventura Blvd 11th Fl.\, Encino\, CA\, 91436\, United States
CATEGORIES:Regular Meetings
ATTACH;FMTTYPE=image/jpeg:https://tenesquire.com/wp-content/uploads/2024/03/Encino.jpg
END:VEVENT
BEGIN:VEVENT
DTSTART;TZID=America/Los_Angeles:20290102T173000
DTEND;TZID=America/Los_Angeles:20290102T190000
DTSTAMP:20260423T140123
CREATED:20240329T053837Z
LAST-MODIFIED:20260420T185354Z
UID:10003075-1862069400-1862074800@tenesquire.com
SUMMARY:TEN Encino
DESCRIPTION:
URL:https://tenesquire.com/calendar/ten-encino/2029-01-02/
LOCATION:Lewitt Hackman\, 16633 Ventura Blvd 11th Fl.\, Encino\, CA\, 91436\, United States
CATEGORIES:Regular Meetings
ATTACH;FMTTYPE=image/jpeg:https://tenesquire.com/wp-content/uploads/2024/03/Encino.jpg
END:VEVENT
BEGIN:VEVENT
DTSTART;TZID=America/Los_Angeles:20290206T173000
DTEND;TZID=America/Los_Angeles:20290206T190000
DTSTAMP:20260423T140123
CREATED:20240329T053837Z
LAST-MODIFIED:20260420T185354Z
UID:10003076-1865093400-1865098800@tenesquire.com
SUMMARY:TEN Encino
DESCRIPTION:
URL:https://tenesquire.com/calendar/ten-encino/2029-02-06/
LOCATION:Lewitt Hackman\, 16633 Ventura Blvd 11th Fl.\, Encino\, CA\, 91436\, United States
CATEGORIES:Regular Meetings
ATTACH;FMTTYPE=image/jpeg:https://tenesquire.com/wp-content/uploads/2024/03/Encino.jpg
END:VEVENT
BEGIN:VEVENT
DTSTART;TZID=America/Los_Angeles:20290306T173000
DTEND;TZID=America/Los_Angeles:20290306T190000
DTSTAMP:20260423T140123
CREATED:20240329T053837Z
LAST-MODIFIED:20260420T185354Z
UID:10003077-1867512600-1867518000@tenesquire.com
SUMMARY:TEN Encino
DESCRIPTION:
URL:https://tenesquire.com/calendar/ten-encino/2029-03-06/
LOCATION:Lewitt Hackman\, 16633 Ventura Blvd 11th Fl.\, Encino\, CA\, 91436\, United States
CATEGORIES:Regular Meetings
ATTACH;FMTTYPE=image/jpeg:https://tenesquire.com/wp-content/uploads/2024/03/Encino.jpg
END:VEVENT
END:VCALENDAR