BEGIN:VCALENDAR
VERSION:2.0
PRODID:-//TEN: The Esquire Network - ECPv6.15.15//NONSGML v1.0//EN
CALSCALE:GREGORIAN
METHOD:PUBLISH
X-ORIGINAL-URL:https://tenesquire.com
X-WR-CALDESC:Events for TEN: The Esquire Network
REFRESH-INTERVAL;VALUE=DURATION:PT1H
X-Robots-Tag:noindex
X-PUBLISHED-TTL:PT1H
BEGIN:VTIMEZONE
TZID:America/Los_Angeles
BEGIN:DAYLIGHT
TZOFFSETFROM:-0800
TZOFFSETTO:-0700
TZNAME:PDT
DTSTART:20290311T100000
END:DAYLIGHT
BEGIN:STANDARD
TZOFFSETFROM:-0700
TZOFFSETTO:-0800
TZNAME:PST
DTSTART:20291104T090000
END:STANDARD
BEGIN:DAYLIGHT
TZOFFSETFROM:-0800
TZOFFSETTO:-0700
TZNAME:PDT
DTSTART:20300310T100000
END:DAYLIGHT
BEGIN:STANDARD
TZOFFSETFROM:-0700
TZOFFSETTO:-0800
TZNAME:PST
DTSTART:20301103T090000
END:STANDARD
BEGIN:DAYLIGHT
TZOFFSETFROM:-0800
TZOFFSETTO:-0700
TZNAME:PDT
DTSTART:20310309T100000
END:DAYLIGHT
BEGIN:STANDARD
TZOFFSETFROM:-0700
TZOFFSETTO:-0800
TZNAME:PST
DTSTART:20311102T090000
END:STANDARD
BEGIN:DAYLIGHT
TZOFFSETFROM:-0800
TZOFFSETTO:-0700
TZNAME:PDT
DTSTART:20320314T100000
END:DAYLIGHT
BEGIN:STANDARD
TZOFFSETFROM:-0700
TZOFFSETTO:-0800
TZNAME:PST
DTSTART:20321107T090000
END:STANDARD
END:VTIMEZONE
BEGIN:VEVENT
DTSTART;TZID=America/Los_Angeles:20301125T114500
DTEND;TZID=America/Los_Angeles:20301125T131500
DTSTAMP:20260424T020439
CREATED:20260218T182004Z
LAST-MODIFIED:20260218T182004Z
UID:10002936-1921837500-1921842900@tenesquire.com
SUMMARY:TEN DTLA
DESCRIPTION:
URL:https://tenesquire.com/calendar/ten-dtla/2030-11-25/
LOCATION:Biltmore Towers\, 500 South Grand Avenue\, Suite 2010\, Los Angeles\, CA\, 90071\, United States
CATEGORIES:Regular Meetings
ORGANIZER;CN="TEN%3A The Esquire Network":MAILTO:nathan@tenworking.com
END:VEVENT
BEGIN:VEVENT
DTSTART;TZID=America/Los_Angeles:20301223T114500
DTEND;TZID=America/Los_Angeles:20301223T131500
DTSTAMP:20260424T020439
CREATED:20260218T182004Z
LAST-MODIFIED:20260218T182004Z
UID:10002937-1924256700-1924262100@tenesquire.com
SUMMARY:TEN DTLA
DESCRIPTION:
URL:https://tenesquire.com/calendar/ten-dtla/2030-12-23/
LOCATION:Biltmore Towers\, 500 South Grand Avenue\, Suite 2010\, Los Angeles\, CA\, 90071\, United States
CATEGORIES:Regular Meetings
ORGANIZER;CN="TEN%3A The Esquire Network":MAILTO:nathan@tenworking.com
END:VEVENT
BEGIN:VEVENT
DTSTART;TZID=America/Los_Angeles:20310127T114500
DTEND;TZID=America/Los_Angeles:20310127T131500
DTSTAMP:20260424T020439
CREATED:20260218T182004Z
LAST-MODIFIED:20260218T182004Z
UID:10002938-1927280700-1927286100@tenesquire.com
SUMMARY:TEN DTLA
DESCRIPTION:
URL:https://tenesquire.com/calendar/ten-dtla/2031-01-27/
LOCATION:Biltmore Towers\, 500 South Grand Avenue\, Suite 2010\, Los Angeles\, CA\, 90071\, United States
CATEGORIES:Regular Meetings
ORGANIZER;CN="TEN%3A The Esquire Network":MAILTO:nathan@tenworking.com
END:VEVENT
BEGIN:VEVENT
DTSTART;TZID=America/Los_Angeles:20310224T114500
DTEND;TZID=America/Los_Angeles:20310224T131500
DTSTAMP:20260424T020439
CREATED:20260218T182004Z
LAST-MODIFIED:20260218T182004Z
UID:10003039-1929699900-1929705300@tenesquire.com
SUMMARY:TEN DTLA
DESCRIPTION:
URL:https://tenesquire.com/calendar/ten-dtla/2031-02-24/
LOCATION:Biltmore Towers\, 500 South Grand Avenue\, Suite 2010\, Los Angeles\, CA\, 90071\, United States
CATEGORIES:Regular Meetings
ORGANIZER;CN="TEN%3A The Esquire Network":MAILTO:nathan@tenworking.com
END:VEVENT
BEGIN:VEVENT
DTSTART;TZID=America/Los_Angeles:20310324T114500
DTEND;TZID=America/Los_Angeles:20310324T131500
DTSTAMP:20260424T020439
CREATED:20260218T182004Z
LAST-MODIFIED:20260218T182004Z
UID:10003040-1932119100-1932124500@tenesquire.com
SUMMARY:TEN DTLA
DESCRIPTION:
URL:https://tenesquire.com/calendar/ten-dtla/2031-03-24/
LOCATION:Biltmore Towers\, 500 South Grand Avenue\, Suite 2010\, Los Angeles\, CA\, 90071\, United States
CATEGORIES:Regular Meetings
ORGANIZER;CN="TEN%3A The Esquire Network":MAILTO:nathan@tenworking.com
END:VEVENT
END:VCALENDAR