BEGIN:VCALENDAR
VERSION:2.0
PRODID:-//TEN: The Esquire Network - ECPv6.15.15//NONSGML v1.0//EN
CALSCALE:GREGORIAN
METHOD:PUBLISH
X-WR-CALNAME:TEN: The Esquire Network
X-ORIGINAL-URL:https://tenesquire.com
X-WR-CALDESC:Events for TEN: The Esquire Network
REFRESH-INTERVAL;VALUE=DURATION:PT1H
X-Robots-Tag:noindex
X-PUBLISHED-TTL:PT1H
BEGIN:VTIMEZONE
TZID:America/Los_Angeles
BEGIN:DAYLIGHT
TZOFFSETFROM:-0800
TZOFFSETTO:-0700
TZNAME:PDT
DTSTART:20250309T100000
END:DAYLIGHT
BEGIN:STANDARD
TZOFFSETFROM:-0700
TZOFFSETTO:-0800
TZNAME:PST
DTSTART:20251102T090000
END:STANDARD
BEGIN:DAYLIGHT
TZOFFSETFROM:-0800
TZOFFSETTO:-0700
TZNAME:PDT
DTSTART:20260308T100000
END:DAYLIGHT
BEGIN:STANDARD
TZOFFSETFROM:-0700
TZOFFSETTO:-0800
TZNAME:PST
DTSTART:20261101T090000
END:STANDARD
BEGIN:DAYLIGHT
TZOFFSETFROM:-0800
TZOFFSETTO:-0700
TZNAME:PDT
DTSTART:20270314T100000
END:DAYLIGHT
BEGIN:STANDARD
TZOFFSETFROM:-0700
TZOFFSETTO:-0800
TZNAME:PST
DTSTART:20271107T090000
END:STANDARD
BEGIN:DAYLIGHT
TZOFFSETFROM:-0800
TZOFFSETTO:-0700
TZNAME:PDT
DTSTART:20280312T100000
END:DAYLIGHT
BEGIN:STANDARD
TZOFFSETFROM:-0700
TZOFFSETTO:-0800
TZNAME:PST
DTSTART:20281105T090000
END:STANDARD
BEGIN:DAYLIGHT
TZOFFSETFROM:-0800
TZOFFSETTO:-0700
TZNAME:PDT
DTSTART:20290311T100000
END:DAYLIGHT
BEGIN:STANDARD
TZOFFSETFROM:-0700
TZOFFSETTO:-0800
TZNAME:PST
DTSTART:20291104T090000
END:STANDARD
END:VTIMEZONE
BEGIN:VEVENT
DTSTART;TZID=America/Los_Angeles:20260512T120000
DTEND;TZID=America/Los_Angeles:20260512T130000
DTSTAMP:20260423T090150
CREATED:20260420T191421Z
LAST-MODIFIED:20260420T191456Z
UID:10000706-1778587200-1778590800@tenesquire.com
SUMMARY:TEN Sherman Oaks
DESCRIPTION:TEN Sherman Oaks for their annual TEN-FL event
URL:https://tenesquire.com/calendar/ten-sherman-oaks-2026-05-12/
LOCATION:Online Meeting
CATEGORIES:Regular Meetings
ATTACH;FMTTYPE=image/jpeg:https://tenesquire.com/wp-content/uploads/2024/03/Sherman-Oaks.jpg
ORGANIZER;CN="TEN%3A The Esquire Network":MAILTO:nathan@tenworking.com
END:VEVENT
BEGIN:VEVENT
DTSTART;TZID=America/Los_Angeles:20260609T120000
DTEND;TZID=America/Los_Angeles:20260609T130000
DTSTAMP:20260423T090150
CREATED:20240329T051741Z
LAST-MODIFIED:20250516T180153Z
UID:10000707-1781006400-1781010000@tenesquire.com
SUMMARY:TEN Sherman Oaks
DESCRIPTION:TEN Sherman Oaks for their annual TEN-FL event
URL:https://tenesquire.com/calendar/ten-sherman-oaks/2026-06-09/
LOCATION:Online Meeting
CATEGORIES:Regular Meetings
ATTACH;FMTTYPE=image/jpeg:https://tenesquire.com/wp-content/uploads/2024/03/Sherman-Oaks.jpg
ORGANIZER;CN="TEN%3A The Esquire Network":MAILTO:nathan@tenworking.com
END:VEVENT
BEGIN:VEVENT
DTSTART;TZID=America/Los_Angeles:20260714T120000
DTEND;TZID=America/Los_Angeles:20260714T130000
DTSTAMP:20260423T090150
CREATED:20240329T051741Z
LAST-MODIFIED:20250516T180153Z
UID:10000708-1784030400-1784034000@tenesquire.com
SUMMARY:TEN Sherman Oaks
DESCRIPTION:TEN Sherman Oaks for their annual TEN-FL event
URL:https://tenesquire.com/calendar/ten-sherman-oaks/2026-07-14/
LOCATION:Online Meeting
CATEGORIES:Regular Meetings
ATTACH;FMTTYPE=image/jpeg:https://tenesquire.com/wp-content/uploads/2024/03/Sherman-Oaks.jpg
ORGANIZER;CN="TEN%3A The Esquire Network":MAILTO:nathan@tenworking.com
END:VEVENT
BEGIN:VEVENT
DTSTART;TZID=America/Los_Angeles:20260811T120000
DTEND;TZID=America/Los_Angeles:20260811T130000
DTSTAMP:20260423T090150
CREATED:20240329T051741Z
LAST-MODIFIED:20250516T180153Z
UID:10000709-1786449600-1786453200@tenesquire.com
SUMMARY:TEN Sherman Oaks
DESCRIPTION:TEN Sherman Oaks for their annual TEN-FL event
URL:https://tenesquire.com/calendar/ten-sherman-oaks/2026-08-11/
LOCATION:Online Meeting
CATEGORIES:Regular Meetings
ATTACH;FMTTYPE=image/jpeg:https://tenesquire.com/wp-content/uploads/2024/03/Sherman-Oaks.jpg
ORGANIZER;CN="TEN%3A The Esquire Network":MAILTO:nathan@tenworking.com
END:VEVENT
BEGIN:VEVENT
DTSTART;TZID=America/Los_Angeles:20260908T120000
DTEND;TZID=America/Los_Angeles:20260908T130000
DTSTAMP:20260423T090150
CREATED:20240329T051741Z
LAST-MODIFIED:20250516T180153Z
UID:10000710-1788868800-1788872400@tenesquire.com
SUMMARY:TEN Sherman Oaks
DESCRIPTION:TEN Sherman Oaks for their annual TEN-FL event
URL:https://tenesquire.com/calendar/ten-sherman-oaks/2026-09-08/
LOCATION:Online Meeting
CATEGORIES:Regular Meetings
ATTACH;FMTTYPE=image/jpeg:https://tenesquire.com/wp-content/uploads/2024/03/Sherman-Oaks.jpg
ORGANIZER;CN="TEN%3A The Esquire Network":MAILTO:nathan@tenworking.com
END:VEVENT
BEGIN:VEVENT
DTSTART;TZID=America/Los_Angeles:20261013T120000
DTEND;TZID=America/Los_Angeles:20261013T130000
DTSTAMP:20260423T090150
CREATED:20240329T051741Z
LAST-MODIFIED:20250516T180153Z
UID:10000711-1791892800-1791896400@tenesquire.com
SUMMARY:TEN Sherman Oaks
DESCRIPTION:TEN Sherman Oaks for their annual TEN-FL event
URL:https://tenesquire.com/calendar/ten-sherman-oaks/2026-10-13/
LOCATION:Online Meeting
CATEGORIES:Regular Meetings
ATTACH;FMTTYPE=image/jpeg:https://tenesquire.com/wp-content/uploads/2024/03/Sherman-Oaks.jpg
ORGANIZER;CN="TEN%3A The Esquire Network":MAILTO:nathan@tenworking.com
END:VEVENT
BEGIN:VEVENT
DTSTART;TZID=America/Los_Angeles:20261110T120000
DTEND;TZID=America/Los_Angeles:20261110T130000
DTSTAMP:20260423T090150
CREATED:20240329T051741Z
LAST-MODIFIED:20250516T180153Z
UID:10000712-1794312000-1794315600@tenesquire.com
SUMMARY:TEN Sherman Oaks
DESCRIPTION:TEN Sherman Oaks for their annual TEN-FL event
URL:https://tenesquire.com/calendar/ten-sherman-oaks/2026-11-10/
LOCATION:Online Meeting
CATEGORIES:Regular Meetings
ATTACH;FMTTYPE=image/jpeg:https://tenesquire.com/wp-content/uploads/2024/03/Sherman-Oaks.jpg
ORGANIZER;CN="TEN%3A The Esquire Network":MAILTO:nathan@tenworking.com
END:VEVENT
BEGIN:VEVENT
DTSTART;TZID=America/Los_Angeles:20261208T120000
DTEND;TZID=America/Los_Angeles:20261208T130000
DTSTAMP:20260423T090150
CREATED:20240329T051741Z
LAST-MODIFIED:20250516T180153Z
UID:10000713-1796731200-1796734800@tenesquire.com
SUMMARY:TEN Sherman Oaks
DESCRIPTION:TEN Sherman Oaks for their annual TEN-FL event
URL:https://tenesquire.com/calendar/ten-sherman-oaks/2026-12-08/
LOCATION:Online Meeting
CATEGORIES:Regular Meetings
ATTACH;FMTTYPE=image/jpeg:https://tenesquire.com/wp-content/uploads/2024/03/Sherman-Oaks.jpg
ORGANIZER;CN="TEN%3A The Esquire Network":MAILTO:nathan@tenworking.com
END:VEVENT
BEGIN:VEVENT
DTSTART;TZID=America/Los_Angeles:20270112T120000
DTEND;TZID=America/Los_Angeles:20270112T130000
DTSTAMP:20260423T090150
CREATED:20240329T051741Z
LAST-MODIFIED:20250516T180153Z
UID:10000714-1799755200-1799758800@tenesquire.com
SUMMARY:TEN Sherman Oaks
DESCRIPTION:TEN Sherman Oaks for their annual TEN-FL event
URL:https://tenesquire.com/calendar/ten-sherman-oaks/2027-01-12/
LOCATION:Online Meeting
CATEGORIES:Regular Meetings
ATTACH;FMTTYPE=image/jpeg:https://tenesquire.com/wp-content/uploads/2024/03/Sherman-Oaks.jpg
ORGANIZER;CN="TEN%3A The Esquire Network":MAILTO:nathan@tenworking.com
END:VEVENT
BEGIN:VEVENT
DTSTART;TZID=America/Los_Angeles:20270209T120000
DTEND;TZID=America/Los_Angeles:20270209T130000
DTSTAMP:20260423T090150
CREATED:20240329T051741Z
LAST-MODIFIED:20250516T180153Z
UID:10000715-1802174400-1802178000@tenesquire.com
SUMMARY:TEN Sherman Oaks
DESCRIPTION:TEN Sherman Oaks for their annual TEN-FL event
URL:https://tenesquire.com/calendar/ten-sherman-oaks/2027-02-09/
LOCATION:Online Meeting
CATEGORIES:Regular Meetings
ATTACH;FMTTYPE=image/jpeg:https://tenesquire.com/wp-content/uploads/2024/03/Sherman-Oaks.jpg
ORGANIZER;CN="TEN%3A The Esquire Network":MAILTO:nathan@tenworking.com
END:VEVENT
BEGIN:VEVENT
DTSTART;TZID=America/Los_Angeles:20270309T120000
DTEND;TZID=America/Los_Angeles:20270309T130000
DTSTAMP:20260423T090150
CREATED:20240329T051741Z
LAST-MODIFIED:20250516T180153Z
UID:10000716-1804593600-1804597200@tenesquire.com
SUMMARY:TEN Sherman Oaks
DESCRIPTION:TEN Sherman Oaks for their annual TEN-FL event
URL:https://tenesquire.com/calendar/ten-sherman-oaks/2027-03-09/
LOCATION:Online Meeting
CATEGORIES:Regular Meetings
ATTACH;FMTTYPE=image/jpeg:https://tenesquire.com/wp-content/uploads/2024/03/Sherman-Oaks.jpg
ORGANIZER;CN="TEN%3A The Esquire Network":MAILTO:nathan@tenworking.com
END:VEVENT
BEGIN:VEVENT
DTSTART;TZID=America/Los_Angeles:20270413T120000
DTEND;TZID=America/Los_Angeles:20270413T130000
DTSTAMP:20260423T090150
CREATED:20240329T051741Z
LAST-MODIFIED:20250516T180153Z
UID:10000717-1807617600-1807621200@tenesquire.com
SUMMARY:TEN Sherman Oaks
DESCRIPTION:TEN Sherman Oaks for their annual TEN-FL event
URL:https://tenesquire.com/calendar/ten-sherman-oaks/2027-04-13/
LOCATION:Online Meeting
CATEGORIES:Regular Meetings
ATTACH;FMTTYPE=image/jpeg:https://tenesquire.com/wp-content/uploads/2024/03/Sherman-Oaks.jpg
ORGANIZER;CN="TEN%3A The Esquire Network":MAILTO:nathan@tenworking.com
END:VEVENT
BEGIN:VEVENT
DTSTART;TZID=America/Los_Angeles:20270511T120000
DTEND;TZID=America/Los_Angeles:20270511T130000
DTSTAMP:20260423T090150
CREATED:20240329T051741Z
LAST-MODIFIED:20250516T180153Z
UID:10000718-1810036800-1810040400@tenesquire.com
SUMMARY:TEN Sherman Oaks
DESCRIPTION:TEN Sherman Oaks for their annual TEN-FL event
URL:https://tenesquire.com/calendar/ten-sherman-oaks/2027-05-11/
LOCATION:Online Meeting
CATEGORIES:Regular Meetings
ATTACH;FMTTYPE=image/jpeg:https://tenesquire.com/wp-content/uploads/2024/03/Sherman-Oaks.jpg
ORGANIZER;CN="TEN%3A The Esquire Network":MAILTO:nathan@tenworking.com
END:VEVENT
BEGIN:VEVENT
DTSTART;TZID=America/Los_Angeles:20270608T120000
DTEND;TZID=America/Los_Angeles:20270608T130000
DTSTAMP:20260423T090150
CREATED:20240329T051741Z
LAST-MODIFIED:20250516T180153Z
UID:10000719-1812456000-1812459600@tenesquire.com
SUMMARY:TEN Sherman Oaks
DESCRIPTION:TEN Sherman Oaks for their annual TEN-FL event
URL:https://tenesquire.com/calendar/ten-sherman-oaks/2027-06-08/
LOCATION:Online Meeting
CATEGORIES:Regular Meetings
ATTACH;FMTTYPE=image/jpeg:https://tenesquire.com/wp-content/uploads/2024/03/Sherman-Oaks.jpg
ORGANIZER;CN="TEN%3A The Esquire Network":MAILTO:nathan@tenworking.com
END:VEVENT
BEGIN:VEVENT
DTSTART;TZID=America/Los_Angeles:20270713T120000
DTEND;TZID=America/Los_Angeles:20270713T130000
DTSTAMP:20260423T090150
CREATED:20240329T051741Z
LAST-MODIFIED:20250516T180153Z
UID:10000720-1815480000-1815483600@tenesquire.com
SUMMARY:TEN Sherman Oaks
DESCRIPTION:TEN Sherman Oaks for their annual TEN-FL event
URL:https://tenesquire.com/calendar/ten-sherman-oaks/2027-07-13/
LOCATION:Online Meeting
CATEGORIES:Regular Meetings
ATTACH;FMTTYPE=image/jpeg:https://tenesquire.com/wp-content/uploads/2024/03/Sherman-Oaks.jpg
ORGANIZER;CN="TEN%3A The Esquire Network":MAILTO:nathan@tenworking.com
END:VEVENT
BEGIN:VEVENT
DTSTART;TZID=America/Los_Angeles:20270810T120000
DTEND;TZID=America/Los_Angeles:20270810T130000
DTSTAMP:20260423T090150
CREATED:20240329T051741Z
LAST-MODIFIED:20250516T180153Z
UID:10000721-1817899200-1817902800@tenesquire.com
SUMMARY:TEN Sherman Oaks
DESCRIPTION:TEN Sherman Oaks for their annual TEN-FL event
URL:https://tenesquire.com/calendar/ten-sherman-oaks/2027-08-10/
LOCATION:Online Meeting
CATEGORIES:Regular Meetings
ATTACH;FMTTYPE=image/jpeg:https://tenesquire.com/wp-content/uploads/2024/03/Sherman-Oaks.jpg
ORGANIZER;CN="TEN%3A The Esquire Network":MAILTO:nathan@tenworking.com
END:VEVENT
BEGIN:VEVENT
DTSTART;TZID=America/Los_Angeles:20270914T120000
DTEND;TZID=America/Los_Angeles:20270914T130000
DTSTAMP:20260423T090150
CREATED:20240329T051741Z
LAST-MODIFIED:20250516T180153Z
UID:10000722-1820923200-1820926800@tenesquire.com
SUMMARY:TEN Sherman Oaks
DESCRIPTION:TEN Sherman Oaks for their annual TEN-FL event
URL:https://tenesquire.com/calendar/ten-sherman-oaks/2027-09-14/
LOCATION:Online Meeting
CATEGORIES:Regular Meetings
ATTACH;FMTTYPE=image/jpeg:https://tenesquire.com/wp-content/uploads/2024/03/Sherman-Oaks.jpg
ORGANIZER;CN="TEN%3A The Esquire Network":MAILTO:nathan@tenworking.com
END:VEVENT
BEGIN:VEVENT
DTSTART;TZID=America/Los_Angeles:20271012T120000
DTEND;TZID=America/Los_Angeles:20271012T130000
DTSTAMP:20260423T090150
CREATED:20240329T051741Z
LAST-MODIFIED:20250516T180153Z
UID:10000723-1823342400-1823346000@tenesquire.com
SUMMARY:TEN Sherman Oaks
DESCRIPTION:TEN Sherman Oaks for their annual TEN-FL event
URL:https://tenesquire.com/calendar/ten-sherman-oaks/2027-10-12/
LOCATION:Online Meeting
CATEGORIES:Regular Meetings
ATTACH;FMTTYPE=image/jpeg:https://tenesquire.com/wp-content/uploads/2024/03/Sherman-Oaks.jpg
ORGANIZER;CN="TEN%3A The Esquire Network":MAILTO:nathan@tenworking.com
END:VEVENT
BEGIN:VEVENT
DTSTART;TZID=America/Los_Angeles:20271109T120000
DTEND;TZID=America/Los_Angeles:20271109T130000
DTSTAMP:20260423T090150
CREATED:20240329T051741Z
LAST-MODIFIED:20250516T180153Z
UID:10000724-1825761600-1825765200@tenesquire.com
SUMMARY:TEN Sherman Oaks
DESCRIPTION:TEN Sherman Oaks for their annual TEN-FL event
URL:https://tenesquire.com/calendar/ten-sherman-oaks/2027-11-09/
LOCATION:Online Meeting
CATEGORIES:Regular Meetings
ATTACH;FMTTYPE=image/jpeg:https://tenesquire.com/wp-content/uploads/2024/03/Sherman-Oaks.jpg
ORGANIZER;CN="TEN%3A The Esquire Network":MAILTO:nathan@tenworking.com
END:VEVENT
BEGIN:VEVENT
DTSTART;TZID=America/Los_Angeles:20271214T120000
DTEND;TZID=America/Los_Angeles:20271214T130000
DTSTAMP:20260423T090150
CREATED:20240329T051741Z
LAST-MODIFIED:20250516T180153Z
UID:10000725-1828785600-1828789200@tenesquire.com
SUMMARY:TEN Sherman Oaks
DESCRIPTION:TEN Sherman Oaks for their annual TEN-FL event
URL:https://tenesquire.com/calendar/ten-sherman-oaks/2027-12-14/
LOCATION:Online Meeting
CATEGORIES:Regular Meetings
ATTACH;FMTTYPE=image/jpeg:https://tenesquire.com/wp-content/uploads/2024/03/Sherman-Oaks.jpg
ORGANIZER;CN="TEN%3A The Esquire Network":MAILTO:nathan@tenworking.com
END:VEVENT
BEGIN:VEVENT
DTSTART;TZID=America/Los_Angeles:20280111T120000
DTEND;TZID=America/Los_Angeles:20280111T130000
DTSTAMP:20260423T090150
CREATED:20240329T051741Z
LAST-MODIFIED:20250516T180153Z
UID:10000726-1831204800-1831208400@tenesquire.com
SUMMARY:TEN Sherman Oaks
DESCRIPTION:TEN Sherman Oaks for their annual TEN-FL event
URL:https://tenesquire.com/calendar/ten-sherman-oaks/2028-01-11/
LOCATION:Online Meeting
CATEGORIES:Regular Meetings
ATTACH;FMTTYPE=image/jpeg:https://tenesquire.com/wp-content/uploads/2024/03/Sherman-Oaks.jpg
ORGANIZER;CN="TEN%3A The Esquire Network":MAILTO:nathan@tenworking.com
END:VEVENT
BEGIN:VEVENT
DTSTART;TZID=America/Los_Angeles:20280208T120000
DTEND;TZID=America/Los_Angeles:20280208T130000
DTSTAMP:20260423T090150
CREATED:20240329T051741Z
LAST-MODIFIED:20250516T180153Z
UID:10000727-1833624000-1833627600@tenesquire.com
SUMMARY:TEN Sherman Oaks
DESCRIPTION:TEN Sherman Oaks for their annual TEN-FL event
URL:https://tenesquire.com/calendar/ten-sherman-oaks/2028-02-08/
LOCATION:Online Meeting
CATEGORIES:Regular Meetings
ATTACH;FMTTYPE=image/jpeg:https://tenesquire.com/wp-content/uploads/2024/03/Sherman-Oaks.jpg
ORGANIZER;CN="TEN%3A The Esquire Network":MAILTO:nathan@tenworking.com
END:VEVENT
BEGIN:VEVENT
DTSTART;TZID=America/Los_Angeles:20280314T120000
DTEND;TZID=America/Los_Angeles:20280314T130000
DTSTAMP:20260423T090150
CREATED:20240329T051741Z
LAST-MODIFIED:20250516T180153Z
UID:10000728-1836648000-1836651600@tenesquire.com
SUMMARY:TEN Sherman Oaks
DESCRIPTION:TEN Sherman Oaks for their annual TEN-FL event
URL:https://tenesquire.com/calendar/ten-sherman-oaks/2028-03-14/
LOCATION:Online Meeting
CATEGORIES:Regular Meetings
ATTACH;FMTTYPE=image/jpeg:https://tenesquire.com/wp-content/uploads/2024/03/Sherman-Oaks.jpg
ORGANIZER;CN="TEN%3A The Esquire Network":MAILTO:nathan@tenworking.com
END:VEVENT
BEGIN:VEVENT
DTSTART;TZID=America/Los_Angeles:20280411T120000
DTEND;TZID=America/Los_Angeles:20280411T130000
DTSTAMP:20260423T090150
CREATED:20240329T051741Z
LAST-MODIFIED:20250516T180153Z
UID:10000729-1839067200-1839070800@tenesquire.com
SUMMARY:TEN Sherman Oaks
DESCRIPTION:TEN Sherman Oaks for their annual TEN-FL event
URL:https://tenesquire.com/calendar/ten-sherman-oaks/2028-04-11/
LOCATION:Online Meeting
CATEGORIES:Regular Meetings
ATTACH;FMTTYPE=image/jpeg:https://tenesquire.com/wp-content/uploads/2024/03/Sherman-Oaks.jpg
ORGANIZER;CN="TEN%3A The Esquire Network":MAILTO:nathan@tenworking.com
END:VEVENT
BEGIN:VEVENT
DTSTART;TZID=America/Los_Angeles:20280509T120000
DTEND;TZID=America/Los_Angeles:20280509T130000
DTSTAMP:20260423T090150
CREATED:20240329T051741Z
LAST-MODIFIED:20250516T180153Z
UID:10000730-1841486400-1841490000@tenesquire.com
SUMMARY:TEN Sherman Oaks
DESCRIPTION:TEN Sherman Oaks for their annual TEN-FL event
URL:https://tenesquire.com/calendar/ten-sherman-oaks/2028-05-09/
LOCATION:Online Meeting
CATEGORIES:Regular Meetings
ATTACH;FMTTYPE=image/jpeg:https://tenesquire.com/wp-content/uploads/2024/03/Sherman-Oaks.jpg
ORGANIZER;CN="TEN%3A The Esquire Network":MAILTO:nathan@tenworking.com
END:VEVENT
BEGIN:VEVENT
DTSTART;TZID=America/Los_Angeles:20280613T120000
DTEND;TZID=America/Los_Angeles:20280613T130000
DTSTAMP:20260423T090150
CREATED:20240329T051741Z
LAST-MODIFIED:20250516T180153Z
UID:10000731-1844510400-1844514000@tenesquire.com
SUMMARY:TEN Sherman Oaks
DESCRIPTION:TEN Sherman Oaks for their annual TEN-FL event
URL:https://tenesquire.com/calendar/ten-sherman-oaks/2028-06-13/
LOCATION:Online Meeting
CATEGORIES:Regular Meetings
ATTACH;FMTTYPE=image/jpeg:https://tenesquire.com/wp-content/uploads/2024/03/Sherman-Oaks.jpg
ORGANIZER;CN="TEN%3A The Esquire Network":MAILTO:nathan@tenworking.com
END:VEVENT
BEGIN:VEVENT
DTSTART;TZID=America/Los_Angeles:20280711T120000
DTEND;TZID=America/Los_Angeles:20280711T130000
DTSTAMP:20260423T090150
CREATED:20240329T051741Z
LAST-MODIFIED:20250516T180153Z
UID:10000732-1846929600-1846933200@tenesquire.com
SUMMARY:TEN Sherman Oaks
DESCRIPTION:TEN Sherman Oaks for their annual TEN-FL event
URL:https://tenesquire.com/calendar/ten-sherman-oaks/2028-07-11/
LOCATION:Online Meeting
CATEGORIES:Regular Meetings
ATTACH;FMTTYPE=image/jpeg:https://tenesquire.com/wp-content/uploads/2024/03/Sherman-Oaks.jpg
ORGANIZER;CN="TEN%3A The Esquire Network":MAILTO:nathan@tenworking.com
END:VEVENT
BEGIN:VEVENT
DTSTART;TZID=America/Los_Angeles:20280808T120000
DTEND;TZID=America/Los_Angeles:20280808T130000
DTSTAMP:20260423T090150
CREATED:20240329T051741Z
LAST-MODIFIED:20250516T180153Z
UID:10000733-1849348800-1849352400@tenesquire.com
SUMMARY:TEN Sherman Oaks
DESCRIPTION:TEN Sherman Oaks for their annual TEN-FL event
URL:https://tenesquire.com/calendar/ten-sherman-oaks/2028-08-08/
LOCATION:Online Meeting
CATEGORIES:Regular Meetings
ATTACH;FMTTYPE=image/jpeg:https://tenesquire.com/wp-content/uploads/2024/03/Sherman-Oaks.jpg
ORGANIZER;CN="TEN%3A The Esquire Network":MAILTO:nathan@tenworking.com
END:VEVENT
BEGIN:VEVENT
DTSTART;TZID=America/Los_Angeles:20280912T120000
DTEND;TZID=America/Los_Angeles:20280912T130000
DTSTAMP:20260423T090150
CREATED:20240329T051741Z
LAST-MODIFIED:20250516T180153Z
UID:10000734-1852372800-1852376400@tenesquire.com
SUMMARY:TEN Sherman Oaks
DESCRIPTION:TEN Sherman Oaks for their annual TEN-FL event
URL:https://tenesquire.com/calendar/ten-sherman-oaks/2028-09-12/
LOCATION:Online Meeting
CATEGORIES:Regular Meetings
ATTACH;FMTTYPE=image/jpeg:https://tenesquire.com/wp-content/uploads/2024/03/Sherman-Oaks.jpg
ORGANIZER;CN="TEN%3A The Esquire Network":MAILTO:nathan@tenworking.com
END:VEVENT
BEGIN:VEVENT
DTSTART;TZID=America/Los_Angeles:20281010T120000
DTEND;TZID=America/Los_Angeles:20281010T130000
DTSTAMP:20260423T090150
CREATED:20240329T051741Z
LAST-MODIFIED:20250516T180153Z
UID:10000735-1854792000-1854795600@tenesquire.com
SUMMARY:TEN Sherman Oaks
DESCRIPTION:TEN Sherman Oaks for their annual TEN-FL event
URL:https://tenesquire.com/calendar/ten-sherman-oaks/2028-10-10/
LOCATION:Online Meeting
CATEGORIES:Regular Meetings
ATTACH;FMTTYPE=image/jpeg:https://tenesquire.com/wp-content/uploads/2024/03/Sherman-Oaks.jpg
ORGANIZER;CN="TEN%3A The Esquire Network":MAILTO:nathan@tenworking.com
END:VEVENT
END:VCALENDAR