BEGIN:VCALENDAR
VERSION:2.0
PRODID:-//TEN: The Esquire Network - ECPv6.15.15//NONSGML v1.0//EN
CALSCALE:GREGORIAN
METHOD:PUBLISH
X-WR-CALNAME:TEN: The Esquire Network
X-ORIGINAL-URL:https://tenesquire.com
X-WR-CALDESC:Events for TEN: The Esquire Network
REFRESH-INTERVAL;VALUE=DURATION:PT1H
X-Robots-Tag:noindex
X-PUBLISHED-TTL:PT1H
BEGIN:VTIMEZONE
TZID:America/Los_Angeles
BEGIN:DAYLIGHT
TZOFFSETFROM:-0800
TZOFFSETTO:-0700
TZNAME:PDT
DTSTART:20250309T100000
END:DAYLIGHT
BEGIN:STANDARD
TZOFFSETFROM:-0700
TZOFFSETTO:-0800
TZNAME:PST
DTSTART:20251102T090000
END:STANDARD
BEGIN:DAYLIGHT
TZOFFSETFROM:-0800
TZOFFSETTO:-0700
TZNAME:PDT
DTSTART:20260308T100000
END:DAYLIGHT
BEGIN:STANDARD
TZOFFSETFROM:-0700
TZOFFSETTO:-0800
TZNAME:PST
DTSTART:20261101T090000
END:STANDARD
BEGIN:DAYLIGHT
TZOFFSETFROM:-0800
TZOFFSETTO:-0700
TZNAME:PDT
DTSTART:20270314T100000
END:DAYLIGHT
BEGIN:STANDARD
TZOFFSETFROM:-0700
TZOFFSETTO:-0800
TZNAME:PST
DTSTART:20271107T090000
END:STANDARD
BEGIN:DAYLIGHT
TZOFFSETFROM:-0800
TZOFFSETTO:-0700
TZNAME:PDT
DTSTART:20280312T100000
END:DAYLIGHT
BEGIN:STANDARD
TZOFFSETFROM:-0700
TZOFFSETTO:-0800
TZNAME:PST
DTSTART:20281105T090000
END:STANDARD
BEGIN:DAYLIGHT
TZOFFSETFROM:-0800
TZOFFSETTO:-0700
TZNAME:PDT
DTSTART:20290311T100000
END:DAYLIGHT
BEGIN:STANDARD
TZOFFSETFROM:-0700
TZOFFSETTO:-0800
TZNAME:PST
DTSTART:20291104T090000
END:STANDARD
END:VTIMEZONE
BEGIN:VEVENT
DTSTART;TZID=America/Los_Angeles:20260501T070000
DTEND;TZID=America/Los_Angeles:20260501T083000
DTSTAMP:20260423T090144
CREATED:20260420T181819Z
LAST-MODIFIED:20260420T181900Z
UID:10000586-1777618800-1777624200@tenesquire.com
SUMMARY:TEN Pasadena
DESCRIPTION:
URL:https://tenesquire.com/calendar/ten-pasadena-2026-05-01/
LOCATION:Lagerlof LLP\, 155 N. Lake Ave.\, Pasadena\, CA\, 91101\, United States
CATEGORIES:Regular Meetings
ATTACH;FMTTYPE=image/jpeg:https://tenesquire.com/wp-content/uploads/2024/03/Pasadena.jpg
ORGANIZER;CN="TEN%3A The Esquire Network":MAILTO:nathan@tenworking.com
GEO:34.1484824;-118.1327948
X-APPLE-STRUCTURED-LOCATION;VALUE=URI;X-ADDRESS=Lagerlof LLP 155 N. Lake Ave. Pasadena CA 91101 United States;X-APPLE-RADIUS=500;X-TITLE=155 N. Lake Ave.:geo:-118.1327948,34.1484824
END:VEVENT
BEGIN:VEVENT
DTSTART;TZID=America/Los_Angeles:20260605T070000
DTEND;TZID=America/Los_Angeles:20260605T083000
DTSTAMP:20260423T090144
CREATED:20240329T051441Z
LAST-MODIFIED:20240329T051441Z
UID:10000587-1780642800-1780648200@tenesquire.com
SUMMARY:TEN Pasadena
DESCRIPTION:
URL:https://tenesquire.com/calendar/ten-pasadena/2026-06-05/
LOCATION:Lagerlof LLP\, 155 N. Lake Ave.\, Pasadena\, CA\, 91101\, United States
CATEGORIES:Regular Meetings
ATTACH;FMTTYPE=image/jpeg:https://tenesquire.com/wp-content/uploads/2024/03/Pasadena.jpg
ORGANIZER;CN="TEN%3A The Esquire Network":MAILTO:nathan@tenworking.com
GEO:34.1484824;-118.1327948
X-APPLE-STRUCTURED-LOCATION;VALUE=URI;X-ADDRESS=Lagerlof LLP 155 N. Lake Ave. Pasadena CA 91101 United States;X-APPLE-RADIUS=500;X-TITLE=155 N. Lake Ave.:geo:-118.1327948,34.1484824
END:VEVENT
BEGIN:VEVENT
DTSTART;TZID=America/Los_Angeles:20260703T070000
DTEND;TZID=America/Los_Angeles:20260703T083000
DTSTAMP:20260423T090144
CREATED:20240329T051441Z
LAST-MODIFIED:20240329T051441Z
UID:10000588-1783062000-1783067400@tenesquire.com
SUMMARY:TEN Pasadena
DESCRIPTION:
URL:https://tenesquire.com/calendar/ten-pasadena/2026-07-03/
LOCATION:Lagerlof LLP\, 155 N. Lake Ave.\, Pasadena\, CA\, 91101\, United States
CATEGORIES:Regular Meetings
ATTACH;FMTTYPE=image/jpeg:https://tenesquire.com/wp-content/uploads/2024/03/Pasadena.jpg
ORGANIZER;CN="TEN%3A The Esquire Network":MAILTO:nathan@tenworking.com
GEO:34.1484824;-118.1327948
X-APPLE-STRUCTURED-LOCATION;VALUE=URI;X-ADDRESS=Lagerlof LLP 155 N. Lake Ave. Pasadena CA 91101 United States;X-APPLE-RADIUS=500;X-TITLE=155 N. Lake Ave.:geo:-118.1327948,34.1484824
END:VEVENT
BEGIN:VEVENT
DTSTART;TZID=America/Los_Angeles:20260807T070000
DTEND;TZID=America/Los_Angeles:20260807T083000
DTSTAMP:20260423T090144
CREATED:20240329T051441Z
LAST-MODIFIED:20240329T051441Z
UID:10000589-1786086000-1786091400@tenesquire.com
SUMMARY:TEN Pasadena
DESCRIPTION:
URL:https://tenesquire.com/calendar/ten-pasadena/2026-08-07/
LOCATION:Lagerlof LLP\, 155 N. Lake Ave.\, Pasadena\, CA\, 91101\, United States
CATEGORIES:Regular Meetings
ATTACH;FMTTYPE=image/jpeg:https://tenesquire.com/wp-content/uploads/2024/03/Pasadena.jpg
ORGANIZER;CN="TEN%3A The Esquire Network":MAILTO:nathan@tenworking.com
GEO:34.1484824;-118.1327948
X-APPLE-STRUCTURED-LOCATION;VALUE=URI;X-ADDRESS=Lagerlof LLP 155 N. Lake Ave. Pasadena CA 91101 United States;X-APPLE-RADIUS=500;X-TITLE=155 N. Lake Ave.:geo:-118.1327948,34.1484824
END:VEVENT
BEGIN:VEVENT
DTSTART;TZID=America/Los_Angeles:20260904T070000
DTEND;TZID=America/Los_Angeles:20260904T083000
DTSTAMP:20260423T090144
CREATED:20240329T051441Z
LAST-MODIFIED:20240329T051441Z
UID:10000590-1788505200-1788510600@tenesquire.com
SUMMARY:TEN Pasadena
DESCRIPTION:
URL:https://tenesquire.com/calendar/ten-pasadena/2026-09-04/
LOCATION:Lagerlof LLP\, 155 N. Lake Ave.\, Pasadena\, CA\, 91101\, United States
CATEGORIES:Regular Meetings
ATTACH;FMTTYPE=image/jpeg:https://tenesquire.com/wp-content/uploads/2024/03/Pasadena.jpg
ORGANIZER;CN="TEN%3A The Esquire Network":MAILTO:nathan@tenworking.com
GEO:34.1484824;-118.1327948
X-APPLE-STRUCTURED-LOCATION;VALUE=URI;X-ADDRESS=Lagerlof LLP 155 N. Lake Ave. Pasadena CA 91101 United States;X-APPLE-RADIUS=500;X-TITLE=155 N. Lake Ave.:geo:-118.1327948,34.1484824
END:VEVENT
BEGIN:VEVENT
DTSTART;TZID=America/Los_Angeles:20261002T070000
DTEND;TZID=America/Los_Angeles:20261002T083000
DTSTAMP:20260423T090144
CREATED:20240329T051441Z
LAST-MODIFIED:20240329T051441Z
UID:10000591-1790924400-1790929800@tenesquire.com
SUMMARY:TEN Pasadena
DESCRIPTION:
URL:https://tenesquire.com/calendar/ten-pasadena/2026-10-02/
LOCATION:Lagerlof LLP\, 155 N. Lake Ave.\, Pasadena\, CA\, 91101\, United States
CATEGORIES:Regular Meetings
ATTACH;FMTTYPE=image/jpeg:https://tenesquire.com/wp-content/uploads/2024/03/Pasadena.jpg
ORGANIZER;CN="TEN%3A The Esquire Network":MAILTO:nathan@tenworking.com
GEO:34.1484824;-118.1327948
X-APPLE-STRUCTURED-LOCATION;VALUE=URI;X-ADDRESS=Lagerlof LLP 155 N. Lake Ave. Pasadena CA 91101 United States;X-APPLE-RADIUS=500;X-TITLE=155 N. Lake Ave.:geo:-118.1327948,34.1484824
END:VEVENT
BEGIN:VEVENT
DTSTART;TZID=America/Los_Angeles:20261106T070000
DTEND;TZID=America/Los_Angeles:20261106T083000
DTSTAMP:20260423T090144
CREATED:20240329T051441Z
LAST-MODIFIED:20240329T051441Z
UID:10000592-1793948400-1793953800@tenesquire.com
SUMMARY:TEN Pasadena
DESCRIPTION:
URL:https://tenesquire.com/calendar/ten-pasadena/2026-11-06/
LOCATION:Lagerlof LLP\, 155 N. Lake Ave.\, Pasadena\, CA\, 91101\, United States
CATEGORIES:Regular Meetings
ATTACH;FMTTYPE=image/jpeg:https://tenesquire.com/wp-content/uploads/2024/03/Pasadena.jpg
ORGANIZER;CN="TEN%3A The Esquire Network":MAILTO:nathan@tenworking.com
GEO:34.1484824;-118.1327948
X-APPLE-STRUCTURED-LOCATION;VALUE=URI;X-ADDRESS=Lagerlof LLP 155 N. Lake Ave. Pasadena CA 91101 United States;X-APPLE-RADIUS=500;X-TITLE=155 N. Lake Ave.:geo:-118.1327948,34.1484824
END:VEVENT
BEGIN:VEVENT
DTSTART;TZID=America/Los_Angeles:20261204T070000
DTEND;TZID=America/Los_Angeles:20261204T083000
DTSTAMP:20260423T090144
CREATED:20240329T051441Z
LAST-MODIFIED:20240329T051441Z
UID:10000593-1796367600-1796373000@tenesquire.com
SUMMARY:TEN Pasadena
DESCRIPTION:
URL:https://tenesquire.com/calendar/ten-pasadena/2026-12-04/
LOCATION:Lagerlof LLP\, 155 N. Lake Ave.\, Pasadena\, CA\, 91101\, United States
CATEGORIES:Regular Meetings
ATTACH;FMTTYPE=image/jpeg:https://tenesquire.com/wp-content/uploads/2024/03/Pasadena.jpg
ORGANIZER;CN="TEN%3A The Esquire Network":MAILTO:nathan@tenworking.com
GEO:34.1484824;-118.1327948
X-APPLE-STRUCTURED-LOCATION;VALUE=URI;X-ADDRESS=Lagerlof LLP 155 N. Lake Ave. Pasadena CA 91101 United States;X-APPLE-RADIUS=500;X-TITLE=155 N. Lake Ave.:geo:-118.1327948,34.1484824
END:VEVENT
BEGIN:VEVENT
DTSTART;TZID=America/Los_Angeles:20270101T070000
DTEND;TZID=America/Los_Angeles:20270101T083000
DTSTAMP:20260423T090144
CREATED:20240329T051441Z
LAST-MODIFIED:20240329T051441Z
UID:10000594-1798786800-1798792200@tenesquire.com
SUMMARY:TEN Pasadena
DESCRIPTION:
URL:https://tenesquire.com/calendar/ten-pasadena/2027-01-01/
LOCATION:Lagerlof LLP\, 155 N. Lake Ave.\, Pasadena\, CA\, 91101\, United States
CATEGORIES:Regular Meetings
ATTACH;FMTTYPE=image/jpeg:https://tenesquire.com/wp-content/uploads/2024/03/Pasadena.jpg
ORGANIZER;CN="TEN%3A The Esquire Network":MAILTO:nathan@tenworking.com
GEO:34.1484824;-118.1327948
X-APPLE-STRUCTURED-LOCATION;VALUE=URI;X-ADDRESS=Lagerlof LLP 155 N. Lake Ave. Pasadena CA 91101 United States;X-APPLE-RADIUS=500;X-TITLE=155 N. Lake Ave.:geo:-118.1327948,34.1484824
END:VEVENT
BEGIN:VEVENT
DTSTART;TZID=America/Los_Angeles:20270205T070000
DTEND;TZID=America/Los_Angeles:20270205T083000
DTSTAMP:20260423T090144
CREATED:20240329T051441Z
LAST-MODIFIED:20240329T051441Z
UID:10000595-1801810800-1801816200@tenesquire.com
SUMMARY:TEN Pasadena
DESCRIPTION:
URL:https://tenesquire.com/calendar/ten-pasadena/2027-02-05/
LOCATION:Lagerlof LLP\, 155 N. Lake Ave.\, Pasadena\, CA\, 91101\, United States
CATEGORIES:Regular Meetings
ATTACH;FMTTYPE=image/jpeg:https://tenesquire.com/wp-content/uploads/2024/03/Pasadena.jpg
ORGANIZER;CN="TEN%3A The Esquire Network":MAILTO:nathan@tenworking.com
GEO:34.1484824;-118.1327948
X-APPLE-STRUCTURED-LOCATION;VALUE=URI;X-ADDRESS=Lagerlof LLP 155 N. Lake Ave. Pasadena CA 91101 United States;X-APPLE-RADIUS=500;X-TITLE=155 N. Lake Ave.:geo:-118.1327948,34.1484824
END:VEVENT
BEGIN:VEVENT
DTSTART;TZID=America/Los_Angeles:20270305T070000
DTEND;TZID=America/Los_Angeles:20270305T083000
DTSTAMP:20260423T090144
CREATED:20240329T051441Z
LAST-MODIFIED:20240329T051441Z
UID:10000596-1804230000-1804235400@tenesquire.com
SUMMARY:TEN Pasadena
DESCRIPTION:
URL:https://tenesquire.com/calendar/ten-pasadena/2027-03-05/
LOCATION:Lagerlof LLP\, 155 N. Lake Ave.\, Pasadena\, CA\, 91101\, United States
CATEGORIES:Regular Meetings
ATTACH;FMTTYPE=image/jpeg:https://tenesquire.com/wp-content/uploads/2024/03/Pasadena.jpg
ORGANIZER;CN="TEN%3A The Esquire Network":MAILTO:nathan@tenworking.com
GEO:34.1484824;-118.1327948
X-APPLE-STRUCTURED-LOCATION;VALUE=URI;X-ADDRESS=Lagerlof LLP 155 N. Lake Ave. Pasadena CA 91101 United States;X-APPLE-RADIUS=500;X-TITLE=155 N. Lake Ave.:geo:-118.1327948,34.1484824
END:VEVENT
BEGIN:VEVENT
DTSTART;TZID=America/Los_Angeles:20270402T070000
DTEND;TZID=America/Los_Angeles:20270402T083000
DTSTAMP:20260423T090144
CREATED:20240329T051441Z
LAST-MODIFIED:20240329T051441Z
UID:10000597-1806649200-1806654600@tenesquire.com
SUMMARY:TEN Pasadena
DESCRIPTION:
URL:https://tenesquire.com/calendar/ten-pasadena/2027-04-02/
LOCATION:Lagerlof LLP\, 155 N. Lake Ave.\, Pasadena\, CA\, 91101\, United States
CATEGORIES:Regular Meetings
ATTACH;FMTTYPE=image/jpeg:https://tenesquire.com/wp-content/uploads/2024/03/Pasadena.jpg
ORGANIZER;CN="TEN%3A The Esquire Network":MAILTO:nathan@tenworking.com
GEO:34.1484824;-118.1327948
X-APPLE-STRUCTURED-LOCATION;VALUE=URI;X-ADDRESS=Lagerlof LLP 155 N. Lake Ave. Pasadena CA 91101 United States;X-APPLE-RADIUS=500;X-TITLE=155 N. Lake Ave.:geo:-118.1327948,34.1484824
END:VEVENT
BEGIN:VEVENT
DTSTART;TZID=America/Los_Angeles:20270507T070000
DTEND;TZID=America/Los_Angeles:20270507T083000
DTSTAMP:20260423T090144
CREATED:20240329T051441Z
LAST-MODIFIED:20240329T051441Z
UID:10000598-1809673200-1809678600@tenesquire.com
SUMMARY:TEN Pasadena
DESCRIPTION:
URL:https://tenesquire.com/calendar/ten-pasadena/2027-05-07/
LOCATION:Lagerlof LLP\, 155 N. Lake Ave.\, Pasadena\, CA\, 91101\, United States
CATEGORIES:Regular Meetings
ATTACH;FMTTYPE=image/jpeg:https://tenesquire.com/wp-content/uploads/2024/03/Pasadena.jpg
ORGANIZER;CN="TEN%3A The Esquire Network":MAILTO:nathan@tenworking.com
GEO:34.1484824;-118.1327948
X-APPLE-STRUCTURED-LOCATION;VALUE=URI;X-ADDRESS=Lagerlof LLP 155 N. Lake Ave. Pasadena CA 91101 United States;X-APPLE-RADIUS=500;X-TITLE=155 N. Lake Ave.:geo:-118.1327948,34.1484824
END:VEVENT
BEGIN:VEVENT
DTSTART;TZID=America/Los_Angeles:20270604T070000
DTEND;TZID=America/Los_Angeles:20270604T083000
DTSTAMP:20260423T090144
CREATED:20240329T051441Z
LAST-MODIFIED:20240329T051441Z
UID:10000599-1812092400-1812097800@tenesquire.com
SUMMARY:TEN Pasadena
DESCRIPTION:
URL:https://tenesquire.com/calendar/ten-pasadena/2027-06-04/
LOCATION:Lagerlof LLP\, 155 N. Lake Ave.\, Pasadena\, CA\, 91101\, United States
CATEGORIES:Regular Meetings
ATTACH;FMTTYPE=image/jpeg:https://tenesquire.com/wp-content/uploads/2024/03/Pasadena.jpg
ORGANIZER;CN="TEN%3A The Esquire Network":MAILTO:nathan@tenworking.com
GEO:34.1484824;-118.1327948
X-APPLE-STRUCTURED-LOCATION;VALUE=URI;X-ADDRESS=Lagerlof LLP 155 N. Lake Ave. Pasadena CA 91101 United States;X-APPLE-RADIUS=500;X-TITLE=155 N. Lake Ave.:geo:-118.1327948,34.1484824
END:VEVENT
BEGIN:VEVENT
DTSTART;TZID=America/Los_Angeles:20270702T070000
DTEND;TZID=America/Los_Angeles:20270702T083000
DTSTAMP:20260423T090144
CREATED:20240329T051441Z
LAST-MODIFIED:20240329T051441Z
UID:10000600-1814511600-1814517000@tenesquire.com
SUMMARY:TEN Pasadena
DESCRIPTION:
URL:https://tenesquire.com/calendar/ten-pasadena/2027-07-02/
LOCATION:Lagerlof LLP\, 155 N. Lake Ave.\, Pasadena\, CA\, 91101\, United States
CATEGORIES:Regular Meetings
ATTACH;FMTTYPE=image/jpeg:https://tenesquire.com/wp-content/uploads/2024/03/Pasadena.jpg
ORGANIZER;CN="TEN%3A The Esquire Network":MAILTO:nathan@tenworking.com
GEO:34.1484824;-118.1327948
X-APPLE-STRUCTURED-LOCATION;VALUE=URI;X-ADDRESS=Lagerlof LLP 155 N. Lake Ave. Pasadena CA 91101 United States;X-APPLE-RADIUS=500;X-TITLE=155 N. Lake Ave.:geo:-118.1327948,34.1484824
END:VEVENT
BEGIN:VEVENT
DTSTART;TZID=America/Los_Angeles:20270806T070000
DTEND;TZID=America/Los_Angeles:20270806T083000
DTSTAMP:20260423T090144
CREATED:20240329T051441Z
LAST-MODIFIED:20240329T051441Z
UID:10000601-1817535600-1817541000@tenesquire.com
SUMMARY:TEN Pasadena
DESCRIPTION:
URL:https://tenesquire.com/calendar/ten-pasadena/2027-08-06/
LOCATION:Lagerlof LLP\, 155 N. Lake Ave.\, Pasadena\, CA\, 91101\, United States
CATEGORIES:Regular Meetings
ATTACH;FMTTYPE=image/jpeg:https://tenesquire.com/wp-content/uploads/2024/03/Pasadena.jpg
ORGANIZER;CN="TEN%3A The Esquire Network":MAILTO:nathan@tenworking.com
GEO:34.1484824;-118.1327948
X-APPLE-STRUCTURED-LOCATION;VALUE=URI;X-ADDRESS=Lagerlof LLP 155 N. Lake Ave. Pasadena CA 91101 United States;X-APPLE-RADIUS=500;X-TITLE=155 N. Lake Ave.:geo:-118.1327948,34.1484824
END:VEVENT
BEGIN:VEVENT
DTSTART;TZID=America/Los_Angeles:20270903T070000
DTEND;TZID=America/Los_Angeles:20270903T083000
DTSTAMP:20260423T090144
CREATED:20240329T051441Z
LAST-MODIFIED:20240329T051441Z
UID:10000602-1819954800-1819960200@tenesquire.com
SUMMARY:TEN Pasadena
DESCRIPTION:
URL:https://tenesquire.com/calendar/ten-pasadena/2027-09-03/
LOCATION:Lagerlof LLP\, 155 N. Lake Ave.\, Pasadena\, CA\, 91101\, United States
CATEGORIES:Regular Meetings
ATTACH;FMTTYPE=image/jpeg:https://tenesquire.com/wp-content/uploads/2024/03/Pasadena.jpg
ORGANIZER;CN="TEN%3A The Esquire Network":MAILTO:nathan@tenworking.com
GEO:34.1484824;-118.1327948
X-APPLE-STRUCTURED-LOCATION;VALUE=URI;X-ADDRESS=Lagerlof LLP 155 N. Lake Ave. Pasadena CA 91101 United States;X-APPLE-RADIUS=500;X-TITLE=155 N. Lake Ave.:geo:-118.1327948,34.1484824
END:VEVENT
BEGIN:VEVENT
DTSTART;TZID=America/Los_Angeles:20271001T070000
DTEND;TZID=America/Los_Angeles:20271001T083000
DTSTAMP:20260423T090144
CREATED:20240329T051441Z
LAST-MODIFIED:20240329T051441Z
UID:10000603-1822374000-1822379400@tenesquire.com
SUMMARY:TEN Pasadena
DESCRIPTION:
URL:https://tenesquire.com/calendar/ten-pasadena/2027-10-01/
LOCATION:Lagerlof LLP\, 155 N. Lake Ave.\, Pasadena\, CA\, 91101\, United States
CATEGORIES:Regular Meetings
ATTACH;FMTTYPE=image/jpeg:https://tenesquire.com/wp-content/uploads/2024/03/Pasadena.jpg
ORGANIZER;CN="TEN%3A The Esquire Network":MAILTO:nathan@tenworking.com
GEO:34.1484824;-118.1327948
X-APPLE-STRUCTURED-LOCATION;VALUE=URI;X-ADDRESS=Lagerlof LLP 155 N. Lake Ave. Pasadena CA 91101 United States;X-APPLE-RADIUS=500;X-TITLE=155 N. Lake Ave.:geo:-118.1327948,34.1484824
END:VEVENT
BEGIN:VEVENT
DTSTART;TZID=America/Los_Angeles:20271105T070000
DTEND;TZID=America/Los_Angeles:20271105T083000
DTSTAMP:20260423T090144
CREATED:20240329T051441Z
LAST-MODIFIED:20240329T051441Z
UID:10000604-1825398000-1825403400@tenesquire.com
SUMMARY:TEN Pasadena
DESCRIPTION:
URL:https://tenesquire.com/calendar/ten-pasadena/2027-11-05/
LOCATION:Lagerlof LLP\, 155 N. Lake Ave.\, Pasadena\, CA\, 91101\, United States
CATEGORIES:Regular Meetings
ATTACH;FMTTYPE=image/jpeg:https://tenesquire.com/wp-content/uploads/2024/03/Pasadena.jpg
ORGANIZER;CN="TEN%3A The Esquire Network":MAILTO:nathan@tenworking.com
GEO:34.1484824;-118.1327948
X-APPLE-STRUCTURED-LOCATION;VALUE=URI;X-ADDRESS=Lagerlof LLP 155 N. Lake Ave. Pasadena CA 91101 United States;X-APPLE-RADIUS=500;X-TITLE=155 N. Lake Ave.:geo:-118.1327948,34.1484824
END:VEVENT
BEGIN:VEVENT
DTSTART;TZID=America/Los_Angeles:20271203T070000
DTEND;TZID=America/Los_Angeles:20271203T083000
DTSTAMP:20260423T090144
CREATED:20240329T051441Z
LAST-MODIFIED:20240329T051441Z
UID:10000605-1827817200-1827822600@tenesquire.com
SUMMARY:TEN Pasadena
DESCRIPTION:
URL:https://tenesquire.com/calendar/ten-pasadena/2027-12-03/
LOCATION:Lagerlof LLP\, 155 N. Lake Ave.\, Pasadena\, CA\, 91101\, United States
CATEGORIES:Regular Meetings
ATTACH;FMTTYPE=image/jpeg:https://tenesquire.com/wp-content/uploads/2024/03/Pasadena.jpg
ORGANIZER;CN="TEN%3A The Esquire Network":MAILTO:nathan@tenworking.com
GEO:34.1484824;-118.1327948
X-APPLE-STRUCTURED-LOCATION;VALUE=URI;X-ADDRESS=Lagerlof LLP 155 N. Lake Ave. Pasadena CA 91101 United States;X-APPLE-RADIUS=500;X-TITLE=155 N. Lake Ave.:geo:-118.1327948,34.1484824
END:VEVENT
BEGIN:VEVENT
DTSTART;TZID=America/Los_Angeles:20280107T070000
DTEND;TZID=America/Los_Angeles:20280107T083000
DTSTAMP:20260423T090144
CREATED:20240329T051441Z
LAST-MODIFIED:20240329T051441Z
UID:10000606-1830841200-1830846600@tenesquire.com
SUMMARY:TEN Pasadena
DESCRIPTION:
URL:https://tenesquire.com/calendar/ten-pasadena/2028-01-07/
LOCATION:Lagerlof LLP\, 155 N. Lake Ave.\, Pasadena\, CA\, 91101\, United States
CATEGORIES:Regular Meetings
ATTACH;FMTTYPE=image/jpeg:https://tenesquire.com/wp-content/uploads/2024/03/Pasadena.jpg
ORGANIZER;CN="TEN%3A The Esquire Network":MAILTO:nathan@tenworking.com
GEO:34.1484824;-118.1327948
X-APPLE-STRUCTURED-LOCATION;VALUE=URI;X-ADDRESS=Lagerlof LLP 155 N. Lake Ave. Pasadena CA 91101 United States;X-APPLE-RADIUS=500;X-TITLE=155 N. Lake Ave.:geo:-118.1327948,34.1484824
END:VEVENT
BEGIN:VEVENT
DTSTART;TZID=America/Los_Angeles:20280204T070000
DTEND;TZID=America/Los_Angeles:20280204T083000
DTSTAMP:20260423T090144
CREATED:20240329T051441Z
LAST-MODIFIED:20240329T051441Z
UID:10000607-1833260400-1833265800@tenesquire.com
SUMMARY:TEN Pasadena
DESCRIPTION:
URL:https://tenesquire.com/calendar/ten-pasadena/2028-02-04/
LOCATION:Lagerlof LLP\, 155 N. Lake Ave.\, Pasadena\, CA\, 91101\, United States
CATEGORIES:Regular Meetings
ATTACH;FMTTYPE=image/jpeg:https://tenesquire.com/wp-content/uploads/2024/03/Pasadena.jpg
ORGANIZER;CN="TEN%3A The Esquire Network":MAILTO:nathan@tenworking.com
GEO:34.1484824;-118.1327948
X-APPLE-STRUCTURED-LOCATION;VALUE=URI;X-ADDRESS=Lagerlof LLP 155 N. Lake Ave. Pasadena CA 91101 United States;X-APPLE-RADIUS=500;X-TITLE=155 N. Lake Ave.:geo:-118.1327948,34.1484824
END:VEVENT
BEGIN:VEVENT
DTSTART;TZID=America/Los_Angeles:20280303T070000
DTEND;TZID=America/Los_Angeles:20280303T083000
DTSTAMP:20260423T090144
CREATED:20240329T051441Z
LAST-MODIFIED:20240329T051441Z
UID:10000608-1835679600-1835685000@tenesquire.com
SUMMARY:TEN Pasadena
DESCRIPTION:
URL:https://tenesquire.com/calendar/ten-pasadena/2028-03-03/
LOCATION:Lagerlof LLP\, 155 N. Lake Ave.\, Pasadena\, CA\, 91101\, United States
CATEGORIES:Regular Meetings
ATTACH;FMTTYPE=image/jpeg:https://tenesquire.com/wp-content/uploads/2024/03/Pasadena.jpg
ORGANIZER;CN="TEN%3A The Esquire Network":MAILTO:nathan@tenworking.com
GEO:34.1484824;-118.1327948
X-APPLE-STRUCTURED-LOCATION;VALUE=URI;X-ADDRESS=Lagerlof LLP 155 N. Lake Ave. Pasadena CA 91101 United States;X-APPLE-RADIUS=500;X-TITLE=155 N. Lake Ave.:geo:-118.1327948,34.1484824
END:VEVENT
BEGIN:VEVENT
DTSTART;TZID=America/Los_Angeles:20280407T070000
DTEND;TZID=America/Los_Angeles:20280407T083000
DTSTAMP:20260423T090144
CREATED:20240329T051441Z
LAST-MODIFIED:20240329T051441Z
UID:10000609-1838703600-1838709000@tenesquire.com
SUMMARY:TEN Pasadena
DESCRIPTION:
URL:https://tenesquire.com/calendar/ten-pasadena/2028-04-07/
LOCATION:Lagerlof LLP\, 155 N. Lake Ave.\, Pasadena\, CA\, 91101\, United States
CATEGORIES:Regular Meetings
ATTACH;FMTTYPE=image/jpeg:https://tenesquire.com/wp-content/uploads/2024/03/Pasadena.jpg
ORGANIZER;CN="TEN%3A The Esquire Network":MAILTO:nathan@tenworking.com
GEO:34.1484824;-118.1327948
X-APPLE-STRUCTURED-LOCATION;VALUE=URI;X-ADDRESS=Lagerlof LLP 155 N. Lake Ave. Pasadena CA 91101 United States;X-APPLE-RADIUS=500;X-TITLE=155 N. Lake Ave.:geo:-118.1327948,34.1484824
END:VEVENT
BEGIN:VEVENT
DTSTART;TZID=America/Los_Angeles:20280505T070000
DTEND;TZID=America/Los_Angeles:20280505T083000
DTSTAMP:20260423T090144
CREATED:20240329T051441Z
LAST-MODIFIED:20240329T051441Z
UID:10000610-1841122800-1841128200@tenesquire.com
SUMMARY:TEN Pasadena
DESCRIPTION:
URL:https://tenesquire.com/calendar/ten-pasadena/2028-05-05/
LOCATION:Lagerlof LLP\, 155 N. Lake Ave.\, Pasadena\, CA\, 91101\, United States
CATEGORIES:Regular Meetings
ATTACH;FMTTYPE=image/jpeg:https://tenesquire.com/wp-content/uploads/2024/03/Pasadena.jpg
ORGANIZER;CN="TEN%3A The Esquire Network":MAILTO:nathan@tenworking.com
GEO:34.1484824;-118.1327948
X-APPLE-STRUCTURED-LOCATION;VALUE=URI;X-ADDRESS=Lagerlof LLP 155 N. Lake Ave. Pasadena CA 91101 United States;X-APPLE-RADIUS=500;X-TITLE=155 N. Lake Ave.:geo:-118.1327948,34.1484824
END:VEVENT
BEGIN:VEVENT
DTSTART;TZID=America/Los_Angeles:20280602T070000
DTEND;TZID=America/Los_Angeles:20280602T083000
DTSTAMP:20260423T090144
CREATED:20240329T051441Z
LAST-MODIFIED:20240329T051441Z
UID:10000611-1843542000-1843547400@tenesquire.com
SUMMARY:TEN Pasadena
DESCRIPTION:
URL:https://tenesquire.com/calendar/ten-pasadena/2028-06-02/
LOCATION:Lagerlof LLP\, 155 N. Lake Ave.\, Pasadena\, CA\, 91101\, United States
CATEGORIES:Regular Meetings
ATTACH;FMTTYPE=image/jpeg:https://tenesquire.com/wp-content/uploads/2024/03/Pasadena.jpg
ORGANIZER;CN="TEN%3A The Esquire Network":MAILTO:nathan@tenworking.com
GEO:34.1484824;-118.1327948
X-APPLE-STRUCTURED-LOCATION;VALUE=URI;X-ADDRESS=Lagerlof LLP 155 N. Lake Ave. Pasadena CA 91101 United States;X-APPLE-RADIUS=500;X-TITLE=155 N. Lake Ave.:geo:-118.1327948,34.1484824
END:VEVENT
BEGIN:VEVENT
DTSTART;TZID=America/Los_Angeles:20280707T070000
DTEND;TZID=America/Los_Angeles:20280707T083000
DTSTAMP:20260423T090144
CREATED:20240329T051441Z
LAST-MODIFIED:20240329T051441Z
UID:10000612-1846566000-1846571400@tenesquire.com
SUMMARY:TEN Pasadena
DESCRIPTION:
URL:https://tenesquire.com/calendar/ten-pasadena/2028-07-07/
LOCATION:Lagerlof LLP\, 155 N. Lake Ave.\, Pasadena\, CA\, 91101\, United States
CATEGORIES:Regular Meetings
ATTACH;FMTTYPE=image/jpeg:https://tenesquire.com/wp-content/uploads/2024/03/Pasadena.jpg
ORGANIZER;CN="TEN%3A The Esquire Network":MAILTO:nathan@tenworking.com
GEO:34.1484824;-118.1327948
X-APPLE-STRUCTURED-LOCATION;VALUE=URI;X-ADDRESS=Lagerlof LLP 155 N. Lake Ave. Pasadena CA 91101 United States;X-APPLE-RADIUS=500;X-TITLE=155 N. Lake Ave.:geo:-118.1327948,34.1484824
END:VEVENT
BEGIN:VEVENT
DTSTART;TZID=America/Los_Angeles:20280804T070000
DTEND;TZID=America/Los_Angeles:20280804T083000
DTSTAMP:20260423T090144
CREATED:20240329T051441Z
LAST-MODIFIED:20240329T051441Z
UID:10000613-1848985200-1848990600@tenesquire.com
SUMMARY:TEN Pasadena
DESCRIPTION:
URL:https://tenesquire.com/calendar/ten-pasadena/2028-08-04/
LOCATION:Lagerlof LLP\, 155 N. Lake Ave.\, Pasadena\, CA\, 91101\, United States
CATEGORIES:Regular Meetings
ATTACH;FMTTYPE=image/jpeg:https://tenesquire.com/wp-content/uploads/2024/03/Pasadena.jpg
ORGANIZER;CN="TEN%3A The Esquire Network":MAILTO:nathan@tenworking.com
GEO:34.1484824;-118.1327948
X-APPLE-STRUCTURED-LOCATION;VALUE=URI;X-ADDRESS=Lagerlof LLP 155 N. Lake Ave. Pasadena CA 91101 United States;X-APPLE-RADIUS=500;X-TITLE=155 N. Lake Ave.:geo:-118.1327948,34.1484824
END:VEVENT
BEGIN:VEVENT
DTSTART;TZID=America/Los_Angeles:20280901T070000
DTEND;TZID=America/Los_Angeles:20280901T083000
DTSTAMP:20260423T090144
CREATED:20240329T051441Z
LAST-MODIFIED:20240329T051441Z
UID:10000614-1851404400-1851409800@tenesquire.com
SUMMARY:TEN Pasadena
DESCRIPTION:
URL:https://tenesquire.com/calendar/ten-pasadena/2028-09-01/
LOCATION:Lagerlof LLP\, 155 N. Lake Ave.\, Pasadena\, CA\, 91101\, United States
CATEGORIES:Regular Meetings
ATTACH;FMTTYPE=image/jpeg:https://tenesquire.com/wp-content/uploads/2024/03/Pasadena.jpg
ORGANIZER;CN="TEN%3A The Esquire Network":MAILTO:nathan@tenworking.com
GEO:34.1484824;-118.1327948
X-APPLE-STRUCTURED-LOCATION;VALUE=URI;X-ADDRESS=Lagerlof LLP 155 N. Lake Ave. Pasadena CA 91101 United States;X-APPLE-RADIUS=500;X-TITLE=155 N. Lake Ave.:geo:-118.1327948,34.1484824
END:VEVENT
BEGIN:VEVENT
DTSTART;TZID=America/Los_Angeles:20281006T070000
DTEND;TZID=America/Los_Angeles:20281006T083000
DTSTAMP:20260423T090144
CREATED:20240329T051441Z
LAST-MODIFIED:20240329T051441Z
UID:10000615-1854428400-1854433800@tenesquire.com
SUMMARY:TEN Pasadena
DESCRIPTION:
URL:https://tenesquire.com/calendar/ten-pasadena/2028-10-06/
LOCATION:Lagerlof LLP\, 155 N. Lake Ave.\, Pasadena\, CA\, 91101\, United States
CATEGORIES:Regular Meetings
ATTACH;FMTTYPE=image/jpeg:https://tenesquire.com/wp-content/uploads/2024/03/Pasadena.jpg
ORGANIZER;CN="TEN%3A The Esquire Network":MAILTO:nathan@tenworking.com
GEO:34.1484824;-118.1327948
X-APPLE-STRUCTURED-LOCATION;VALUE=URI;X-ADDRESS=Lagerlof LLP 155 N. Lake Ave. Pasadena CA 91101 United States;X-APPLE-RADIUS=500;X-TITLE=155 N. Lake Ave.:geo:-118.1327948,34.1484824
END:VEVENT
END:VCALENDAR