BEGIN:VCALENDAR
VERSION:2.0
PRODID:-//TEN: The Esquire Network - ECPv6.15.15//NONSGML v1.0//EN
CALSCALE:GREGORIAN
METHOD:PUBLISH
X-WR-CALNAME:TEN: The Esquire Network
X-ORIGINAL-URL:https://tenesquire.com
X-WR-CALDESC:Events for TEN: The Esquire Network
REFRESH-INTERVAL;VALUE=DURATION:PT1H
X-Robots-Tag:noindex
X-PUBLISHED-TTL:PT1H
BEGIN:VTIMEZONE
TZID:America/Los_Angeles
BEGIN:DAYLIGHT
TZOFFSETFROM:-0800
TZOFFSETTO:-0700
TZNAME:PDT
DTSTART:20250309T100000
END:DAYLIGHT
BEGIN:STANDARD
TZOFFSETFROM:-0700
TZOFFSETTO:-0800
TZNAME:PST
DTSTART:20251102T090000
END:STANDARD
BEGIN:DAYLIGHT
TZOFFSETFROM:-0800
TZOFFSETTO:-0700
TZNAME:PDT
DTSTART:20260308T100000
END:DAYLIGHT
BEGIN:STANDARD
TZOFFSETFROM:-0700
TZOFFSETTO:-0800
TZNAME:PST
DTSTART:20261101T090000
END:STANDARD
BEGIN:DAYLIGHT
TZOFFSETFROM:-0800
TZOFFSETTO:-0700
TZNAME:PDT
DTSTART:20270314T100000
END:DAYLIGHT
BEGIN:STANDARD
TZOFFSETFROM:-0700
TZOFFSETTO:-0800
TZNAME:PST
DTSTART:20271107T090000
END:STANDARD
BEGIN:DAYLIGHT
TZOFFSETFROM:-0800
TZOFFSETTO:-0700
TZNAME:PDT
DTSTART:20280312T100000
END:DAYLIGHT
BEGIN:STANDARD
TZOFFSETFROM:-0700
TZOFFSETTO:-0800
TZNAME:PST
DTSTART:20281105T090000
END:STANDARD
BEGIN:DAYLIGHT
TZOFFSETFROM:-0800
TZOFFSETTO:-0700
TZNAME:PDT
DTSTART:20290311T100000
END:DAYLIGHT
BEGIN:STANDARD
TZOFFSETFROM:-0700
TZOFFSETTO:-0800
TZNAME:PST
DTSTART:20291104T090000
END:STANDARD
END:VTIMEZONE
BEGIN:VEVENT
DTSTART;TZID=America/Los_Angeles:20260507T130000
DTEND;TZID=America/Los_Angeles:20260507T140000
DTSTAMP:20260423T091951
CREATED:20260420T185845Z
LAST-MODIFIED:20260420T185922Z
UID:10000466-1778158800-1778162400@tenesquire.com
SUMMARY:TEN Employment Law
DESCRIPTION:
URL:https://tenesquire.com/calendar/ten-employment-law-2026-05-07/
LOCATION:Online Meeting
CATEGORIES:Regular Meetings
ATTACH;FMTTYPE=image/jpeg:https://tenesquire.com/wp-content/uploads/2024/03/Employment-Law.jpg
END:VEVENT
BEGIN:VEVENT
DTSTART;TZID=America/Los_Angeles:20260604T130000
DTEND;TZID=America/Los_Angeles:20260604T140000
DTSTAMP:20260423T091951
CREATED:20240329T051133Z
LAST-MODIFIED:20240404T162614Z
UID:10000467-1780578000-1780581600@tenesquire.com
SUMMARY:TEN Employment Law
DESCRIPTION:
URL:https://tenesquire.com/calendar/ten-employment-law/2026-06-04/
LOCATION:Online Meeting
CATEGORIES:Regular Meetings
ATTACH;FMTTYPE=image/jpeg:https://tenesquire.com/wp-content/uploads/2024/03/Employment-Law.jpg
END:VEVENT
BEGIN:VEVENT
DTSTART;TZID=America/Los_Angeles:20260702T130000
DTEND;TZID=America/Los_Angeles:20260702T140000
DTSTAMP:20260423T091951
CREATED:20240329T051133Z
LAST-MODIFIED:20240404T162614Z
UID:10000468-1782997200-1783000800@tenesquire.com
SUMMARY:TEN Employment Law
DESCRIPTION:
URL:https://tenesquire.com/calendar/ten-employment-law/2026-07-02/
LOCATION:Online Meeting
CATEGORIES:Regular Meetings
ATTACH;FMTTYPE=image/jpeg:https://tenesquire.com/wp-content/uploads/2024/03/Employment-Law.jpg
END:VEVENT
BEGIN:VEVENT
DTSTART;TZID=America/Los_Angeles:20260806T130000
DTEND;TZID=America/Los_Angeles:20260806T140000
DTSTAMP:20260423T091951
CREATED:20240329T051133Z
LAST-MODIFIED:20240404T162614Z
UID:10000469-1786021200-1786024800@tenesquire.com
SUMMARY:TEN Employment Law
DESCRIPTION:
URL:https://tenesquire.com/calendar/ten-employment-law/2026-08-06/
LOCATION:Online Meeting
CATEGORIES:Regular Meetings
ATTACH;FMTTYPE=image/jpeg:https://tenesquire.com/wp-content/uploads/2024/03/Employment-Law.jpg
END:VEVENT
BEGIN:VEVENT
DTSTART;TZID=America/Los_Angeles:20260903T130000
DTEND;TZID=America/Los_Angeles:20260903T140000
DTSTAMP:20260423T091951
CREATED:20240329T051133Z
LAST-MODIFIED:20240404T162614Z
UID:10000470-1788440400-1788444000@tenesquire.com
SUMMARY:TEN Employment Law
DESCRIPTION:
URL:https://tenesquire.com/calendar/ten-employment-law/2026-09-03/
LOCATION:Online Meeting
CATEGORIES:Regular Meetings
ATTACH;FMTTYPE=image/jpeg:https://tenesquire.com/wp-content/uploads/2024/03/Employment-Law.jpg
END:VEVENT
BEGIN:VEVENT
DTSTART;TZID=America/Los_Angeles:20261001T130000
DTEND;TZID=America/Los_Angeles:20261001T140000
DTSTAMP:20260423T091951
CREATED:20240329T051133Z
LAST-MODIFIED:20240404T162614Z
UID:10000471-1790859600-1790863200@tenesquire.com
SUMMARY:TEN Employment Law
DESCRIPTION:
URL:https://tenesquire.com/calendar/ten-employment-law/2026-10-01/
LOCATION:Online Meeting
CATEGORIES:Regular Meetings
ATTACH;FMTTYPE=image/jpeg:https://tenesquire.com/wp-content/uploads/2024/03/Employment-Law.jpg
END:VEVENT
BEGIN:VEVENT
DTSTART;TZID=America/Los_Angeles:20261105T130000
DTEND;TZID=America/Los_Angeles:20261105T140000
DTSTAMP:20260423T091951
CREATED:20240329T051133Z
LAST-MODIFIED:20240404T162614Z
UID:10000472-1793883600-1793887200@tenesquire.com
SUMMARY:TEN Employment Law
DESCRIPTION:
URL:https://tenesquire.com/calendar/ten-employment-law/2026-11-05/
LOCATION:Online Meeting
CATEGORIES:Regular Meetings
ATTACH;FMTTYPE=image/jpeg:https://tenesquire.com/wp-content/uploads/2024/03/Employment-Law.jpg
END:VEVENT
BEGIN:VEVENT
DTSTART;TZID=America/Los_Angeles:20261203T130000
DTEND;TZID=America/Los_Angeles:20261203T140000
DTSTAMP:20260423T091951
CREATED:20240329T051133Z
LAST-MODIFIED:20240404T162614Z
UID:10000473-1796302800-1796306400@tenesquire.com
SUMMARY:TEN Employment Law
DESCRIPTION:
URL:https://tenesquire.com/calendar/ten-employment-law/2026-12-03/
LOCATION:Online Meeting
CATEGORIES:Regular Meetings
ATTACH;FMTTYPE=image/jpeg:https://tenesquire.com/wp-content/uploads/2024/03/Employment-Law.jpg
END:VEVENT
BEGIN:VEVENT
DTSTART;TZID=America/Los_Angeles:20270107T130000
DTEND;TZID=America/Los_Angeles:20270107T140000
DTSTAMP:20260423T091951
CREATED:20240329T051133Z
LAST-MODIFIED:20240404T162614Z
UID:10000474-1799326800-1799330400@tenesquire.com
SUMMARY:TEN Employment Law
DESCRIPTION:
URL:https://tenesquire.com/calendar/ten-employment-law/2027-01-07/
LOCATION:Online Meeting
CATEGORIES:Regular Meetings
ATTACH;FMTTYPE=image/jpeg:https://tenesquire.com/wp-content/uploads/2024/03/Employment-Law.jpg
END:VEVENT
BEGIN:VEVENT
DTSTART;TZID=America/Los_Angeles:20270204T130000
DTEND;TZID=America/Los_Angeles:20270204T140000
DTSTAMP:20260423T091951
CREATED:20240329T051133Z
LAST-MODIFIED:20240404T162614Z
UID:10000475-1801746000-1801749600@tenesquire.com
SUMMARY:TEN Employment Law
DESCRIPTION:
URL:https://tenesquire.com/calendar/ten-employment-law/2027-02-04/
LOCATION:Online Meeting
CATEGORIES:Regular Meetings
ATTACH;FMTTYPE=image/jpeg:https://tenesquire.com/wp-content/uploads/2024/03/Employment-Law.jpg
END:VEVENT
BEGIN:VEVENT
DTSTART;TZID=America/Los_Angeles:20270304T130000
DTEND;TZID=America/Los_Angeles:20270304T140000
DTSTAMP:20260423T091951
CREATED:20240329T051133Z
LAST-MODIFIED:20240404T162614Z
UID:10000476-1804165200-1804168800@tenesquire.com
SUMMARY:TEN Employment Law
DESCRIPTION:
URL:https://tenesquire.com/calendar/ten-employment-law/2027-03-04/
LOCATION:Online Meeting
CATEGORIES:Regular Meetings
ATTACH;FMTTYPE=image/jpeg:https://tenesquire.com/wp-content/uploads/2024/03/Employment-Law.jpg
END:VEVENT
BEGIN:VEVENT
DTSTART;TZID=America/Los_Angeles:20270401T130000
DTEND;TZID=America/Los_Angeles:20270401T140000
DTSTAMP:20260423T091951
CREATED:20240329T051133Z
LAST-MODIFIED:20240404T162614Z
UID:10000477-1806584400-1806588000@tenesquire.com
SUMMARY:TEN Employment Law
DESCRIPTION:
URL:https://tenesquire.com/calendar/ten-employment-law/2027-04-01/
LOCATION:Online Meeting
CATEGORIES:Regular Meetings
ATTACH;FMTTYPE=image/jpeg:https://tenesquire.com/wp-content/uploads/2024/03/Employment-Law.jpg
END:VEVENT
BEGIN:VEVENT
DTSTART;TZID=America/Los_Angeles:20270506T130000
DTEND;TZID=America/Los_Angeles:20270506T140000
DTSTAMP:20260423T091951
CREATED:20240329T051133Z
LAST-MODIFIED:20240404T162614Z
UID:10000478-1809608400-1809612000@tenesquire.com
SUMMARY:TEN Employment Law
DESCRIPTION:
URL:https://tenesquire.com/calendar/ten-employment-law/2027-05-06/
LOCATION:Online Meeting
CATEGORIES:Regular Meetings
ATTACH;FMTTYPE=image/jpeg:https://tenesquire.com/wp-content/uploads/2024/03/Employment-Law.jpg
END:VEVENT
BEGIN:VEVENT
DTSTART;TZID=America/Los_Angeles:20270603T130000
DTEND;TZID=America/Los_Angeles:20270603T140000
DTSTAMP:20260423T091951
CREATED:20240329T051133Z
LAST-MODIFIED:20240404T162614Z
UID:10000479-1812027600-1812031200@tenesquire.com
SUMMARY:TEN Employment Law
DESCRIPTION:
URL:https://tenesquire.com/calendar/ten-employment-law/2027-06-03/
LOCATION:Online Meeting
CATEGORIES:Regular Meetings
ATTACH;FMTTYPE=image/jpeg:https://tenesquire.com/wp-content/uploads/2024/03/Employment-Law.jpg
END:VEVENT
BEGIN:VEVENT
DTSTART;TZID=America/Los_Angeles:20270701T130000
DTEND;TZID=America/Los_Angeles:20270701T140000
DTSTAMP:20260423T091951
CREATED:20240329T051133Z
LAST-MODIFIED:20240404T162614Z
UID:10000480-1814446800-1814450400@tenesquire.com
SUMMARY:TEN Employment Law
DESCRIPTION:
URL:https://tenesquire.com/calendar/ten-employment-law/2027-07-01/
LOCATION:Online Meeting
CATEGORIES:Regular Meetings
ATTACH;FMTTYPE=image/jpeg:https://tenesquire.com/wp-content/uploads/2024/03/Employment-Law.jpg
END:VEVENT
BEGIN:VEVENT
DTSTART;TZID=America/Los_Angeles:20270805T130000
DTEND;TZID=America/Los_Angeles:20270805T140000
DTSTAMP:20260423T091951
CREATED:20240329T051133Z
LAST-MODIFIED:20240404T162614Z
UID:10000481-1817470800-1817474400@tenesquire.com
SUMMARY:TEN Employment Law
DESCRIPTION:
URL:https://tenesquire.com/calendar/ten-employment-law/2027-08-05/
LOCATION:Online Meeting
CATEGORIES:Regular Meetings
ATTACH;FMTTYPE=image/jpeg:https://tenesquire.com/wp-content/uploads/2024/03/Employment-Law.jpg
END:VEVENT
BEGIN:VEVENT
DTSTART;TZID=America/Los_Angeles:20270902T130000
DTEND;TZID=America/Los_Angeles:20270902T140000
DTSTAMP:20260423T091951
CREATED:20240329T051133Z
LAST-MODIFIED:20240404T162614Z
UID:10000482-1819890000-1819893600@tenesquire.com
SUMMARY:TEN Employment Law
DESCRIPTION:
URL:https://tenesquire.com/calendar/ten-employment-law/2027-09-02/
LOCATION:Online Meeting
CATEGORIES:Regular Meetings
ATTACH;FMTTYPE=image/jpeg:https://tenesquire.com/wp-content/uploads/2024/03/Employment-Law.jpg
END:VEVENT
BEGIN:VEVENT
DTSTART;TZID=America/Los_Angeles:20271007T130000
DTEND;TZID=America/Los_Angeles:20271007T140000
DTSTAMP:20260423T091951
CREATED:20240329T051133Z
LAST-MODIFIED:20240404T162614Z
UID:10000483-1822914000-1822917600@tenesquire.com
SUMMARY:TEN Employment Law
DESCRIPTION:
URL:https://tenesquire.com/calendar/ten-employment-law/2027-10-07/
LOCATION:Online Meeting
CATEGORIES:Regular Meetings
ATTACH;FMTTYPE=image/jpeg:https://tenesquire.com/wp-content/uploads/2024/03/Employment-Law.jpg
END:VEVENT
BEGIN:VEVENT
DTSTART;TZID=America/Los_Angeles:20271104T130000
DTEND;TZID=America/Los_Angeles:20271104T140000
DTSTAMP:20260423T091951
CREATED:20240329T051133Z
LAST-MODIFIED:20240404T162614Z
UID:10000484-1825333200-1825336800@tenesquire.com
SUMMARY:TEN Employment Law
DESCRIPTION:
URL:https://tenesquire.com/calendar/ten-employment-law/2027-11-04/
LOCATION:Online Meeting
CATEGORIES:Regular Meetings
ATTACH;FMTTYPE=image/jpeg:https://tenesquire.com/wp-content/uploads/2024/03/Employment-Law.jpg
END:VEVENT
BEGIN:VEVENT
DTSTART;TZID=America/Los_Angeles:20271202T130000
DTEND;TZID=America/Los_Angeles:20271202T140000
DTSTAMP:20260423T091951
CREATED:20240329T051133Z
LAST-MODIFIED:20240404T162614Z
UID:10000485-1827752400-1827756000@tenesquire.com
SUMMARY:TEN Employment Law
DESCRIPTION:
URL:https://tenesquire.com/calendar/ten-employment-law/2027-12-02/
LOCATION:Online Meeting
CATEGORIES:Regular Meetings
ATTACH;FMTTYPE=image/jpeg:https://tenesquire.com/wp-content/uploads/2024/03/Employment-Law.jpg
END:VEVENT
BEGIN:VEVENT
DTSTART;TZID=America/Los_Angeles:20280106T130000
DTEND;TZID=America/Los_Angeles:20280106T140000
DTSTAMP:20260423T091951
CREATED:20240329T051133Z
LAST-MODIFIED:20240404T162614Z
UID:10000486-1830776400-1830780000@tenesquire.com
SUMMARY:TEN Employment Law
DESCRIPTION:
URL:https://tenesquire.com/calendar/ten-employment-law/2028-01-06/
LOCATION:Online Meeting
CATEGORIES:Regular Meetings
ATTACH;FMTTYPE=image/jpeg:https://tenesquire.com/wp-content/uploads/2024/03/Employment-Law.jpg
END:VEVENT
BEGIN:VEVENT
DTSTART;TZID=America/Los_Angeles:20280203T130000
DTEND;TZID=America/Los_Angeles:20280203T140000
DTSTAMP:20260423T091951
CREATED:20240329T051133Z
LAST-MODIFIED:20240404T162614Z
UID:10000487-1833195600-1833199200@tenesquire.com
SUMMARY:TEN Employment Law
DESCRIPTION:
URL:https://tenesquire.com/calendar/ten-employment-law/2028-02-03/
LOCATION:Online Meeting
CATEGORIES:Regular Meetings
ATTACH;FMTTYPE=image/jpeg:https://tenesquire.com/wp-content/uploads/2024/03/Employment-Law.jpg
END:VEVENT
BEGIN:VEVENT
DTSTART;TZID=America/Los_Angeles:20280302T130000
DTEND;TZID=America/Los_Angeles:20280302T140000
DTSTAMP:20260423T091951
CREATED:20240329T051133Z
LAST-MODIFIED:20240404T162614Z
UID:10000488-1835614800-1835618400@tenesquire.com
SUMMARY:TEN Employment Law
DESCRIPTION:
URL:https://tenesquire.com/calendar/ten-employment-law/2028-03-02/
LOCATION:Online Meeting
CATEGORIES:Regular Meetings
ATTACH;FMTTYPE=image/jpeg:https://tenesquire.com/wp-content/uploads/2024/03/Employment-Law.jpg
END:VEVENT
BEGIN:VEVENT
DTSTART;TZID=America/Los_Angeles:20280406T130000
DTEND;TZID=America/Los_Angeles:20280406T140000
DTSTAMP:20260423T091951
CREATED:20240329T051133Z
LAST-MODIFIED:20240404T162614Z
UID:10000489-1838638800-1838642400@tenesquire.com
SUMMARY:TEN Employment Law
DESCRIPTION:
URL:https://tenesquire.com/calendar/ten-employment-law/2028-04-06/
LOCATION:Online Meeting
CATEGORIES:Regular Meetings
ATTACH;FMTTYPE=image/jpeg:https://tenesquire.com/wp-content/uploads/2024/03/Employment-Law.jpg
END:VEVENT
BEGIN:VEVENT
DTSTART;TZID=America/Los_Angeles:20280504T130000
DTEND;TZID=America/Los_Angeles:20280504T140000
DTSTAMP:20260423T091951
CREATED:20240329T051133Z
LAST-MODIFIED:20240404T162614Z
UID:10000490-1841058000-1841061600@tenesquire.com
SUMMARY:TEN Employment Law
DESCRIPTION:
URL:https://tenesquire.com/calendar/ten-employment-law/2028-05-04/
LOCATION:Online Meeting
CATEGORIES:Regular Meetings
ATTACH;FMTTYPE=image/jpeg:https://tenesquire.com/wp-content/uploads/2024/03/Employment-Law.jpg
END:VEVENT
BEGIN:VEVENT
DTSTART;TZID=America/Los_Angeles:20280601T130000
DTEND;TZID=America/Los_Angeles:20280601T140000
DTSTAMP:20260423T091951
CREATED:20240329T051133Z
LAST-MODIFIED:20240404T162614Z
UID:10000491-1843477200-1843480800@tenesquire.com
SUMMARY:TEN Employment Law
DESCRIPTION:
URL:https://tenesquire.com/calendar/ten-employment-law/2028-06-01/
LOCATION:Online Meeting
CATEGORIES:Regular Meetings
ATTACH;FMTTYPE=image/jpeg:https://tenesquire.com/wp-content/uploads/2024/03/Employment-Law.jpg
END:VEVENT
BEGIN:VEVENT
DTSTART;TZID=America/Los_Angeles:20280706T130000
DTEND;TZID=America/Los_Angeles:20280706T140000
DTSTAMP:20260423T091951
CREATED:20240329T051133Z
LAST-MODIFIED:20240404T162614Z
UID:10000492-1846501200-1846504800@tenesquire.com
SUMMARY:TEN Employment Law
DESCRIPTION:
URL:https://tenesquire.com/calendar/ten-employment-law/2028-07-06/
LOCATION:Online Meeting
CATEGORIES:Regular Meetings
ATTACH;FMTTYPE=image/jpeg:https://tenesquire.com/wp-content/uploads/2024/03/Employment-Law.jpg
END:VEVENT
BEGIN:VEVENT
DTSTART;TZID=America/Los_Angeles:20280803T130000
DTEND;TZID=America/Los_Angeles:20280803T140000
DTSTAMP:20260423T091951
CREATED:20240329T051133Z
LAST-MODIFIED:20240404T162614Z
UID:10000493-1848920400-1848924000@tenesquire.com
SUMMARY:TEN Employment Law
DESCRIPTION:
URL:https://tenesquire.com/calendar/ten-employment-law/2028-08-03/
LOCATION:Online Meeting
CATEGORIES:Regular Meetings
ATTACH;FMTTYPE=image/jpeg:https://tenesquire.com/wp-content/uploads/2024/03/Employment-Law.jpg
END:VEVENT
BEGIN:VEVENT
DTSTART;TZID=America/Los_Angeles:20280907T130000
DTEND;TZID=America/Los_Angeles:20280907T140000
DTSTAMP:20260423T091951
CREATED:20240329T051133Z
LAST-MODIFIED:20240404T162614Z
UID:10000494-1851944400-1851948000@tenesquire.com
SUMMARY:TEN Employment Law
DESCRIPTION:
URL:https://tenesquire.com/calendar/ten-employment-law/2028-09-07/
LOCATION:Online Meeting
CATEGORIES:Regular Meetings
ATTACH;FMTTYPE=image/jpeg:https://tenesquire.com/wp-content/uploads/2024/03/Employment-Law.jpg
END:VEVENT
BEGIN:VEVENT
DTSTART;TZID=America/Los_Angeles:20281005T130000
DTEND;TZID=America/Los_Angeles:20281005T140000
DTSTAMP:20260423T091951
CREATED:20240329T051133Z
LAST-MODIFIED:20240404T162614Z
UID:10000495-1854363600-1854367200@tenesquire.com
SUMMARY:TEN Employment Law
DESCRIPTION:
URL:https://tenesquire.com/calendar/ten-employment-law/2028-10-05/
LOCATION:Online Meeting
CATEGORIES:Regular Meetings
ATTACH;FMTTYPE=image/jpeg:https://tenesquire.com/wp-content/uploads/2024/03/Employment-Law.jpg
END:VEVENT
END:VCALENDAR