BEGIN:VCALENDAR
VERSION:2.0
PRODID:-//TEN: The Esquire Network - ECPv6.15.15//NONSGML v1.0//EN
CALSCALE:GREGORIAN
METHOD:PUBLISH
X-WR-CALNAME:TEN: The Esquire Network
X-ORIGINAL-URL:https://tenesquire.com
X-WR-CALDESC:Events for TEN: The Esquire Network
REFRESH-INTERVAL;VALUE=DURATION:PT1H
X-Robots-Tag:noindex
X-PUBLISHED-TTL:PT1H
BEGIN:VTIMEZONE
TZID:America/Los_Angeles
BEGIN:DAYLIGHT
TZOFFSETFROM:-0800
TZOFFSETTO:-0700
TZNAME:PDT
DTSTART:20250309T100000
END:DAYLIGHT
BEGIN:STANDARD
TZOFFSETFROM:-0700
TZOFFSETTO:-0800
TZNAME:PST
DTSTART:20251102T090000
END:STANDARD
BEGIN:DAYLIGHT
TZOFFSETFROM:-0800
TZOFFSETTO:-0700
TZNAME:PDT
DTSTART:20260308T100000
END:DAYLIGHT
BEGIN:STANDARD
TZOFFSETFROM:-0700
TZOFFSETTO:-0800
TZNAME:PST
DTSTART:20261101T090000
END:STANDARD
BEGIN:DAYLIGHT
TZOFFSETFROM:-0800
TZOFFSETTO:-0700
TZNAME:PDT
DTSTART:20270314T100000
END:DAYLIGHT
BEGIN:STANDARD
TZOFFSETFROM:-0700
TZOFFSETTO:-0800
TZNAME:PST
DTSTART:20271107T090000
END:STANDARD
BEGIN:DAYLIGHT
TZOFFSETFROM:-0800
TZOFFSETTO:-0700
TZNAME:PDT
DTSTART:20280312T100000
END:DAYLIGHT
BEGIN:STANDARD
TZOFFSETFROM:-0700
TZOFFSETTO:-0800
TZNAME:PST
DTSTART:20281105T090000
END:STANDARD
BEGIN:DAYLIGHT
TZOFFSETFROM:-0800
TZOFFSETTO:-0700
TZNAME:PDT
DTSTART:20290311T100000
END:DAYLIGHT
BEGIN:STANDARD
TZOFFSETFROM:-0700
TZOFFSETTO:-0800
TZNAME:PST
DTSTART:20291104T090000
END:STANDARD
BEGIN:DAYLIGHT
TZOFFSETFROM:-0800
TZOFFSETTO:-0700
TZNAME:PDT
DTSTART:20300310T100000
END:DAYLIGHT
BEGIN:STANDARD
TZOFFSETFROM:-0700
TZOFFSETTO:-0800
TZNAME:PST
DTSTART:20301103T090000
END:STANDARD
BEGIN:DAYLIGHT
TZOFFSETFROM:-0800
TZOFFSETTO:-0700
TZNAME:PDT
DTSTART:20310309T100000
END:DAYLIGHT
BEGIN:STANDARD
TZOFFSETFROM:-0700
TZOFFSETTO:-0800
TZNAME:PST
DTSTART:20311102T090000
END:STANDARD
BEGIN:DAYLIGHT
TZOFFSETFROM:-0800
TZOFFSETTO:-0700
TZNAME:PDT
DTSTART:20320314T100000
END:DAYLIGHT
BEGIN:STANDARD
TZOFFSETFROM:-0700
TZOFFSETTO:-0800
TZNAME:PST
DTSTART:20321107T090000
END:STANDARD
END:VTIMEZONE
BEGIN:VEVENT
DTSTART;TZID=America/Los_Angeles:20260618T080000
DTEND;TZID=America/Los_Angeles:20260618T090000
DTSTAMP:20260423T090320
CREATED:20240329T053642Z
LAST-MODIFIED:20240329T053642Z
UID:10001354-1781769600-1781773200@tenesquire.com
SUMMARY:TEN Woodland Hills - Online
DESCRIPTION:
URL:https://tenesquire.com/calendar/ten-woodland-hills-online/2026-06-18/
LOCATION:Online Meeting
CATEGORIES:Regular Meetings
ATTACH;FMTTYPE=image/jpeg:https://tenesquire.com/wp-content/uploads/2024/03/Woodland-Hills_online.jpg
END:VEVENT
BEGIN:VEVENT
DTSTART;TZID=America/Los_Angeles:20260820T080000
DTEND;TZID=America/Los_Angeles:20260820T090000
DTSTAMP:20260423T090320
CREATED:20240329T053642Z
LAST-MODIFIED:20240329T053642Z
UID:10001355-1787212800-1787216400@tenesquire.com
SUMMARY:TEN Woodland Hills - Online
DESCRIPTION:
URL:https://tenesquire.com/calendar/ten-woodland-hills-online/2026-08-20/
LOCATION:Online Meeting
CATEGORIES:Regular Meetings
ATTACH;FMTTYPE=image/jpeg:https://tenesquire.com/wp-content/uploads/2024/03/Woodland-Hills_online.jpg
END:VEVENT
BEGIN:VEVENT
DTSTART;TZID=America/Los_Angeles:20261015T080000
DTEND;TZID=America/Los_Angeles:20261015T090000
DTSTAMP:20260423T090320
CREATED:20240329T053642Z
LAST-MODIFIED:20240329T053642Z
UID:10001356-1792051200-1792054800@tenesquire.com
SUMMARY:TEN Woodland Hills - Online
DESCRIPTION:
URL:https://tenesquire.com/calendar/ten-woodland-hills-online/2026-10-15/
LOCATION:Online Meeting
CATEGORIES:Regular Meetings
ATTACH;FMTTYPE=image/jpeg:https://tenesquire.com/wp-content/uploads/2024/03/Woodland-Hills_online.jpg
END:VEVENT
BEGIN:VEVENT
DTSTART;TZID=America/Los_Angeles:20261217T080000
DTEND;TZID=America/Los_Angeles:20261217T090000
DTSTAMP:20260423T090320
CREATED:20240329T053642Z
LAST-MODIFIED:20240329T053642Z
UID:10001357-1797494400-1797498000@tenesquire.com
SUMMARY:TEN Woodland Hills - Online
DESCRIPTION:
URL:https://tenesquire.com/calendar/ten-woodland-hills-online/2026-12-17/
LOCATION:Online Meeting
CATEGORIES:Regular Meetings
ATTACH;FMTTYPE=image/jpeg:https://tenesquire.com/wp-content/uploads/2024/03/Woodland-Hills_online.jpg
END:VEVENT
BEGIN:VEVENT
DTSTART;TZID=America/Los_Angeles:20270218T080000
DTEND;TZID=America/Los_Angeles:20270218T090000
DTSTAMP:20260423T090320
CREATED:20240329T053642Z
LAST-MODIFIED:20240329T053642Z
UID:10001358-1802937600-1802941200@tenesquire.com
SUMMARY:TEN Woodland Hills - Online
DESCRIPTION:
URL:https://tenesquire.com/calendar/ten-woodland-hills-online/2027-02-18/
LOCATION:Online Meeting
CATEGORIES:Regular Meetings
ATTACH;FMTTYPE=image/jpeg:https://tenesquire.com/wp-content/uploads/2024/03/Woodland-Hills_online.jpg
END:VEVENT
BEGIN:VEVENT
DTSTART;TZID=America/Los_Angeles:20270415T080000
DTEND;TZID=America/Los_Angeles:20270415T090000
DTSTAMP:20260423T090320
CREATED:20240329T053642Z
LAST-MODIFIED:20240329T053642Z
UID:10001359-1807776000-1807779600@tenesquire.com
SUMMARY:TEN Woodland Hills - Online
DESCRIPTION:
URL:https://tenesquire.com/calendar/ten-woodland-hills-online/2027-04-15/
LOCATION:Online Meeting
CATEGORIES:Regular Meetings
ATTACH;FMTTYPE=image/jpeg:https://tenesquire.com/wp-content/uploads/2024/03/Woodland-Hills_online.jpg
END:VEVENT
BEGIN:VEVENT
DTSTART;TZID=America/Los_Angeles:20270617T080000
DTEND;TZID=America/Los_Angeles:20270617T090000
DTSTAMP:20260423T090321
CREATED:20240329T053642Z
LAST-MODIFIED:20240329T053642Z
UID:10001360-1813219200-1813222800@tenesquire.com
SUMMARY:TEN Woodland Hills - Online
DESCRIPTION:
URL:https://tenesquire.com/calendar/ten-woodland-hills-online/2027-06-17/
LOCATION:Online Meeting
CATEGORIES:Regular Meetings
ATTACH;FMTTYPE=image/jpeg:https://tenesquire.com/wp-content/uploads/2024/03/Woodland-Hills_online.jpg
END:VEVENT
BEGIN:VEVENT
DTSTART;TZID=America/Los_Angeles:20270819T080000
DTEND;TZID=America/Los_Angeles:20270819T090000
DTSTAMP:20260423T090321
CREATED:20240329T053642Z
LAST-MODIFIED:20240329T053642Z
UID:10001361-1818662400-1818666000@tenesquire.com
SUMMARY:TEN Woodland Hills - Online
DESCRIPTION:
URL:https://tenesquire.com/calendar/ten-woodland-hills-online/2027-08-19/
LOCATION:Online Meeting
CATEGORIES:Regular Meetings
ATTACH;FMTTYPE=image/jpeg:https://tenesquire.com/wp-content/uploads/2024/03/Woodland-Hills_online.jpg
END:VEVENT
BEGIN:VEVENT
DTSTART;TZID=America/Los_Angeles:20271021T080000
DTEND;TZID=America/Los_Angeles:20271021T090000
DTSTAMP:20260423T090321
CREATED:20240329T053642Z
LAST-MODIFIED:20240329T053642Z
UID:10001362-1824105600-1824109200@tenesquire.com
SUMMARY:TEN Woodland Hills - Online
DESCRIPTION:
URL:https://tenesquire.com/calendar/ten-woodland-hills-online/2027-10-21/
LOCATION:Online Meeting
CATEGORIES:Regular Meetings
ATTACH;FMTTYPE=image/jpeg:https://tenesquire.com/wp-content/uploads/2024/03/Woodland-Hills_online.jpg
END:VEVENT
BEGIN:VEVENT
DTSTART;TZID=America/Los_Angeles:20271216T080000
DTEND;TZID=America/Los_Angeles:20271216T090000
DTSTAMP:20260423T090321
CREATED:20240329T053642Z
LAST-MODIFIED:20240329T053642Z
UID:10001363-1828944000-1828947600@tenesquire.com
SUMMARY:TEN Woodland Hills - Online
DESCRIPTION:
URL:https://tenesquire.com/calendar/ten-woodland-hills-online/2027-12-16/
LOCATION:Online Meeting
CATEGORIES:Regular Meetings
ATTACH;FMTTYPE=image/jpeg:https://tenesquire.com/wp-content/uploads/2024/03/Woodland-Hills_online.jpg
END:VEVENT
BEGIN:VEVENT
DTSTART;TZID=America/Los_Angeles:20280217T080000
DTEND;TZID=America/Los_Angeles:20280217T090000
DTSTAMP:20260423T090321
CREATED:20240329T053642Z
LAST-MODIFIED:20240329T053642Z
UID:10001364-1834387200-1834390800@tenesquire.com
SUMMARY:TEN Woodland Hills - Online
DESCRIPTION:
URL:https://tenesquire.com/calendar/ten-woodland-hills-online/2028-02-17/
LOCATION:Online Meeting
CATEGORIES:Regular Meetings
ATTACH;FMTTYPE=image/jpeg:https://tenesquire.com/wp-content/uploads/2024/03/Woodland-Hills_online.jpg
END:VEVENT
BEGIN:VEVENT
DTSTART;TZID=America/Los_Angeles:20280420T080000
DTEND;TZID=America/Los_Angeles:20280420T090000
DTSTAMP:20260423T090321
CREATED:20240329T053642Z
LAST-MODIFIED:20240329T053642Z
UID:10001365-1839830400-1839834000@tenesquire.com
SUMMARY:TEN Woodland Hills - Online
DESCRIPTION:
URL:https://tenesquire.com/calendar/ten-woodland-hills-online/2028-04-20/
LOCATION:Online Meeting
CATEGORIES:Regular Meetings
ATTACH;FMTTYPE=image/jpeg:https://tenesquire.com/wp-content/uploads/2024/03/Woodland-Hills_online.jpg
END:VEVENT
BEGIN:VEVENT
DTSTART;TZID=America/Los_Angeles:20280615T080000
DTEND;TZID=America/Los_Angeles:20280615T090000
DTSTAMP:20260423T090321
CREATED:20240329T053642Z
LAST-MODIFIED:20240329T053642Z
UID:10001366-1844668800-1844672400@tenesquire.com
SUMMARY:TEN Woodland Hills - Online
DESCRIPTION:
URL:https://tenesquire.com/calendar/ten-woodland-hills-online/2028-06-15/
LOCATION:Online Meeting
CATEGORIES:Regular Meetings
ATTACH;FMTTYPE=image/jpeg:https://tenesquire.com/wp-content/uploads/2024/03/Woodland-Hills_online.jpg
END:VEVENT
BEGIN:VEVENT
DTSTART;TZID=America/Los_Angeles:20280817T080000
DTEND;TZID=America/Los_Angeles:20280817T090000
DTSTAMP:20260423T090321
CREATED:20240329T053642Z
LAST-MODIFIED:20240329T053642Z
UID:10001367-1850112000-1850115600@tenesquire.com
SUMMARY:TEN Woodland Hills - Online
DESCRIPTION:
URL:https://tenesquire.com/calendar/ten-woodland-hills-online/2028-08-17/
LOCATION:Online Meeting
CATEGORIES:Regular Meetings
ATTACH;FMTTYPE=image/jpeg:https://tenesquire.com/wp-content/uploads/2024/03/Woodland-Hills_online.jpg
END:VEVENT
BEGIN:VEVENT
DTSTART;TZID=America/Los_Angeles:20281019T080000
DTEND;TZID=America/Los_Angeles:20281019T090000
DTSTAMP:20260423T090321
CREATED:20240329T053642Z
LAST-MODIFIED:20240329T053642Z
UID:10001368-1855555200-1855558800@tenesquire.com
SUMMARY:TEN Woodland Hills - Online
DESCRIPTION:
URL:https://tenesquire.com/calendar/ten-woodland-hills-online/2028-10-19/
LOCATION:Online Meeting
CATEGORIES:Regular Meetings
ATTACH;FMTTYPE=image/jpeg:https://tenesquire.com/wp-content/uploads/2024/03/Woodland-Hills_online.jpg
END:VEVENT
BEGIN:VEVENT
DTSTART;TZID=America/Los_Angeles:20281221T080000
DTEND;TZID=America/Los_Angeles:20281221T090000
DTSTAMP:20260423T090321
CREATED:20240329T053642Z
LAST-MODIFIED:20240329T053642Z
UID:10001369-1860998400-1861002000@tenesquire.com
SUMMARY:TEN Woodland Hills - Online
DESCRIPTION:
URL:https://tenesquire.com/calendar/ten-woodland-hills-online/2028-12-21/
LOCATION:Online Meeting
CATEGORIES:Regular Meetings
ATTACH;FMTTYPE=image/jpeg:https://tenesquire.com/wp-content/uploads/2024/03/Woodland-Hills_online.jpg
END:VEVENT
BEGIN:VEVENT
DTSTART;TZID=America/Los_Angeles:20290215T080000
DTEND;TZID=America/Los_Angeles:20290215T090000
DTSTAMP:20260423T090321
CREATED:20240329T053642Z
LAST-MODIFIED:20240329T053642Z
UID:10001370-1865836800-1865840400@tenesquire.com
SUMMARY:TEN Woodland Hills - Online
DESCRIPTION:
URL:https://tenesquire.com/calendar/ten-woodland-hills-online/2029-02-15/
LOCATION:Online Meeting
CATEGORIES:Regular Meetings
ATTACH;FMTTYPE=image/jpeg:https://tenesquire.com/wp-content/uploads/2024/03/Woodland-Hills_online.jpg
END:VEVENT
BEGIN:VEVENT
DTSTART;TZID=America/Los_Angeles:20290419T080000
DTEND;TZID=America/Los_Angeles:20290419T090000
DTSTAMP:20260423T090321
CREATED:20240329T053642Z
LAST-MODIFIED:20240329T053642Z
UID:10001828-1871280000-1871283600@tenesquire.com
SUMMARY:TEN Woodland Hills - Online
DESCRIPTION:
URL:https://tenesquire.com/calendar/ten-woodland-hills-online/2029-04-19/
LOCATION:Online Meeting
CATEGORIES:Regular Meetings
ATTACH;FMTTYPE=image/jpeg:https://tenesquire.com/wp-content/uploads/2024/03/Woodland-Hills_online.jpg
END:VEVENT
BEGIN:VEVENT
DTSTART;TZID=America/Los_Angeles:20290621T080000
DTEND;TZID=America/Los_Angeles:20290621T090000
DTSTAMP:20260423T090321
CREATED:20240329T053642Z
LAST-MODIFIED:20240329T053642Z
UID:10002108-1876723200-1876726800@tenesquire.com
SUMMARY:TEN Woodland Hills - Online
DESCRIPTION:
URL:https://tenesquire.com/calendar/ten-woodland-hills-online/2029-06-21/
LOCATION:Online Meeting
CATEGORIES:Regular Meetings
ATTACH;FMTTYPE=image/jpeg:https://tenesquire.com/wp-content/uploads/2024/03/Woodland-Hills_online.jpg
END:VEVENT
BEGIN:VEVENT
DTSTART;TZID=America/Los_Angeles:20290816T080000
DTEND;TZID=America/Los_Angeles:20290816T090000
DTSTAMP:20260423T090321
CREATED:20240329T053642Z
LAST-MODIFIED:20240329T053642Z
UID:10002164-1881561600-1881565200@tenesquire.com
SUMMARY:TEN Woodland Hills - Online
DESCRIPTION:
URL:https://tenesquire.com/calendar/ten-woodland-hills-online/2029-08-16/
LOCATION:Online Meeting
CATEGORIES:Regular Meetings
ATTACH;FMTTYPE=image/jpeg:https://tenesquire.com/wp-content/uploads/2024/03/Woodland-Hills_online.jpg
END:VEVENT
BEGIN:VEVENT
DTSTART;TZID=America/Los_Angeles:20291018T080000
DTEND;TZID=America/Los_Angeles:20291018T090000
DTSTAMP:20260423T090321
CREATED:20240329T053642Z
LAST-MODIFIED:20240329T053642Z
UID:10002207-1887004800-1887008400@tenesquire.com
SUMMARY:TEN Woodland Hills - Online
DESCRIPTION:
URL:https://tenesquire.com/calendar/ten-woodland-hills-online/2029-10-18/
LOCATION:Online Meeting
CATEGORIES:Regular Meetings
ATTACH;FMTTYPE=image/jpeg:https://tenesquire.com/wp-content/uploads/2024/03/Woodland-Hills_online.jpg
END:VEVENT
BEGIN:VEVENT
DTSTART;TZID=America/Los_Angeles:20291220T080000
DTEND;TZID=America/Los_Angeles:20291220T090000
DTSTAMP:20260423T090321
CREATED:20240329T053642Z
LAST-MODIFIED:20240329T053642Z
UID:10002241-1892448000-1892451600@tenesquire.com
SUMMARY:TEN Woodland Hills - Online
DESCRIPTION:
URL:https://tenesquire.com/calendar/ten-woodland-hills-online/2029-12-20/
LOCATION:Online Meeting
CATEGORIES:Regular Meetings
ATTACH;FMTTYPE=image/jpeg:https://tenesquire.com/wp-content/uploads/2024/03/Woodland-Hills_online.jpg
END:VEVENT
BEGIN:VEVENT
DTSTART;TZID=America/Los_Angeles:20300221T080000
DTEND;TZID=America/Los_Angeles:20300221T090000
DTSTAMP:20260423T090321
CREATED:20240329T053642Z
LAST-MODIFIED:20240329T053642Z
UID:10002274-1897891200-1897894800@tenesquire.com
SUMMARY:TEN Woodland Hills - Online
DESCRIPTION:
URL:https://tenesquire.com/calendar/ten-woodland-hills-online/2030-02-21/
LOCATION:Online Meeting
CATEGORIES:Regular Meetings
ATTACH;FMTTYPE=image/jpeg:https://tenesquire.com/wp-content/uploads/2024/03/Woodland-Hills_online.jpg
END:VEVENT
BEGIN:VEVENT
DTSTART;TZID=America/Los_Angeles:20300418T080000
DTEND;TZID=America/Los_Angeles:20300418T090000
DTSTAMP:20260423T090321
CREATED:20240329T053642Z
LAST-MODIFIED:20240329T053642Z
UID:10002378-1902729600-1902733200@tenesquire.com
SUMMARY:TEN Woodland Hills - Online
DESCRIPTION:
URL:https://tenesquire.com/calendar/ten-woodland-hills-online/2030-04-18/
LOCATION:Online Meeting
CATEGORIES:Regular Meetings
ATTACH;FMTTYPE=image/jpeg:https://tenesquire.com/wp-content/uploads/2024/03/Woodland-Hills_online.jpg
END:VEVENT
BEGIN:VEVENT
DTSTART;TZID=America/Los_Angeles:20300620T080000
DTEND;TZID=America/Los_Angeles:20300620T090000
DTSTAMP:20260423T090321
CREATED:20240329T053642Z
LAST-MODIFIED:20240329T053642Z
UID:10002770-1908172800-1908176400@tenesquire.com
SUMMARY:TEN Woodland Hills - Online
DESCRIPTION:
URL:https://tenesquire.com/calendar/ten-woodland-hills-online/2030-06-20/
LOCATION:Online Meeting
CATEGORIES:Regular Meetings
ATTACH;FMTTYPE=image/jpeg:https://tenesquire.com/wp-content/uploads/2024/03/Woodland-Hills_online.jpg
END:VEVENT
BEGIN:VEVENT
DTSTART;TZID=America/Los_Angeles:20300815T080000
DTEND;TZID=America/Los_Angeles:20300815T090000
DTSTAMP:20260423T090321
CREATED:20240329T053642Z
LAST-MODIFIED:20240329T053642Z
UID:10002799-1913011200-1913014800@tenesquire.com
SUMMARY:TEN Woodland Hills - Online
DESCRIPTION:
URL:https://tenesquire.com/calendar/ten-woodland-hills-online/2030-08-15/
LOCATION:Online Meeting
CATEGORIES:Regular Meetings
ATTACH;FMTTYPE=image/jpeg:https://tenesquire.com/wp-content/uploads/2024/03/Woodland-Hills_online.jpg
END:VEVENT
BEGIN:VEVENT
DTSTART;TZID=America/Los_Angeles:20301017T080000
DTEND;TZID=America/Los_Angeles:20301017T090000
DTSTAMP:20260423T090321
CREATED:20240329T053642Z
LAST-MODIFIED:20240329T053642Z
UID:10002839-1918454400-1918458000@tenesquire.com
SUMMARY:TEN Woodland Hills - Online
DESCRIPTION:
URL:https://tenesquire.com/calendar/ten-woodland-hills-online/2030-10-17/
LOCATION:Online Meeting
CATEGORIES:Regular Meetings
ATTACH;FMTTYPE=image/jpeg:https://tenesquire.com/wp-content/uploads/2024/03/Woodland-Hills_online.jpg
END:VEVENT
BEGIN:VEVENT
DTSTART;TZID=America/Los_Angeles:20301219T080000
DTEND;TZID=America/Los_Angeles:20301219T090000
DTSTAMP:20260423T090321
CREATED:20240329T053642Z
LAST-MODIFIED:20240329T053642Z
UID:10002874-1923897600-1923901200@tenesquire.com
SUMMARY:TEN Woodland Hills - Online
DESCRIPTION:
URL:https://tenesquire.com/calendar/ten-woodland-hills-online/2030-12-19/
LOCATION:Online Meeting
CATEGORIES:Regular Meetings
ATTACH;FMTTYPE=image/jpeg:https://tenesquire.com/wp-content/uploads/2024/03/Woodland-Hills_online.jpg
END:VEVENT
BEGIN:VEVENT
DTSTART;TZID=America/Los_Angeles:20310220T080000
DTEND;TZID=America/Los_Angeles:20310220T090000
DTSTAMP:20260423T090321
CREATED:20240329T053642Z
LAST-MODIFIED:20240329T053642Z
UID:10003027-1929340800-1929344400@tenesquire.com
SUMMARY:TEN Woodland Hills - Online
DESCRIPTION:
URL:https://tenesquire.com/calendar/ten-woodland-hills-online/2031-02-20/
LOCATION:Online Meeting
CATEGORIES:Regular Meetings
ATTACH;FMTTYPE=image/jpeg:https://tenesquire.com/wp-content/uploads/2024/03/Woodland-Hills_online.jpg
END:VEVENT
END:VCALENDAR