BEGIN:VCALENDAR
VERSION:2.0
PRODID:-//TEN: The Esquire Network - ECPv6.15.15//NONSGML v1.0//EN
CALSCALE:GREGORIAN
METHOD:PUBLISH
X-WR-CALNAME:TEN: The Esquire Network
X-ORIGINAL-URL:https://tenesquire.com
X-WR-CALDESC:Events for TEN: The Esquire Network
REFRESH-INTERVAL;VALUE=DURATION:PT1H
X-Robots-Tag:noindex
X-PUBLISHED-TTL:PT1H
BEGIN:VTIMEZONE
TZID:America/Los_Angeles
BEGIN:DAYLIGHT
TZOFFSETFROM:-0800
TZOFFSETTO:-0700
TZNAME:PDT
DTSTART:20250309T100000
END:DAYLIGHT
BEGIN:STANDARD
TZOFFSETFROM:-0700
TZOFFSETTO:-0800
TZNAME:PST
DTSTART:20251102T090000
END:STANDARD
BEGIN:DAYLIGHT
TZOFFSETFROM:-0800
TZOFFSETTO:-0700
TZNAME:PDT
DTSTART:20260308T100000
END:DAYLIGHT
BEGIN:STANDARD
TZOFFSETFROM:-0700
TZOFFSETTO:-0800
TZNAME:PST
DTSTART:20261101T090000
END:STANDARD
BEGIN:DAYLIGHT
TZOFFSETFROM:-0800
TZOFFSETTO:-0700
TZNAME:PDT
DTSTART:20270314T100000
END:DAYLIGHT
BEGIN:STANDARD
TZOFFSETFROM:-0700
TZOFFSETTO:-0800
TZNAME:PST
DTSTART:20271107T090000
END:STANDARD
BEGIN:DAYLIGHT
TZOFFSETFROM:-0800
TZOFFSETTO:-0700
TZNAME:PDT
DTSTART:20280312T100000
END:DAYLIGHT
BEGIN:STANDARD
TZOFFSETFROM:-0700
TZOFFSETTO:-0800
TZNAME:PST
DTSTART:20281105T090000
END:STANDARD
BEGIN:DAYLIGHT
TZOFFSETFROM:-0800
TZOFFSETTO:-0700
TZNAME:PDT
DTSTART:20290311T100000
END:DAYLIGHT
BEGIN:STANDARD
TZOFFSETFROM:-0700
TZOFFSETTO:-0800
TZNAME:PST
DTSTART:20291104T090000
END:STANDARD
END:VTIMEZONE
BEGIN:VEVENT
DTSTART;TZID=America/Los_Angeles:20260519T080000
DTEND;TZID=America/Los_Angeles:20260519T090000
DTSTAMP:20260423T090145
CREATED:20260420T192041Z
LAST-MODIFIED:20260420T192115Z
UID:10001246-1779177600-1779181200@tenesquire.com
SUMMARY:TEN Ventura
DESCRIPTION:
URL:https://tenesquire.com/calendar/ten-ventura-2026-05-19/
LOCATION:Online Meeting
CATEGORIES:Regular Meetings
ATTACH;FMTTYPE=image/jpeg:https://tenesquire.com/wp-content/uploads/2024/03/Ventura_online.jpg
END:VEVENT
BEGIN:VEVENT
DTSTART;TZID=America/Los_Angeles:20260616T080000
DTEND;TZID=America/Los_Angeles:20260616T090000
DTSTAMP:20260423T090145
CREATED:20240329T053319Z
LAST-MODIFIED:20240814T220752Z
UID:10001247-1781596800-1781600400@tenesquire.com
SUMMARY:TEN Ventura
DESCRIPTION:
URL:https://tenesquire.com/calendar/ten-ventura/2026-06-16/
LOCATION:Online Meeting
CATEGORIES:Regular Meetings
ATTACH;FMTTYPE=image/jpeg:https://tenesquire.com/wp-content/uploads/2024/03/Ventura_online.jpg
END:VEVENT
BEGIN:VEVENT
DTSTART;TZID=America/Los_Angeles:20260721T080000
DTEND;TZID=America/Los_Angeles:20260721T090000
DTSTAMP:20260423T090145
CREATED:20240329T053319Z
LAST-MODIFIED:20240814T220752Z
UID:10001248-1784620800-1784624400@tenesquire.com
SUMMARY:TEN Ventura
DESCRIPTION:
URL:https://tenesquire.com/calendar/ten-ventura/2026-07-21/
LOCATION:Online Meeting
CATEGORIES:Regular Meetings
ATTACH;FMTTYPE=image/jpeg:https://tenesquire.com/wp-content/uploads/2024/03/Ventura_online.jpg
END:VEVENT
BEGIN:VEVENT
DTSTART;TZID=America/Los_Angeles:20260818T080000
DTEND;TZID=America/Los_Angeles:20260818T090000
DTSTAMP:20260423T090145
CREATED:20240329T053319Z
LAST-MODIFIED:20240814T220752Z
UID:10001249-1787040000-1787043600@tenesquire.com
SUMMARY:TEN Ventura
DESCRIPTION:
URL:https://tenesquire.com/calendar/ten-ventura/2026-08-18/
LOCATION:Online Meeting
CATEGORIES:Regular Meetings
ATTACH;FMTTYPE=image/jpeg:https://tenesquire.com/wp-content/uploads/2024/03/Ventura_online.jpg
END:VEVENT
BEGIN:VEVENT
DTSTART;TZID=America/Los_Angeles:20260915T080000
DTEND;TZID=America/Los_Angeles:20260915T090000
DTSTAMP:20260423T090145
CREATED:20240329T053319Z
LAST-MODIFIED:20240814T220752Z
UID:10001250-1789459200-1789462800@tenesquire.com
SUMMARY:TEN Ventura
DESCRIPTION:
URL:https://tenesquire.com/calendar/ten-ventura/2026-09-15/
LOCATION:Online Meeting
CATEGORIES:Regular Meetings
ATTACH;FMTTYPE=image/jpeg:https://tenesquire.com/wp-content/uploads/2024/03/Ventura_online.jpg
END:VEVENT
BEGIN:VEVENT
DTSTART;TZID=America/Los_Angeles:20261020T080000
DTEND;TZID=America/Los_Angeles:20261020T090000
DTSTAMP:20260423T090145
CREATED:20240329T053319Z
LAST-MODIFIED:20240814T220752Z
UID:10001251-1792483200-1792486800@tenesquire.com
SUMMARY:TEN Ventura
DESCRIPTION:
URL:https://tenesquire.com/calendar/ten-ventura/2026-10-20/
LOCATION:Online Meeting
CATEGORIES:Regular Meetings
ATTACH;FMTTYPE=image/jpeg:https://tenesquire.com/wp-content/uploads/2024/03/Ventura_online.jpg
END:VEVENT
BEGIN:VEVENT
DTSTART;TZID=America/Los_Angeles:20261117T080000
DTEND;TZID=America/Los_Angeles:20261117T090000
DTSTAMP:20260423T090145
CREATED:20240329T053319Z
LAST-MODIFIED:20240814T220752Z
UID:10001252-1794902400-1794906000@tenesquire.com
SUMMARY:TEN Ventura
DESCRIPTION:
URL:https://tenesquire.com/calendar/ten-ventura/2026-11-17/
LOCATION:Online Meeting
CATEGORIES:Regular Meetings
ATTACH;FMTTYPE=image/jpeg:https://tenesquire.com/wp-content/uploads/2024/03/Ventura_online.jpg
END:VEVENT
BEGIN:VEVENT
DTSTART;TZID=America/Los_Angeles:20261215T080000
DTEND;TZID=America/Los_Angeles:20261215T090000
DTSTAMP:20260423T090145
CREATED:20240329T053319Z
LAST-MODIFIED:20240814T220752Z
UID:10001253-1797321600-1797325200@tenesquire.com
SUMMARY:TEN Ventura
DESCRIPTION:
URL:https://tenesquire.com/calendar/ten-ventura/2026-12-15/
LOCATION:Online Meeting
CATEGORIES:Regular Meetings
ATTACH;FMTTYPE=image/jpeg:https://tenesquire.com/wp-content/uploads/2024/03/Ventura_online.jpg
END:VEVENT
BEGIN:VEVENT
DTSTART;TZID=America/Los_Angeles:20270119T080000
DTEND;TZID=America/Los_Angeles:20270119T090000
DTSTAMP:20260423T090145
CREATED:20240329T053319Z
LAST-MODIFIED:20240814T220752Z
UID:10001254-1800345600-1800349200@tenesquire.com
SUMMARY:TEN Ventura
DESCRIPTION:
URL:https://tenesquire.com/calendar/ten-ventura/2027-01-19/
LOCATION:Online Meeting
CATEGORIES:Regular Meetings
ATTACH;FMTTYPE=image/jpeg:https://tenesquire.com/wp-content/uploads/2024/03/Ventura_online.jpg
END:VEVENT
BEGIN:VEVENT
DTSTART;TZID=America/Los_Angeles:20270216T080000
DTEND;TZID=America/Los_Angeles:20270216T090000
DTSTAMP:20260423T090145
CREATED:20240329T053319Z
LAST-MODIFIED:20240814T220752Z
UID:10001255-1802764800-1802768400@tenesquire.com
SUMMARY:TEN Ventura
DESCRIPTION:
URL:https://tenesquire.com/calendar/ten-ventura/2027-02-16/
LOCATION:Online Meeting
CATEGORIES:Regular Meetings
ATTACH;FMTTYPE=image/jpeg:https://tenesquire.com/wp-content/uploads/2024/03/Ventura_online.jpg
END:VEVENT
BEGIN:VEVENT
DTSTART;TZID=America/Los_Angeles:20270316T080000
DTEND;TZID=America/Los_Angeles:20270316T090000
DTSTAMP:20260423T090145
CREATED:20240329T053319Z
LAST-MODIFIED:20240814T220752Z
UID:10001256-1805184000-1805187600@tenesquire.com
SUMMARY:TEN Ventura
DESCRIPTION:
URL:https://tenesquire.com/calendar/ten-ventura/2027-03-16/
LOCATION:Online Meeting
CATEGORIES:Regular Meetings
ATTACH;FMTTYPE=image/jpeg:https://tenesquire.com/wp-content/uploads/2024/03/Ventura_online.jpg
END:VEVENT
BEGIN:VEVENT
DTSTART;TZID=America/Los_Angeles:20270420T080000
DTEND;TZID=America/Los_Angeles:20270420T090000
DTSTAMP:20260423T090145
CREATED:20240329T053319Z
LAST-MODIFIED:20240814T220752Z
UID:10001257-1808208000-1808211600@tenesquire.com
SUMMARY:TEN Ventura
DESCRIPTION:
URL:https://tenesquire.com/calendar/ten-ventura/2027-04-20/
LOCATION:Online Meeting
CATEGORIES:Regular Meetings
ATTACH;FMTTYPE=image/jpeg:https://tenesquire.com/wp-content/uploads/2024/03/Ventura_online.jpg
END:VEVENT
BEGIN:VEVENT
DTSTART;TZID=America/Los_Angeles:20270518T080000
DTEND;TZID=America/Los_Angeles:20270518T090000
DTSTAMP:20260423T090145
CREATED:20240329T053319Z
LAST-MODIFIED:20240814T220752Z
UID:10001258-1810627200-1810630800@tenesquire.com
SUMMARY:TEN Ventura
DESCRIPTION:
URL:https://tenesquire.com/calendar/ten-ventura/2027-05-18/
LOCATION:Online Meeting
CATEGORIES:Regular Meetings
ATTACH;FMTTYPE=image/jpeg:https://tenesquire.com/wp-content/uploads/2024/03/Ventura_online.jpg
END:VEVENT
BEGIN:VEVENT
DTSTART;TZID=America/Los_Angeles:20270615T080000
DTEND;TZID=America/Los_Angeles:20270615T090000
DTSTAMP:20260423T090145
CREATED:20240329T053319Z
LAST-MODIFIED:20240814T220752Z
UID:10001259-1813046400-1813050000@tenesquire.com
SUMMARY:TEN Ventura
DESCRIPTION:
URL:https://tenesquire.com/calendar/ten-ventura/2027-06-15/
LOCATION:Online Meeting
CATEGORIES:Regular Meetings
ATTACH;FMTTYPE=image/jpeg:https://tenesquire.com/wp-content/uploads/2024/03/Ventura_online.jpg
END:VEVENT
BEGIN:VEVENT
DTSTART;TZID=America/Los_Angeles:20270720T080000
DTEND;TZID=America/Los_Angeles:20270720T090000
DTSTAMP:20260423T090145
CREATED:20240329T053319Z
LAST-MODIFIED:20240814T220752Z
UID:10001260-1816070400-1816074000@tenesquire.com
SUMMARY:TEN Ventura
DESCRIPTION:
URL:https://tenesquire.com/calendar/ten-ventura/2027-07-20/
LOCATION:Online Meeting
CATEGORIES:Regular Meetings
ATTACH;FMTTYPE=image/jpeg:https://tenesquire.com/wp-content/uploads/2024/03/Ventura_online.jpg
END:VEVENT
BEGIN:VEVENT
DTSTART;TZID=America/Los_Angeles:20270817T080000
DTEND;TZID=America/Los_Angeles:20270817T090000
DTSTAMP:20260423T090145
CREATED:20240329T053319Z
LAST-MODIFIED:20240814T220752Z
UID:10001261-1818489600-1818493200@tenesquire.com
SUMMARY:TEN Ventura
DESCRIPTION:
URL:https://tenesquire.com/calendar/ten-ventura/2027-08-17/
LOCATION:Online Meeting
CATEGORIES:Regular Meetings
ATTACH;FMTTYPE=image/jpeg:https://tenesquire.com/wp-content/uploads/2024/03/Ventura_online.jpg
END:VEVENT
BEGIN:VEVENT
DTSTART;TZID=America/Los_Angeles:20270921T080000
DTEND;TZID=America/Los_Angeles:20270921T090000
DTSTAMP:20260423T090145
CREATED:20240329T053319Z
LAST-MODIFIED:20240814T220752Z
UID:10001262-1821513600-1821517200@tenesquire.com
SUMMARY:TEN Ventura
DESCRIPTION:
URL:https://tenesquire.com/calendar/ten-ventura/2027-09-21/
LOCATION:Online Meeting
CATEGORIES:Regular Meetings
ATTACH;FMTTYPE=image/jpeg:https://tenesquire.com/wp-content/uploads/2024/03/Ventura_online.jpg
END:VEVENT
BEGIN:VEVENT
DTSTART;TZID=America/Los_Angeles:20271019T080000
DTEND;TZID=America/Los_Angeles:20271019T090000
DTSTAMP:20260423T090145
CREATED:20240329T053319Z
LAST-MODIFIED:20240814T220752Z
UID:10001263-1823932800-1823936400@tenesquire.com
SUMMARY:TEN Ventura
DESCRIPTION:
URL:https://tenesquire.com/calendar/ten-ventura/2027-10-19/
LOCATION:Online Meeting
CATEGORIES:Regular Meetings
ATTACH;FMTTYPE=image/jpeg:https://tenesquire.com/wp-content/uploads/2024/03/Ventura_online.jpg
END:VEVENT
BEGIN:VEVENT
DTSTART;TZID=America/Los_Angeles:20271116T080000
DTEND;TZID=America/Los_Angeles:20271116T090000
DTSTAMP:20260423T090145
CREATED:20240329T053319Z
LAST-MODIFIED:20240814T220752Z
UID:10001264-1826352000-1826355600@tenesquire.com
SUMMARY:TEN Ventura
DESCRIPTION:
URL:https://tenesquire.com/calendar/ten-ventura/2027-11-16/
LOCATION:Online Meeting
CATEGORIES:Regular Meetings
ATTACH;FMTTYPE=image/jpeg:https://tenesquire.com/wp-content/uploads/2024/03/Ventura_online.jpg
END:VEVENT
BEGIN:VEVENT
DTSTART;TZID=America/Los_Angeles:20271221T080000
DTEND;TZID=America/Los_Angeles:20271221T090000
DTSTAMP:20260423T090145
CREATED:20240329T053319Z
LAST-MODIFIED:20240814T220752Z
UID:10001265-1829376000-1829379600@tenesquire.com
SUMMARY:TEN Ventura
DESCRIPTION:
URL:https://tenesquire.com/calendar/ten-ventura/2027-12-21/
LOCATION:Online Meeting
CATEGORIES:Regular Meetings
ATTACH;FMTTYPE=image/jpeg:https://tenesquire.com/wp-content/uploads/2024/03/Ventura_online.jpg
END:VEVENT
BEGIN:VEVENT
DTSTART;TZID=America/Los_Angeles:20280118T080000
DTEND;TZID=America/Los_Angeles:20280118T090000
DTSTAMP:20260423T090145
CREATED:20240329T053319Z
LAST-MODIFIED:20240814T220752Z
UID:10001266-1831795200-1831798800@tenesquire.com
SUMMARY:TEN Ventura
DESCRIPTION:
URL:https://tenesquire.com/calendar/ten-ventura/2028-01-18/
LOCATION:Online Meeting
CATEGORIES:Regular Meetings
ATTACH;FMTTYPE=image/jpeg:https://tenesquire.com/wp-content/uploads/2024/03/Ventura_online.jpg
END:VEVENT
BEGIN:VEVENT
DTSTART;TZID=America/Los_Angeles:20280215T080000
DTEND;TZID=America/Los_Angeles:20280215T090000
DTSTAMP:20260423T090145
CREATED:20240329T053319Z
LAST-MODIFIED:20240814T220752Z
UID:10001267-1834214400-1834218000@tenesquire.com
SUMMARY:TEN Ventura
DESCRIPTION:
URL:https://tenesquire.com/calendar/ten-ventura/2028-02-15/
LOCATION:Online Meeting
CATEGORIES:Regular Meetings
ATTACH;FMTTYPE=image/jpeg:https://tenesquire.com/wp-content/uploads/2024/03/Ventura_online.jpg
END:VEVENT
BEGIN:VEVENT
DTSTART;TZID=America/Los_Angeles:20280321T080000
DTEND;TZID=America/Los_Angeles:20280321T090000
DTSTAMP:20260423T090145
CREATED:20240329T053319Z
LAST-MODIFIED:20240814T220752Z
UID:10001268-1837238400-1837242000@tenesquire.com
SUMMARY:TEN Ventura
DESCRIPTION:
URL:https://tenesquire.com/calendar/ten-ventura/2028-03-21/
LOCATION:Online Meeting
CATEGORIES:Regular Meetings
ATTACH;FMTTYPE=image/jpeg:https://tenesquire.com/wp-content/uploads/2024/03/Ventura_online.jpg
END:VEVENT
BEGIN:VEVENT
DTSTART;TZID=America/Los_Angeles:20280418T080000
DTEND;TZID=America/Los_Angeles:20280418T090000
DTSTAMP:20260423T090145
CREATED:20240329T053319Z
LAST-MODIFIED:20240814T220752Z
UID:10001269-1839657600-1839661200@tenesquire.com
SUMMARY:TEN Ventura
DESCRIPTION:
URL:https://tenesquire.com/calendar/ten-ventura/2028-04-18/
LOCATION:Online Meeting
CATEGORIES:Regular Meetings
ATTACH;FMTTYPE=image/jpeg:https://tenesquire.com/wp-content/uploads/2024/03/Ventura_online.jpg
END:VEVENT
BEGIN:VEVENT
DTSTART;TZID=America/Los_Angeles:20280516T080000
DTEND;TZID=America/Los_Angeles:20280516T090000
DTSTAMP:20260423T090145
CREATED:20240329T053319Z
LAST-MODIFIED:20240814T220752Z
UID:10001270-1842076800-1842080400@tenesquire.com
SUMMARY:TEN Ventura
DESCRIPTION:
URL:https://tenesquire.com/calendar/ten-ventura/2028-05-16/
LOCATION:Online Meeting
CATEGORIES:Regular Meetings
ATTACH;FMTTYPE=image/jpeg:https://tenesquire.com/wp-content/uploads/2024/03/Ventura_online.jpg
END:VEVENT
BEGIN:VEVENT
DTSTART;TZID=America/Los_Angeles:20280620T080000
DTEND;TZID=America/Los_Angeles:20280620T090000
DTSTAMP:20260423T090145
CREATED:20240329T053319Z
LAST-MODIFIED:20240814T220752Z
UID:10001271-1845100800-1845104400@tenesquire.com
SUMMARY:TEN Ventura
DESCRIPTION:
URL:https://tenesquire.com/calendar/ten-ventura/2028-06-20/
LOCATION:Online Meeting
CATEGORIES:Regular Meetings
ATTACH;FMTTYPE=image/jpeg:https://tenesquire.com/wp-content/uploads/2024/03/Ventura_online.jpg
END:VEVENT
BEGIN:VEVENT
DTSTART;TZID=America/Los_Angeles:20280718T080000
DTEND;TZID=America/Los_Angeles:20280718T090000
DTSTAMP:20260423T090145
CREATED:20240329T053319Z
LAST-MODIFIED:20240814T220752Z
UID:10001272-1847520000-1847523600@tenesquire.com
SUMMARY:TEN Ventura
DESCRIPTION:
URL:https://tenesquire.com/calendar/ten-ventura/2028-07-18/
LOCATION:Online Meeting
CATEGORIES:Regular Meetings
ATTACH;FMTTYPE=image/jpeg:https://tenesquire.com/wp-content/uploads/2024/03/Ventura_online.jpg
END:VEVENT
BEGIN:VEVENT
DTSTART;TZID=America/Los_Angeles:20280815T080000
DTEND;TZID=America/Los_Angeles:20280815T090000
DTSTAMP:20260423T090145
CREATED:20240329T053319Z
LAST-MODIFIED:20240814T220752Z
UID:10001273-1849939200-1849942800@tenesquire.com
SUMMARY:TEN Ventura
DESCRIPTION:
URL:https://tenesquire.com/calendar/ten-ventura/2028-08-15/
LOCATION:Online Meeting
CATEGORIES:Regular Meetings
ATTACH;FMTTYPE=image/jpeg:https://tenesquire.com/wp-content/uploads/2024/03/Ventura_online.jpg
END:VEVENT
BEGIN:VEVENT
DTSTART;TZID=America/Los_Angeles:20280919T080000
DTEND;TZID=America/Los_Angeles:20280919T090000
DTSTAMP:20260423T090145
CREATED:20240329T053319Z
LAST-MODIFIED:20240814T220752Z
UID:10001274-1852963200-1852966800@tenesquire.com
SUMMARY:TEN Ventura
DESCRIPTION:
URL:https://tenesquire.com/calendar/ten-ventura/2028-09-19/
LOCATION:Online Meeting
CATEGORIES:Regular Meetings
ATTACH;FMTTYPE=image/jpeg:https://tenesquire.com/wp-content/uploads/2024/03/Ventura_online.jpg
END:VEVENT
BEGIN:VEVENT
DTSTART;TZID=America/Los_Angeles:20281017T080000
DTEND;TZID=America/Los_Angeles:20281017T090000
DTSTAMP:20260423T090145
CREATED:20240329T053319Z
LAST-MODIFIED:20240814T220752Z
UID:10001275-1855382400-1855386000@tenesquire.com
SUMMARY:TEN Ventura
DESCRIPTION:
URL:https://tenesquire.com/calendar/ten-ventura/2028-10-17/
LOCATION:Online Meeting
CATEGORIES:Regular Meetings
ATTACH;FMTTYPE=image/jpeg:https://tenesquire.com/wp-content/uploads/2024/03/Ventura_online.jpg
END:VEVENT
END:VCALENDAR