BEGIN:VCALENDAR
VERSION:2.0
PRODID:-//TEN: The Esquire Network - ECPv6.15.15//NONSGML v1.0//EN
CALSCALE:GREGORIAN
METHOD:PUBLISH
X-WR-CALNAME:TEN: The Esquire Network
X-ORIGINAL-URL:https://tenesquire.com
X-WR-CALDESC:Events for TEN: The Esquire Network
REFRESH-INTERVAL;VALUE=DURATION:PT1H
X-Robots-Tag:noindex
X-PUBLISHED-TTL:PT1H
BEGIN:VTIMEZONE
TZID:America/Los_Angeles
BEGIN:DAYLIGHT
TZOFFSETFROM:-0800
TZOFFSETTO:-0700
TZNAME:PDT
DTSTART:20250309T100000
END:DAYLIGHT
BEGIN:STANDARD
TZOFFSETFROM:-0700
TZOFFSETTO:-0800
TZNAME:PST
DTSTART:20251102T090000
END:STANDARD
BEGIN:DAYLIGHT
TZOFFSETFROM:-0800
TZOFFSETTO:-0700
TZNAME:PDT
DTSTART:20260308T100000
END:DAYLIGHT
BEGIN:STANDARD
TZOFFSETFROM:-0700
TZOFFSETTO:-0800
TZNAME:PST
DTSTART:20261101T090000
END:STANDARD
BEGIN:DAYLIGHT
TZOFFSETFROM:-0800
TZOFFSETTO:-0700
TZNAME:PDT
DTSTART:20270314T100000
END:DAYLIGHT
BEGIN:STANDARD
TZOFFSETFROM:-0700
TZOFFSETTO:-0800
TZNAME:PST
DTSTART:20271107T090000
END:STANDARD
BEGIN:DAYLIGHT
TZOFFSETFROM:-0800
TZOFFSETTO:-0700
TZNAME:PDT
DTSTART:20280312T100000
END:DAYLIGHT
BEGIN:STANDARD
TZOFFSETFROM:-0700
TZOFFSETTO:-0800
TZNAME:PST
DTSTART:20281105T090000
END:STANDARD
BEGIN:DAYLIGHT
TZOFFSETFROM:-0800
TZOFFSETTO:-0700
TZNAME:PDT
DTSTART:20290311T100000
END:DAYLIGHT
BEGIN:STANDARD
TZOFFSETFROM:-0700
TZOFFSETTO:-0800
TZNAME:PST
DTSTART:20291104T090000
END:STANDARD
END:VTIMEZONE
BEGIN:VEVENT
DTSTART;TZID=America/Los_Angeles:20260518T113000
DTEND;TZID=America/Los_Angeles:20260518T123000
DTSTAMP:20260423T092032
CREATED:20260420T191836Z
LAST-MODIFIED:20260420T192016Z
UID:10001636-1779103800-1779107400@tenesquire.com
SUMMARY:TEN Probate and Estate Planning Law Group
DESCRIPTION:
URL:https://tenesquire.com/calendar/ten-probate-2026-05-18/
LOCATION:Online Meeting
CATEGORIES:Regular Meetings
ATTACH;FMTTYPE=image/jpeg:https://tenesquire.com/wp-content/uploads/2024/03/Mediators-2.jpg
END:VEVENT
BEGIN:VEVENT
DTSTART;TZID=America/Los_Angeles:20260615T113000
DTEND;TZID=America/Los_Angeles:20260615T123000
DTSTAMP:20260423T092032
CREATED:20240329T053042Z
LAST-MODIFIED:20240329T054637Z
UID:10001637-1781523000-1781526600@tenesquire.com
SUMMARY:TEN Probate and Estate Planning Law Group
DESCRIPTION:
URL:https://tenesquire.com/calendar/ten-probate-and-estate-planning-law-group/2026-06-15/
LOCATION:Online Meeting
CATEGORIES:Regular Meetings
ATTACH;FMTTYPE=image/jpeg:https://tenesquire.com/wp-content/uploads/2024/03/Mediators-2.jpg
END:VEVENT
BEGIN:VEVENT
DTSTART;TZID=America/Los_Angeles:20260720T113000
DTEND;TZID=America/Los_Angeles:20260720T123000
DTSTAMP:20260423T092032
CREATED:20240329T053042Z
LAST-MODIFIED:20240329T054637Z
UID:10001638-1784547000-1784550600@tenesquire.com
SUMMARY:TEN Probate and Estate Planning Law Group
DESCRIPTION:
URL:https://tenesquire.com/calendar/ten-probate-and-estate-planning-law-group/2026-07-20/
LOCATION:Online Meeting
CATEGORIES:Regular Meetings
ATTACH;FMTTYPE=image/jpeg:https://tenesquire.com/wp-content/uploads/2024/03/Mediators-2.jpg
END:VEVENT
BEGIN:VEVENT
DTSTART;TZID=America/Los_Angeles:20260817T113000
DTEND;TZID=America/Los_Angeles:20260817T123000
DTSTAMP:20260423T092032
CREATED:20240329T053042Z
LAST-MODIFIED:20240329T054637Z
UID:10001639-1786966200-1786969800@tenesquire.com
SUMMARY:TEN Probate and Estate Planning Law Group
DESCRIPTION:
URL:https://tenesquire.com/calendar/ten-probate-and-estate-planning-law-group/2026-08-17/
LOCATION:Online Meeting
CATEGORIES:Regular Meetings
ATTACH;FMTTYPE=image/jpeg:https://tenesquire.com/wp-content/uploads/2024/03/Mediators-2.jpg
END:VEVENT
BEGIN:VEVENT
DTSTART;TZID=America/Los_Angeles:20260921T113000
DTEND;TZID=America/Los_Angeles:20260921T123000
DTSTAMP:20260423T092032
CREATED:20240329T053042Z
LAST-MODIFIED:20240329T054637Z
UID:10001640-1789990200-1789993800@tenesquire.com
SUMMARY:TEN Probate and Estate Planning Law Group
DESCRIPTION:
URL:https://tenesquire.com/calendar/ten-probate-and-estate-planning-law-group/2026-09-21/
LOCATION:Online Meeting
CATEGORIES:Regular Meetings
ATTACH;FMTTYPE=image/jpeg:https://tenesquire.com/wp-content/uploads/2024/03/Mediators-2.jpg
END:VEVENT
BEGIN:VEVENT
DTSTART;TZID=America/Los_Angeles:20261019T113000
DTEND;TZID=America/Los_Angeles:20261019T123000
DTSTAMP:20260423T092032
CREATED:20240329T053042Z
LAST-MODIFIED:20240329T054637Z
UID:10001641-1792409400-1792413000@tenesquire.com
SUMMARY:TEN Probate and Estate Planning Law Group
DESCRIPTION:
URL:https://tenesquire.com/calendar/ten-probate-and-estate-planning-law-group/2026-10-19/
LOCATION:Online Meeting
CATEGORIES:Regular Meetings
ATTACH;FMTTYPE=image/jpeg:https://tenesquire.com/wp-content/uploads/2024/03/Mediators-2.jpg
END:VEVENT
BEGIN:VEVENT
DTSTART;TZID=America/Los_Angeles:20261116T113000
DTEND;TZID=America/Los_Angeles:20261116T123000
DTSTAMP:20260423T092032
CREATED:20240329T053042Z
LAST-MODIFIED:20240329T054637Z
UID:10001642-1794828600-1794832200@tenesquire.com
SUMMARY:TEN Probate and Estate Planning Law Group
DESCRIPTION:
URL:https://tenesquire.com/calendar/ten-probate-and-estate-planning-law-group/2026-11-16/
LOCATION:Online Meeting
CATEGORIES:Regular Meetings
ATTACH;FMTTYPE=image/jpeg:https://tenesquire.com/wp-content/uploads/2024/03/Mediators-2.jpg
END:VEVENT
BEGIN:VEVENT
DTSTART;TZID=America/Los_Angeles:20261221T113000
DTEND;TZID=America/Los_Angeles:20261221T123000
DTSTAMP:20260423T092032
CREATED:20240329T053042Z
LAST-MODIFIED:20240329T054637Z
UID:10001643-1797852600-1797856200@tenesquire.com
SUMMARY:TEN Probate and Estate Planning Law Group
DESCRIPTION:
URL:https://tenesquire.com/calendar/ten-probate-and-estate-planning-law-group/2026-12-21/
LOCATION:Online Meeting
CATEGORIES:Regular Meetings
ATTACH;FMTTYPE=image/jpeg:https://tenesquire.com/wp-content/uploads/2024/03/Mediators-2.jpg
END:VEVENT
BEGIN:VEVENT
DTSTART;TZID=America/Los_Angeles:20270118T113000
DTEND;TZID=America/Los_Angeles:20270118T123000
DTSTAMP:20260423T092032
CREATED:20240329T053042Z
LAST-MODIFIED:20240329T054637Z
UID:10001644-1800271800-1800275400@tenesquire.com
SUMMARY:TEN Probate and Estate Planning Law Group
DESCRIPTION:
URL:https://tenesquire.com/calendar/ten-probate-and-estate-planning-law-group/2027-01-18/
LOCATION:Online Meeting
CATEGORIES:Regular Meetings
ATTACH;FMTTYPE=image/jpeg:https://tenesquire.com/wp-content/uploads/2024/03/Mediators-2.jpg
END:VEVENT
BEGIN:VEVENT
DTSTART;TZID=America/Los_Angeles:20270215T113000
DTEND;TZID=America/Los_Angeles:20270215T123000
DTSTAMP:20260423T092032
CREATED:20240329T053042Z
LAST-MODIFIED:20240329T054637Z
UID:10001645-1802691000-1802694600@tenesquire.com
SUMMARY:TEN Probate and Estate Planning Law Group
DESCRIPTION:
URL:https://tenesquire.com/calendar/ten-probate-and-estate-planning-law-group/2027-02-15/
LOCATION:Online Meeting
CATEGORIES:Regular Meetings
ATTACH;FMTTYPE=image/jpeg:https://tenesquire.com/wp-content/uploads/2024/03/Mediators-2.jpg
END:VEVENT
BEGIN:VEVENT
DTSTART;TZID=America/Los_Angeles:20270315T113000
DTEND;TZID=America/Los_Angeles:20270315T123000
DTSTAMP:20260423T092032
CREATED:20240329T053042Z
LAST-MODIFIED:20240329T054637Z
UID:10001646-1805110200-1805113800@tenesquire.com
SUMMARY:TEN Probate and Estate Planning Law Group
DESCRIPTION:
URL:https://tenesquire.com/calendar/ten-probate-and-estate-planning-law-group/2027-03-15/
LOCATION:Online Meeting
CATEGORIES:Regular Meetings
ATTACH;FMTTYPE=image/jpeg:https://tenesquire.com/wp-content/uploads/2024/03/Mediators-2.jpg
END:VEVENT
BEGIN:VEVENT
DTSTART;TZID=America/Los_Angeles:20270419T113000
DTEND;TZID=America/Los_Angeles:20270419T123000
DTSTAMP:20260423T092032
CREATED:20240329T053042Z
LAST-MODIFIED:20240329T054637Z
UID:10001647-1808134200-1808137800@tenesquire.com
SUMMARY:TEN Probate and Estate Planning Law Group
DESCRIPTION:
URL:https://tenesquire.com/calendar/ten-probate-and-estate-planning-law-group/2027-04-19/
LOCATION:Online Meeting
CATEGORIES:Regular Meetings
ATTACH;FMTTYPE=image/jpeg:https://tenesquire.com/wp-content/uploads/2024/03/Mediators-2.jpg
END:VEVENT
BEGIN:VEVENT
DTSTART;TZID=America/Los_Angeles:20270517T113000
DTEND;TZID=America/Los_Angeles:20270517T123000
DTSTAMP:20260423T092032
CREATED:20240329T053042Z
LAST-MODIFIED:20240329T054637Z
UID:10001648-1810553400-1810557000@tenesquire.com
SUMMARY:TEN Probate and Estate Planning Law Group
DESCRIPTION:
URL:https://tenesquire.com/calendar/ten-probate-and-estate-planning-law-group/2027-05-17/
LOCATION:Online Meeting
CATEGORIES:Regular Meetings
ATTACH;FMTTYPE=image/jpeg:https://tenesquire.com/wp-content/uploads/2024/03/Mediators-2.jpg
END:VEVENT
BEGIN:VEVENT
DTSTART;TZID=America/Los_Angeles:20270621T113000
DTEND;TZID=America/Los_Angeles:20270621T123000
DTSTAMP:20260423T092032
CREATED:20240329T053042Z
LAST-MODIFIED:20240329T054637Z
UID:10001649-1813577400-1813581000@tenesquire.com
SUMMARY:TEN Probate and Estate Planning Law Group
DESCRIPTION:
URL:https://tenesquire.com/calendar/ten-probate-and-estate-planning-law-group/2027-06-21/
LOCATION:Online Meeting
CATEGORIES:Regular Meetings
ATTACH;FMTTYPE=image/jpeg:https://tenesquire.com/wp-content/uploads/2024/03/Mediators-2.jpg
END:VEVENT
BEGIN:VEVENT
DTSTART;TZID=America/Los_Angeles:20270719T113000
DTEND;TZID=America/Los_Angeles:20270719T123000
DTSTAMP:20260423T092032
CREATED:20240329T053042Z
LAST-MODIFIED:20240329T054637Z
UID:10001650-1815996600-1816000200@tenesquire.com
SUMMARY:TEN Probate and Estate Planning Law Group
DESCRIPTION:
URL:https://tenesquire.com/calendar/ten-probate-and-estate-planning-law-group/2027-07-19/
LOCATION:Online Meeting
CATEGORIES:Regular Meetings
ATTACH;FMTTYPE=image/jpeg:https://tenesquire.com/wp-content/uploads/2024/03/Mediators-2.jpg
END:VEVENT
BEGIN:VEVENT
DTSTART;TZID=America/Los_Angeles:20270816T113000
DTEND;TZID=America/Los_Angeles:20270816T123000
DTSTAMP:20260423T092032
CREATED:20240329T053042Z
LAST-MODIFIED:20240329T054637Z
UID:10001651-1818415800-1818419400@tenesquire.com
SUMMARY:TEN Probate and Estate Planning Law Group
DESCRIPTION:
URL:https://tenesquire.com/calendar/ten-probate-and-estate-planning-law-group/2027-08-16/
LOCATION:Online Meeting
CATEGORIES:Regular Meetings
ATTACH;FMTTYPE=image/jpeg:https://tenesquire.com/wp-content/uploads/2024/03/Mediators-2.jpg
END:VEVENT
BEGIN:VEVENT
DTSTART;TZID=America/Los_Angeles:20270920T113000
DTEND;TZID=America/Los_Angeles:20270920T123000
DTSTAMP:20260423T092032
CREATED:20240329T053042Z
LAST-MODIFIED:20240329T054637Z
UID:10001652-1821439800-1821443400@tenesquire.com
SUMMARY:TEN Probate and Estate Planning Law Group
DESCRIPTION:
URL:https://tenesquire.com/calendar/ten-probate-and-estate-planning-law-group/2027-09-20/
LOCATION:Online Meeting
CATEGORIES:Regular Meetings
ATTACH;FMTTYPE=image/jpeg:https://tenesquire.com/wp-content/uploads/2024/03/Mediators-2.jpg
END:VEVENT
BEGIN:VEVENT
DTSTART;TZID=America/Los_Angeles:20271018T113000
DTEND;TZID=America/Los_Angeles:20271018T123000
DTSTAMP:20260423T092032
CREATED:20240329T053042Z
LAST-MODIFIED:20240329T054637Z
UID:10001653-1823859000-1823862600@tenesquire.com
SUMMARY:TEN Probate and Estate Planning Law Group
DESCRIPTION:
URL:https://tenesquire.com/calendar/ten-probate-and-estate-planning-law-group/2027-10-18/
LOCATION:Online Meeting
CATEGORIES:Regular Meetings
ATTACH;FMTTYPE=image/jpeg:https://tenesquire.com/wp-content/uploads/2024/03/Mediators-2.jpg
END:VEVENT
BEGIN:VEVENT
DTSTART;TZID=America/Los_Angeles:20271115T113000
DTEND;TZID=America/Los_Angeles:20271115T123000
DTSTAMP:20260423T092032
CREATED:20240329T053042Z
LAST-MODIFIED:20240329T054637Z
UID:10001654-1826278200-1826281800@tenesquire.com
SUMMARY:TEN Probate and Estate Planning Law Group
DESCRIPTION:
URL:https://tenesquire.com/calendar/ten-probate-and-estate-planning-law-group/2027-11-15/
LOCATION:Online Meeting
CATEGORIES:Regular Meetings
ATTACH;FMTTYPE=image/jpeg:https://tenesquire.com/wp-content/uploads/2024/03/Mediators-2.jpg
END:VEVENT
BEGIN:VEVENT
DTSTART;TZID=America/Los_Angeles:20271220T113000
DTEND;TZID=America/Los_Angeles:20271220T123000
DTSTAMP:20260423T092032
CREATED:20240329T053042Z
LAST-MODIFIED:20240329T054637Z
UID:10001655-1829302200-1829305800@tenesquire.com
SUMMARY:TEN Probate and Estate Planning Law Group
DESCRIPTION:
URL:https://tenesquire.com/calendar/ten-probate-and-estate-planning-law-group/2027-12-20/
LOCATION:Online Meeting
CATEGORIES:Regular Meetings
ATTACH;FMTTYPE=image/jpeg:https://tenesquire.com/wp-content/uploads/2024/03/Mediators-2.jpg
END:VEVENT
BEGIN:VEVENT
DTSTART;TZID=America/Los_Angeles:20280117T113000
DTEND;TZID=America/Los_Angeles:20280117T123000
DTSTAMP:20260423T092032
CREATED:20240329T053042Z
LAST-MODIFIED:20240329T054637Z
UID:10001656-1831721400-1831725000@tenesquire.com
SUMMARY:TEN Probate and Estate Planning Law Group
DESCRIPTION:
URL:https://tenesquire.com/calendar/ten-probate-and-estate-planning-law-group/2028-01-17/
LOCATION:Online Meeting
CATEGORIES:Regular Meetings
ATTACH;FMTTYPE=image/jpeg:https://tenesquire.com/wp-content/uploads/2024/03/Mediators-2.jpg
END:VEVENT
BEGIN:VEVENT
DTSTART;TZID=America/Los_Angeles:20280221T113000
DTEND;TZID=America/Los_Angeles:20280221T123000
DTSTAMP:20260423T092032
CREATED:20240329T053042Z
LAST-MODIFIED:20240329T054637Z
UID:10001657-1834745400-1834749000@tenesquire.com
SUMMARY:TEN Probate and Estate Planning Law Group
DESCRIPTION:
URL:https://tenesquire.com/calendar/ten-probate-and-estate-planning-law-group/2028-02-21/
LOCATION:Online Meeting
CATEGORIES:Regular Meetings
ATTACH;FMTTYPE=image/jpeg:https://tenesquire.com/wp-content/uploads/2024/03/Mediators-2.jpg
END:VEVENT
BEGIN:VEVENT
DTSTART;TZID=America/Los_Angeles:20280320T113000
DTEND;TZID=America/Los_Angeles:20280320T123000
DTSTAMP:20260423T092032
CREATED:20240329T053042Z
LAST-MODIFIED:20240329T054637Z
UID:10001658-1837164600-1837168200@tenesquire.com
SUMMARY:TEN Probate and Estate Planning Law Group
DESCRIPTION:
URL:https://tenesquire.com/calendar/ten-probate-and-estate-planning-law-group/2028-03-20/
LOCATION:Online Meeting
CATEGORIES:Regular Meetings
ATTACH;FMTTYPE=image/jpeg:https://tenesquire.com/wp-content/uploads/2024/03/Mediators-2.jpg
END:VEVENT
BEGIN:VEVENT
DTSTART;TZID=America/Los_Angeles:20280417T113000
DTEND;TZID=America/Los_Angeles:20280417T123000
DTSTAMP:20260423T092032
CREATED:20240329T053042Z
LAST-MODIFIED:20240329T054637Z
UID:10001659-1839583800-1839587400@tenesquire.com
SUMMARY:TEN Probate and Estate Planning Law Group
DESCRIPTION:
URL:https://tenesquire.com/calendar/ten-probate-and-estate-planning-law-group/2028-04-17/
LOCATION:Online Meeting
CATEGORIES:Regular Meetings
ATTACH;FMTTYPE=image/jpeg:https://tenesquire.com/wp-content/uploads/2024/03/Mediators-2.jpg
END:VEVENT
BEGIN:VEVENT
DTSTART;TZID=America/Los_Angeles:20280515T113000
DTEND;TZID=America/Los_Angeles:20280515T123000
DTSTAMP:20260423T092032
CREATED:20240329T053042Z
LAST-MODIFIED:20240329T054637Z
UID:10001660-1842003000-1842006600@tenesquire.com
SUMMARY:TEN Probate and Estate Planning Law Group
DESCRIPTION:
URL:https://tenesquire.com/calendar/ten-probate-and-estate-planning-law-group/2028-05-15/
LOCATION:Online Meeting
CATEGORIES:Regular Meetings
ATTACH;FMTTYPE=image/jpeg:https://tenesquire.com/wp-content/uploads/2024/03/Mediators-2.jpg
END:VEVENT
BEGIN:VEVENT
DTSTART;TZID=America/Los_Angeles:20280619T113000
DTEND;TZID=America/Los_Angeles:20280619T123000
DTSTAMP:20260423T092032
CREATED:20240329T053042Z
LAST-MODIFIED:20240329T054637Z
UID:10001661-1845027000-1845030600@tenesquire.com
SUMMARY:TEN Probate and Estate Planning Law Group
DESCRIPTION:
URL:https://tenesquire.com/calendar/ten-probate-and-estate-planning-law-group/2028-06-19/
LOCATION:Online Meeting
CATEGORIES:Regular Meetings
ATTACH;FMTTYPE=image/jpeg:https://tenesquire.com/wp-content/uploads/2024/03/Mediators-2.jpg
END:VEVENT
BEGIN:VEVENT
DTSTART;TZID=America/Los_Angeles:20280717T113000
DTEND;TZID=America/Los_Angeles:20280717T123000
DTSTAMP:20260423T092032
CREATED:20240329T053042Z
LAST-MODIFIED:20240329T054637Z
UID:10001662-1847446200-1847449800@tenesquire.com
SUMMARY:TEN Probate and Estate Planning Law Group
DESCRIPTION:
URL:https://tenesquire.com/calendar/ten-probate-and-estate-planning-law-group/2028-07-17/
LOCATION:Online Meeting
CATEGORIES:Regular Meetings
ATTACH;FMTTYPE=image/jpeg:https://tenesquire.com/wp-content/uploads/2024/03/Mediators-2.jpg
END:VEVENT
BEGIN:VEVENT
DTSTART;TZID=America/Los_Angeles:20280821T113000
DTEND;TZID=America/Los_Angeles:20280821T123000
DTSTAMP:20260423T092032
CREATED:20240329T053042Z
LAST-MODIFIED:20240329T054637Z
UID:10001663-1850470200-1850473800@tenesquire.com
SUMMARY:TEN Probate and Estate Planning Law Group
DESCRIPTION:
URL:https://tenesquire.com/calendar/ten-probate-and-estate-planning-law-group/2028-08-21/
LOCATION:Online Meeting
CATEGORIES:Regular Meetings
ATTACH;FMTTYPE=image/jpeg:https://tenesquire.com/wp-content/uploads/2024/03/Mediators-2.jpg
END:VEVENT
BEGIN:VEVENT
DTSTART;TZID=America/Los_Angeles:20280918T113000
DTEND;TZID=America/Los_Angeles:20280918T123000
DTSTAMP:20260423T092032
CREATED:20240329T053042Z
LAST-MODIFIED:20240329T054637Z
UID:10001664-1852889400-1852893000@tenesquire.com
SUMMARY:TEN Probate and Estate Planning Law Group
DESCRIPTION:
URL:https://tenesquire.com/calendar/ten-probate-and-estate-planning-law-group/2028-09-18/
LOCATION:Online Meeting
CATEGORIES:Regular Meetings
ATTACH;FMTTYPE=image/jpeg:https://tenesquire.com/wp-content/uploads/2024/03/Mediators-2.jpg
END:VEVENT
BEGIN:VEVENT
DTSTART;TZID=America/Los_Angeles:20281016T113000
DTEND;TZID=America/Los_Angeles:20281016T123000
DTSTAMP:20260423T092032
CREATED:20240329T053042Z
LAST-MODIFIED:20240329T054637Z
UID:10001665-1855308600-1855312200@tenesquire.com
SUMMARY:TEN Probate and Estate Planning Law Group
DESCRIPTION:
URL:https://tenesquire.com/calendar/ten-probate-and-estate-planning-law-group/2028-10-16/
LOCATION:Online Meeting
CATEGORIES:Regular Meetings
ATTACH;FMTTYPE=image/jpeg:https://tenesquire.com/wp-content/uploads/2024/03/Mediators-2.jpg
END:VEVENT
END:VCALENDAR