BEGIN:VCALENDAR
VERSION:2.0
PRODID:-//TEN: The Esquire Network - ECPv6.15.15//NONSGML v1.0//EN
CALSCALE:GREGORIAN
METHOD:PUBLISH
X-WR-CALNAME:TEN: The Esquire Network
X-ORIGINAL-URL:https://tenesquire.com
X-WR-CALDESC:Events for TEN: The Esquire Network
REFRESH-INTERVAL;VALUE=DURATION:PT1H
X-Robots-Tag:noindex
X-PUBLISHED-TTL:PT1H
BEGIN:VTIMEZONE
TZID:America/Los_Angeles
BEGIN:DAYLIGHT
TZOFFSETFROM:-0800
TZOFFSETTO:-0700
TZNAME:PDT
DTSTART:20250309T100000
END:DAYLIGHT
BEGIN:STANDARD
TZOFFSETFROM:-0700
TZOFFSETTO:-0800
TZNAME:PST
DTSTART:20251102T090000
END:STANDARD
BEGIN:DAYLIGHT
TZOFFSETFROM:-0800
TZOFFSETTO:-0700
TZNAME:PDT
DTSTART:20260308T100000
END:DAYLIGHT
BEGIN:STANDARD
TZOFFSETFROM:-0700
TZOFFSETTO:-0800
TZNAME:PST
DTSTART:20261101T090000
END:STANDARD
BEGIN:DAYLIGHT
TZOFFSETFROM:-0800
TZOFFSETTO:-0700
TZNAME:PDT
DTSTART:20270314T100000
END:DAYLIGHT
BEGIN:STANDARD
TZOFFSETFROM:-0700
TZOFFSETTO:-0800
TZNAME:PST
DTSTART:20271107T090000
END:STANDARD
BEGIN:DAYLIGHT
TZOFFSETFROM:-0800
TZOFFSETTO:-0700
TZNAME:PDT
DTSTART:20280312T100000
END:DAYLIGHT
BEGIN:STANDARD
TZOFFSETFROM:-0700
TZOFFSETTO:-0800
TZNAME:PST
DTSTART:20281105T090000
END:STANDARD
BEGIN:DAYLIGHT
TZOFFSETFROM:-0800
TZOFFSETTO:-0700
TZNAME:PDT
DTSTART:20290311T100000
END:DAYLIGHT
BEGIN:STANDARD
TZOFFSETFROM:-0700
TZOFFSETTO:-0800
TZNAME:PST
DTSTART:20291104T090000
END:STANDARD
END:VTIMEZONE
BEGIN:VEVENT
DTSTART;TZID=America/Los_Angeles:20260504T120000
DTEND;TZID=America/Los_Angeles:20260504T130000
DTSTAMP:20260423T085439
CREATED:20260420T185137Z
LAST-MODIFIED:20260420T185249Z
UID:10002957-1777896000-1777899600@tenesquire.com
SUMMARY:TEN Santa Clarita
DESCRIPTION:
URL:https://tenesquire.com/calendar/ten-santa-clarita-2026-05-04/
LOCATION:Online Meeting
CATEGORIES:Regular Meetings
ORGANIZER;CN="TEN%3A The Esquire Network":MAILTO:nathan@tenworking.com
END:VEVENT
BEGIN:VEVENT
DTSTART;TZID=America/Los_Angeles:20260601T120000
DTEND;TZID=America/Los_Angeles:20260601T130000
DTSTAMP:20260423T085439
CREATED:20260311T213238Z
LAST-MODIFIED:20260420T185004Z
UID:10002958-1780315200-1780318800@tenesquire.com
SUMMARY:TEN Santa Clarita
DESCRIPTION:
URL:https://tenesquire.com/calendar/ten-santa-clarita/2026-06-01/
LOCATION:Online Meeting
CATEGORIES:Regular Meetings
ORGANIZER;CN="TEN%3A The Esquire Network":MAILTO:nathan@tenworking.com
END:VEVENT
BEGIN:VEVENT
DTSTART;TZID=America/Los_Angeles:20260706T120000
DTEND;TZID=America/Los_Angeles:20260706T130000
DTSTAMP:20260423T085439
CREATED:20260311T213238Z
LAST-MODIFIED:20260420T185004Z
UID:10002959-1783339200-1783342800@tenesquire.com
SUMMARY:TEN Santa Clarita
DESCRIPTION:
URL:https://tenesquire.com/calendar/ten-santa-clarita/2026-07-06/
LOCATION:Online Meeting
CATEGORIES:Regular Meetings
ORGANIZER;CN="TEN%3A The Esquire Network":MAILTO:nathan@tenworking.com
END:VEVENT
BEGIN:VEVENT
DTSTART;TZID=America/Los_Angeles:20260803T120000
DTEND;TZID=America/Los_Angeles:20260803T130000
DTSTAMP:20260423T085439
CREATED:20260311T213238Z
LAST-MODIFIED:20260420T185004Z
UID:10002960-1785758400-1785762000@tenesquire.com
SUMMARY:TEN Santa Clarita
DESCRIPTION:
URL:https://tenesquire.com/calendar/ten-santa-clarita/2026-08-03/
LOCATION:Online Meeting
CATEGORIES:Regular Meetings
ORGANIZER;CN="TEN%3A The Esquire Network":MAILTO:nathan@tenworking.com
END:VEVENT
BEGIN:VEVENT
DTSTART;TZID=America/Los_Angeles:20260907T120000
DTEND;TZID=America/Los_Angeles:20260907T130000
DTSTAMP:20260423T085439
CREATED:20260311T213238Z
LAST-MODIFIED:20260420T185004Z
UID:10002961-1788782400-1788786000@tenesquire.com
SUMMARY:TEN Santa Clarita
DESCRIPTION:
URL:https://tenesquire.com/calendar/ten-santa-clarita/2026-09-07/
LOCATION:Online Meeting
CATEGORIES:Regular Meetings
ORGANIZER;CN="TEN%3A The Esquire Network":MAILTO:nathan@tenworking.com
END:VEVENT
BEGIN:VEVENT
DTSTART;TZID=America/Los_Angeles:20261005T120000
DTEND;TZID=America/Los_Angeles:20261005T130000
DTSTAMP:20260423T085439
CREATED:20260311T213238Z
LAST-MODIFIED:20260420T185004Z
UID:10002962-1791201600-1791205200@tenesquire.com
SUMMARY:TEN Santa Clarita
DESCRIPTION:
URL:https://tenesquire.com/calendar/ten-santa-clarita/2026-10-05/
LOCATION:Online Meeting
CATEGORIES:Regular Meetings
ORGANIZER;CN="TEN%3A The Esquire Network":MAILTO:nathan@tenworking.com
END:VEVENT
BEGIN:VEVENT
DTSTART;TZID=America/Los_Angeles:20261102T120000
DTEND;TZID=America/Los_Angeles:20261102T130000
DTSTAMP:20260423T085439
CREATED:20260311T213238Z
LAST-MODIFIED:20260420T185004Z
UID:10002963-1793620800-1793624400@tenesquire.com
SUMMARY:TEN Santa Clarita
DESCRIPTION:
URL:https://tenesquire.com/calendar/ten-santa-clarita/2026-11-02/
LOCATION:Online Meeting
CATEGORIES:Regular Meetings
ORGANIZER;CN="TEN%3A The Esquire Network":MAILTO:nathan@tenworking.com
END:VEVENT
BEGIN:VEVENT
DTSTART;TZID=America/Los_Angeles:20261207T120000
DTEND;TZID=America/Los_Angeles:20261207T130000
DTSTAMP:20260423T085439
CREATED:20260311T213238Z
LAST-MODIFIED:20260420T185004Z
UID:10002964-1796644800-1796648400@tenesquire.com
SUMMARY:TEN Santa Clarita
DESCRIPTION:
URL:https://tenesquire.com/calendar/ten-santa-clarita/2026-12-07/
LOCATION:Online Meeting
CATEGORIES:Regular Meetings
ORGANIZER;CN="TEN%3A The Esquire Network":MAILTO:nathan@tenworking.com
END:VEVENT
BEGIN:VEVENT
DTSTART;TZID=America/Los_Angeles:20270104T120000
DTEND;TZID=America/Los_Angeles:20270104T130000
DTSTAMP:20260423T085439
CREATED:20260311T213238Z
LAST-MODIFIED:20260420T185004Z
UID:10002965-1799064000-1799067600@tenesquire.com
SUMMARY:TEN Santa Clarita
DESCRIPTION:
URL:https://tenesquire.com/calendar/ten-santa-clarita/2027-01-04/
LOCATION:Online Meeting
CATEGORIES:Regular Meetings
ORGANIZER;CN="TEN%3A The Esquire Network":MAILTO:nathan@tenworking.com
END:VEVENT
BEGIN:VEVENT
DTSTART;TZID=America/Los_Angeles:20270201T120000
DTEND;TZID=America/Los_Angeles:20270201T130000
DTSTAMP:20260423T085439
CREATED:20260311T213238Z
LAST-MODIFIED:20260420T185004Z
UID:10002966-1801483200-1801486800@tenesquire.com
SUMMARY:TEN Santa Clarita
DESCRIPTION:
URL:https://tenesquire.com/calendar/ten-santa-clarita/2027-02-01/
LOCATION:Online Meeting
CATEGORIES:Regular Meetings
ORGANIZER;CN="TEN%3A The Esquire Network":MAILTO:nathan@tenworking.com
END:VEVENT
BEGIN:VEVENT
DTSTART;TZID=America/Los_Angeles:20270301T120000
DTEND;TZID=America/Los_Angeles:20270301T130000
DTSTAMP:20260423T085439
CREATED:20260311T213238Z
LAST-MODIFIED:20260420T185004Z
UID:10002967-1803902400-1803906000@tenesquire.com
SUMMARY:TEN Santa Clarita
DESCRIPTION:
URL:https://tenesquire.com/calendar/ten-santa-clarita/2027-03-01/
LOCATION:Online Meeting
CATEGORIES:Regular Meetings
ORGANIZER;CN="TEN%3A The Esquire Network":MAILTO:nathan@tenworking.com
END:VEVENT
BEGIN:VEVENT
DTSTART;TZID=America/Los_Angeles:20270405T120000
DTEND;TZID=America/Los_Angeles:20270405T130000
DTSTAMP:20260423T085439
CREATED:20260311T213238Z
LAST-MODIFIED:20260420T185004Z
UID:10002968-1806926400-1806930000@tenesquire.com
SUMMARY:TEN Santa Clarita
DESCRIPTION:
URL:https://tenesquire.com/calendar/ten-santa-clarita/2027-04-05/
LOCATION:Online Meeting
CATEGORIES:Regular Meetings
ORGANIZER;CN="TEN%3A The Esquire Network":MAILTO:nathan@tenworking.com
END:VEVENT
BEGIN:VEVENT
DTSTART;TZID=America/Los_Angeles:20270503T120000
DTEND;TZID=America/Los_Angeles:20270503T130000
DTSTAMP:20260423T085439
CREATED:20260311T213238Z
LAST-MODIFIED:20260420T185004Z
UID:10002969-1809345600-1809349200@tenesquire.com
SUMMARY:TEN Santa Clarita
DESCRIPTION:
URL:https://tenesquire.com/calendar/ten-santa-clarita/2027-05-03/
LOCATION:Online Meeting
CATEGORIES:Regular Meetings
ORGANIZER;CN="TEN%3A The Esquire Network":MAILTO:nathan@tenworking.com
END:VEVENT
BEGIN:VEVENT
DTSTART;TZID=America/Los_Angeles:20270607T120000
DTEND;TZID=America/Los_Angeles:20270607T130000
DTSTAMP:20260423T085439
CREATED:20260311T213238Z
LAST-MODIFIED:20260420T185004Z
UID:10002970-1812369600-1812373200@tenesquire.com
SUMMARY:TEN Santa Clarita
DESCRIPTION:
URL:https://tenesquire.com/calendar/ten-santa-clarita/2027-06-07/
LOCATION:Online Meeting
CATEGORIES:Regular Meetings
ORGANIZER;CN="TEN%3A The Esquire Network":MAILTO:nathan@tenworking.com
END:VEVENT
BEGIN:VEVENT
DTSTART;TZID=America/Los_Angeles:20270705T120000
DTEND;TZID=America/Los_Angeles:20270705T130000
DTSTAMP:20260423T085439
CREATED:20260311T213238Z
LAST-MODIFIED:20260420T185004Z
UID:10002971-1814788800-1814792400@tenesquire.com
SUMMARY:TEN Santa Clarita
DESCRIPTION:
URL:https://tenesquire.com/calendar/ten-santa-clarita/2027-07-05/
LOCATION:Online Meeting
CATEGORIES:Regular Meetings
ORGANIZER;CN="TEN%3A The Esquire Network":MAILTO:nathan@tenworking.com
END:VEVENT
BEGIN:VEVENT
DTSTART;TZID=America/Los_Angeles:20270802T120000
DTEND;TZID=America/Los_Angeles:20270802T130000
DTSTAMP:20260423T085439
CREATED:20260311T213238Z
LAST-MODIFIED:20260420T185004Z
UID:10002972-1817208000-1817211600@tenesquire.com
SUMMARY:TEN Santa Clarita
DESCRIPTION:
URL:https://tenesquire.com/calendar/ten-santa-clarita/2027-08-02/
LOCATION:Online Meeting
CATEGORIES:Regular Meetings
ORGANIZER;CN="TEN%3A The Esquire Network":MAILTO:nathan@tenworking.com
END:VEVENT
BEGIN:VEVENT
DTSTART;TZID=America/Los_Angeles:20270906T120000
DTEND;TZID=America/Los_Angeles:20270906T130000
DTSTAMP:20260423T085439
CREATED:20260311T213238Z
LAST-MODIFIED:20260420T185004Z
UID:10002973-1820232000-1820235600@tenesquire.com
SUMMARY:TEN Santa Clarita
DESCRIPTION:
URL:https://tenesquire.com/calendar/ten-santa-clarita/2027-09-06/
LOCATION:Online Meeting
CATEGORIES:Regular Meetings
ORGANIZER;CN="TEN%3A The Esquire Network":MAILTO:nathan@tenworking.com
END:VEVENT
BEGIN:VEVENT
DTSTART;TZID=America/Los_Angeles:20271004T120000
DTEND;TZID=America/Los_Angeles:20271004T130000
DTSTAMP:20260423T085439
CREATED:20260311T213238Z
LAST-MODIFIED:20260420T185004Z
UID:10002974-1822651200-1822654800@tenesquire.com
SUMMARY:TEN Santa Clarita
DESCRIPTION:
URL:https://tenesquire.com/calendar/ten-santa-clarita/2027-10-04/
LOCATION:Online Meeting
CATEGORIES:Regular Meetings
ORGANIZER;CN="TEN%3A The Esquire Network":MAILTO:nathan@tenworking.com
END:VEVENT
BEGIN:VEVENT
DTSTART;TZID=America/Los_Angeles:20271101T120000
DTEND;TZID=America/Los_Angeles:20271101T130000
DTSTAMP:20260423T085439
CREATED:20260311T213238Z
LAST-MODIFIED:20260420T185004Z
UID:10002975-1825070400-1825074000@tenesquire.com
SUMMARY:TEN Santa Clarita
DESCRIPTION:
URL:https://tenesquire.com/calendar/ten-santa-clarita/2027-11-01/
LOCATION:Online Meeting
CATEGORIES:Regular Meetings
ORGANIZER;CN="TEN%3A The Esquire Network":MAILTO:nathan@tenworking.com
END:VEVENT
BEGIN:VEVENT
DTSTART;TZID=America/Los_Angeles:20271206T120000
DTEND;TZID=America/Los_Angeles:20271206T130000
DTSTAMP:20260423T085439
CREATED:20260311T213238Z
LAST-MODIFIED:20260420T185004Z
UID:10002976-1828094400-1828098000@tenesquire.com
SUMMARY:TEN Santa Clarita
DESCRIPTION:
URL:https://tenesquire.com/calendar/ten-santa-clarita/2027-12-06/
LOCATION:Online Meeting
CATEGORIES:Regular Meetings
ORGANIZER;CN="TEN%3A The Esquire Network":MAILTO:nathan@tenworking.com
END:VEVENT
BEGIN:VEVENT
DTSTART;TZID=America/Los_Angeles:20280103T120000
DTEND;TZID=America/Los_Angeles:20280103T130000
DTSTAMP:20260423T085439
CREATED:20260311T213238Z
LAST-MODIFIED:20260420T185004Z
UID:10002977-1830513600-1830517200@tenesquire.com
SUMMARY:TEN Santa Clarita
DESCRIPTION:
URL:https://tenesquire.com/calendar/ten-santa-clarita/2028-01-03/
LOCATION:Online Meeting
CATEGORIES:Regular Meetings
ORGANIZER;CN="TEN%3A The Esquire Network":MAILTO:nathan@tenworking.com
END:VEVENT
BEGIN:VEVENT
DTSTART;TZID=America/Los_Angeles:20280207T120000
DTEND;TZID=America/Los_Angeles:20280207T130000
DTSTAMP:20260423T085439
CREATED:20260311T213238Z
LAST-MODIFIED:20260420T185004Z
UID:10002978-1833537600-1833541200@tenesquire.com
SUMMARY:TEN Santa Clarita
DESCRIPTION:
URL:https://tenesquire.com/calendar/ten-santa-clarita/2028-02-07/
LOCATION:Online Meeting
CATEGORIES:Regular Meetings
ORGANIZER;CN="TEN%3A The Esquire Network":MAILTO:nathan@tenworking.com
END:VEVENT
BEGIN:VEVENT
DTSTART;TZID=America/Los_Angeles:20280306T120000
DTEND;TZID=America/Los_Angeles:20280306T130000
DTSTAMP:20260423T085439
CREATED:20260311T213238Z
LAST-MODIFIED:20260420T185004Z
UID:10002979-1835956800-1835960400@tenesquire.com
SUMMARY:TEN Santa Clarita
DESCRIPTION:
URL:https://tenesquire.com/calendar/ten-santa-clarita/2028-03-06/
LOCATION:Online Meeting
CATEGORIES:Regular Meetings
ORGANIZER;CN="TEN%3A The Esquire Network":MAILTO:nathan@tenworking.com
END:VEVENT
BEGIN:VEVENT
DTSTART;TZID=America/Los_Angeles:20280403T120000
DTEND;TZID=America/Los_Angeles:20280403T130000
DTSTAMP:20260423T085439
CREATED:20260311T213238Z
LAST-MODIFIED:20260420T185004Z
UID:10002980-1838376000-1838379600@tenesquire.com
SUMMARY:TEN Santa Clarita
DESCRIPTION:
URL:https://tenesquire.com/calendar/ten-santa-clarita/2028-04-03/
LOCATION:Online Meeting
CATEGORIES:Regular Meetings
ORGANIZER;CN="TEN%3A The Esquire Network":MAILTO:nathan@tenworking.com
END:VEVENT
BEGIN:VEVENT
DTSTART;TZID=America/Los_Angeles:20280501T120000
DTEND;TZID=America/Los_Angeles:20280501T130000
DTSTAMP:20260423T085439
CREATED:20260311T213238Z
LAST-MODIFIED:20260420T185004Z
UID:10002981-1840795200-1840798800@tenesquire.com
SUMMARY:TEN Santa Clarita
DESCRIPTION:
URL:https://tenesquire.com/calendar/ten-santa-clarita/2028-05-01/
LOCATION:Online Meeting
CATEGORIES:Regular Meetings
ORGANIZER;CN="TEN%3A The Esquire Network":MAILTO:nathan@tenworking.com
END:VEVENT
BEGIN:VEVENT
DTSTART;TZID=America/Los_Angeles:20280605T120000
DTEND;TZID=America/Los_Angeles:20280605T130000
DTSTAMP:20260423T085439
CREATED:20260311T213238Z
LAST-MODIFIED:20260420T185004Z
UID:10002982-1843819200-1843822800@tenesquire.com
SUMMARY:TEN Santa Clarita
DESCRIPTION:
URL:https://tenesquire.com/calendar/ten-santa-clarita/2028-06-05/
LOCATION:Online Meeting
CATEGORIES:Regular Meetings
ORGANIZER;CN="TEN%3A The Esquire Network":MAILTO:nathan@tenworking.com
END:VEVENT
BEGIN:VEVENT
DTSTART;TZID=America/Los_Angeles:20280703T120000
DTEND;TZID=America/Los_Angeles:20280703T130000
DTSTAMP:20260423T085439
CREATED:20260311T213238Z
LAST-MODIFIED:20260420T185004Z
UID:10002983-1846238400-1846242000@tenesquire.com
SUMMARY:TEN Santa Clarita
DESCRIPTION:
URL:https://tenesquire.com/calendar/ten-santa-clarita/2028-07-03/
LOCATION:Online Meeting
CATEGORIES:Regular Meetings
ORGANIZER;CN="TEN%3A The Esquire Network":MAILTO:nathan@tenworking.com
END:VEVENT
BEGIN:VEVENT
DTSTART;TZID=America/Los_Angeles:20280807T120000
DTEND;TZID=America/Los_Angeles:20280807T130000
DTSTAMP:20260423T085439
CREATED:20260311T213238Z
LAST-MODIFIED:20260420T185004Z
UID:10002984-1849262400-1849266000@tenesquire.com
SUMMARY:TEN Santa Clarita
DESCRIPTION:
URL:https://tenesquire.com/calendar/ten-santa-clarita/2028-08-07/
LOCATION:Online Meeting
CATEGORIES:Regular Meetings
ORGANIZER;CN="TEN%3A The Esquire Network":MAILTO:nathan@tenworking.com
END:VEVENT
BEGIN:VEVENT
DTSTART;TZID=America/Los_Angeles:20280904T120000
DTEND;TZID=America/Los_Angeles:20280904T130000
DTSTAMP:20260423T085439
CREATED:20260311T213238Z
LAST-MODIFIED:20260420T185004Z
UID:10002985-1851681600-1851685200@tenesquire.com
SUMMARY:TEN Santa Clarita
DESCRIPTION:
URL:https://tenesquire.com/calendar/ten-santa-clarita/2028-09-04/
LOCATION:Online Meeting
CATEGORIES:Regular Meetings
ORGANIZER;CN="TEN%3A The Esquire Network":MAILTO:nathan@tenworking.com
END:VEVENT
BEGIN:VEVENT
DTSTART;TZID=America/Los_Angeles:20281002T120000
DTEND;TZID=America/Los_Angeles:20281002T130000
DTSTAMP:20260423T085439
CREATED:20260311T213238Z
LAST-MODIFIED:20260420T185004Z
UID:10002986-1854100800-1854104400@tenesquire.com
SUMMARY:TEN Santa Clarita
DESCRIPTION:
URL:https://tenesquire.com/calendar/ten-santa-clarita/2028-10-02/
LOCATION:Online Meeting
CATEGORIES:Regular Meetings
ORGANIZER;CN="TEN%3A The Esquire Network":MAILTO:nathan@tenworking.com
END:VEVENT
END:VCALENDAR