BEGIN:VCALENDAR
VERSION:2.0
PRODID:-//TEN: The Esquire Network - ECPv6.15.15//NONSGML v1.0//EN
CALSCALE:GREGORIAN
METHOD:PUBLISH
X-WR-CALNAME:TEN: The Esquire Network
X-ORIGINAL-URL:https://tenesquire.com
X-WR-CALDESC:Events for TEN: The Esquire Network
REFRESH-INTERVAL;VALUE=DURATION:PT1H
X-Robots-Tag:noindex
X-PUBLISHED-TTL:PT1H
BEGIN:VTIMEZONE
TZID:America/Los_Angeles
BEGIN:DAYLIGHT
TZOFFSETFROM:-0800
TZOFFSETTO:-0700
TZNAME:PDT
DTSTART:20250309T100000
END:DAYLIGHT
BEGIN:STANDARD
TZOFFSETFROM:-0700
TZOFFSETTO:-0800
TZNAME:PST
DTSTART:20251102T090000
END:STANDARD
BEGIN:DAYLIGHT
TZOFFSETFROM:-0800
TZOFFSETTO:-0700
TZNAME:PDT
DTSTART:20260308T100000
END:DAYLIGHT
BEGIN:STANDARD
TZOFFSETFROM:-0700
TZOFFSETTO:-0800
TZNAME:PST
DTSTART:20261101T090000
END:STANDARD
BEGIN:DAYLIGHT
TZOFFSETFROM:-0800
TZOFFSETTO:-0700
TZNAME:PDT
DTSTART:20270314T100000
END:DAYLIGHT
BEGIN:STANDARD
TZOFFSETFROM:-0700
TZOFFSETTO:-0800
TZNAME:PST
DTSTART:20271107T090000
END:STANDARD
BEGIN:DAYLIGHT
TZOFFSETFROM:-0800
TZOFFSETTO:-0700
TZNAME:PDT
DTSTART:20280312T100000
END:DAYLIGHT
BEGIN:STANDARD
TZOFFSETFROM:-0700
TZOFFSETTO:-0800
TZNAME:PST
DTSTART:20281105T090000
END:STANDARD
BEGIN:DAYLIGHT
TZOFFSETFROM:-0800
TZOFFSETTO:-0700
TZNAME:PDT
DTSTART:20290311T100000
END:DAYLIGHT
BEGIN:STANDARD
TZOFFSETFROM:-0700
TZOFFSETTO:-0800
TZNAME:PST
DTSTART:20291104T090000
END:STANDARD
END:VTIMEZONE
BEGIN:VEVENT
DTSTART;TZID=America/Los_Angeles:20260617T080000
DTEND;TZID=America/Los_Angeles:20260617T090000
DTSTAMP:20260423T090150
CREATED:20250630T203731Z
LAST-MODIFIED:20250630T203731Z
UID:10002707-1781683200-1781686800@tenesquire.com
SUMMARY:TEN Mediators
DESCRIPTION:
URL:https://tenesquire.com/calendar/ten-mediators/2026-06-17/
LOCATION:Online Meeting
CATEGORIES:Regular Meetings
ATTACH;FMTTYPE=image/jpeg:https://tenesquire.com/wp-content/uploads/2024/03/Mediators.jpg
ORGANIZER;CN="TEN%3A The Esquire Network":MAILTO:nathan@tenworking.com
END:VEVENT
BEGIN:VEVENT
DTSTART;TZID=America/Los_Angeles:20260715T080000
DTEND;TZID=America/Los_Angeles:20260715T090000
DTSTAMP:20260423T090150
CREATED:20250630T203731Z
LAST-MODIFIED:20250630T203731Z
UID:10002708-1784102400-1784106000@tenesquire.com
SUMMARY:TEN Mediators
DESCRIPTION:
URL:https://tenesquire.com/calendar/ten-mediators/2026-07-15/
LOCATION:Online Meeting
CATEGORIES:Regular Meetings
ATTACH;FMTTYPE=image/jpeg:https://tenesquire.com/wp-content/uploads/2024/03/Mediators.jpg
ORGANIZER;CN="TEN%3A The Esquire Network":MAILTO:nathan@tenworking.com
END:VEVENT
BEGIN:VEVENT
DTSTART;TZID=America/Los_Angeles:20260819T080000
DTEND;TZID=America/Los_Angeles:20260819T090000
DTSTAMP:20260423T090150
CREATED:20250630T203731Z
LAST-MODIFIED:20250630T203731Z
UID:10002709-1787126400-1787130000@tenesquire.com
SUMMARY:TEN Mediators
DESCRIPTION:
URL:https://tenesquire.com/calendar/ten-mediators/2026-08-19/
LOCATION:Online Meeting
CATEGORIES:Regular Meetings
ATTACH;FMTTYPE=image/jpeg:https://tenesquire.com/wp-content/uploads/2024/03/Mediators.jpg
ORGANIZER;CN="TEN%3A The Esquire Network":MAILTO:nathan@tenworking.com
END:VEVENT
BEGIN:VEVENT
DTSTART;TZID=America/Los_Angeles:20260916T080000
DTEND;TZID=America/Los_Angeles:20260916T090000
DTSTAMP:20260423T090150
CREATED:20250630T203731Z
LAST-MODIFIED:20250630T203731Z
UID:10002710-1789545600-1789549200@tenesquire.com
SUMMARY:TEN Mediators
DESCRIPTION:
URL:https://tenesquire.com/calendar/ten-mediators/2026-09-16/
LOCATION:Online Meeting
CATEGORIES:Regular Meetings
ATTACH;FMTTYPE=image/jpeg:https://tenesquire.com/wp-content/uploads/2024/03/Mediators.jpg
ORGANIZER;CN="TEN%3A The Esquire Network":MAILTO:nathan@tenworking.com
END:VEVENT
BEGIN:VEVENT
DTSTART;TZID=America/Los_Angeles:20261021T080000
DTEND;TZID=America/Los_Angeles:20261021T090000
DTSTAMP:20260423T090150
CREATED:20250630T203731Z
LAST-MODIFIED:20250630T203731Z
UID:10002711-1792569600-1792573200@tenesquire.com
SUMMARY:TEN Mediators
DESCRIPTION:
URL:https://tenesquire.com/calendar/ten-mediators/2026-10-21/
LOCATION:Online Meeting
CATEGORIES:Regular Meetings
ATTACH;FMTTYPE=image/jpeg:https://tenesquire.com/wp-content/uploads/2024/03/Mediators.jpg
ORGANIZER;CN="TEN%3A The Esquire Network":MAILTO:nathan@tenworking.com
END:VEVENT
BEGIN:VEVENT
DTSTART;TZID=America/Los_Angeles:20261118T080000
DTEND;TZID=America/Los_Angeles:20261118T090000
DTSTAMP:20260423T090150
CREATED:20250630T203731Z
LAST-MODIFIED:20250630T203731Z
UID:10002712-1794988800-1794992400@tenesquire.com
SUMMARY:TEN Mediators
DESCRIPTION:
URL:https://tenesquire.com/calendar/ten-mediators/2026-11-18/
LOCATION:Online Meeting
CATEGORIES:Regular Meetings
ATTACH;FMTTYPE=image/jpeg:https://tenesquire.com/wp-content/uploads/2024/03/Mediators.jpg
ORGANIZER;CN="TEN%3A The Esquire Network":MAILTO:nathan@tenworking.com
END:VEVENT
BEGIN:VEVENT
DTSTART;TZID=America/Los_Angeles:20261216T080000
DTEND;TZID=America/Los_Angeles:20261216T090000
DTSTAMP:20260423T090150
CREATED:20250630T203731Z
LAST-MODIFIED:20250630T203731Z
UID:10002713-1797408000-1797411600@tenesquire.com
SUMMARY:TEN Mediators
DESCRIPTION:
URL:https://tenesquire.com/calendar/ten-mediators/2026-12-16/
LOCATION:Online Meeting
CATEGORIES:Regular Meetings
ATTACH;FMTTYPE=image/jpeg:https://tenesquire.com/wp-content/uploads/2024/03/Mediators.jpg
ORGANIZER;CN="TEN%3A The Esquire Network":MAILTO:nathan@tenworking.com
END:VEVENT
BEGIN:VEVENT
DTSTART;TZID=America/Los_Angeles:20270120T080000
DTEND;TZID=America/Los_Angeles:20270120T090000
DTSTAMP:20260423T090150
CREATED:20250630T203731Z
LAST-MODIFIED:20250630T203731Z
UID:10002714-1800432000-1800435600@tenesquire.com
SUMMARY:TEN Mediators
DESCRIPTION:
URL:https://tenesquire.com/calendar/ten-mediators/2027-01-20/
LOCATION:Online Meeting
CATEGORIES:Regular Meetings
ATTACH;FMTTYPE=image/jpeg:https://tenesquire.com/wp-content/uploads/2024/03/Mediators.jpg
ORGANIZER;CN="TEN%3A The Esquire Network":MAILTO:nathan@tenworking.com
END:VEVENT
BEGIN:VEVENT
DTSTART;TZID=America/Los_Angeles:20270217T080000
DTEND;TZID=America/Los_Angeles:20270217T090000
DTSTAMP:20260423T090150
CREATED:20250630T203731Z
LAST-MODIFIED:20250630T203731Z
UID:10002715-1802851200-1802854800@tenesquire.com
SUMMARY:TEN Mediators
DESCRIPTION:
URL:https://tenesquire.com/calendar/ten-mediators/2027-02-17/
LOCATION:Online Meeting
CATEGORIES:Regular Meetings
ATTACH;FMTTYPE=image/jpeg:https://tenesquire.com/wp-content/uploads/2024/03/Mediators.jpg
ORGANIZER;CN="TEN%3A The Esquire Network":MAILTO:nathan@tenworking.com
END:VEVENT
BEGIN:VEVENT
DTSTART;TZID=America/Los_Angeles:20270317T080000
DTEND;TZID=America/Los_Angeles:20270317T090000
DTSTAMP:20260423T090150
CREATED:20250630T203731Z
LAST-MODIFIED:20250630T203731Z
UID:10002716-1805270400-1805274000@tenesquire.com
SUMMARY:TEN Mediators
DESCRIPTION:
URL:https://tenesquire.com/calendar/ten-mediators/2027-03-17/
LOCATION:Online Meeting
CATEGORIES:Regular Meetings
ATTACH;FMTTYPE=image/jpeg:https://tenesquire.com/wp-content/uploads/2024/03/Mediators.jpg
ORGANIZER;CN="TEN%3A The Esquire Network":MAILTO:nathan@tenworking.com
END:VEVENT
BEGIN:VEVENT
DTSTART;TZID=America/Los_Angeles:20270421T080000
DTEND;TZID=America/Los_Angeles:20270421T090000
DTSTAMP:20260423T090150
CREATED:20250630T203731Z
LAST-MODIFIED:20250630T203731Z
UID:10002717-1808294400-1808298000@tenesquire.com
SUMMARY:TEN Mediators
DESCRIPTION:
URL:https://tenesquire.com/calendar/ten-mediators/2027-04-21/
LOCATION:Online Meeting
CATEGORIES:Regular Meetings
ATTACH;FMTTYPE=image/jpeg:https://tenesquire.com/wp-content/uploads/2024/03/Mediators.jpg
ORGANIZER;CN="TEN%3A The Esquire Network":MAILTO:nathan@tenworking.com
END:VEVENT
BEGIN:VEVENT
DTSTART;TZID=America/Los_Angeles:20270519T080000
DTEND;TZID=America/Los_Angeles:20270519T090000
DTSTAMP:20260423T090150
CREATED:20250630T203731Z
LAST-MODIFIED:20250630T203731Z
UID:10002718-1810713600-1810717200@tenesquire.com
SUMMARY:TEN Mediators
DESCRIPTION:
URL:https://tenesquire.com/calendar/ten-mediators/2027-05-19/
LOCATION:Online Meeting
CATEGORIES:Regular Meetings
ATTACH;FMTTYPE=image/jpeg:https://tenesquire.com/wp-content/uploads/2024/03/Mediators.jpg
ORGANIZER;CN="TEN%3A The Esquire Network":MAILTO:nathan@tenworking.com
END:VEVENT
BEGIN:VEVENT
DTSTART;TZID=America/Los_Angeles:20270616T080000
DTEND;TZID=America/Los_Angeles:20270616T090000
DTSTAMP:20260423T090150
CREATED:20250630T203731Z
LAST-MODIFIED:20250630T203731Z
UID:10002719-1813132800-1813136400@tenesquire.com
SUMMARY:TEN Mediators
DESCRIPTION:
URL:https://tenesquire.com/calendar/ten-mediators/2027-06-16/
LOCATION:Online Meeting
CATEGORIES:Regular Meetings
ATTACH;FMTTYPE=image/jpeg:https://tenesquire.com/wp-content/uploads/2024/03/Mediators.jpg
ORGANIZER;CN="TEN%3A The Esquire Network":MAILTO:nathan@tenworking.com
END:VEVENT
BEGIN:VEVENT
DTSTART;TZID=America/Los_Angeles:20270721T080000
DTEND;TZID=America/Los_Angeles:20270721T090000
DTSTAMP:20260423T090150
CREATED:20250630T203731Z
LAST-MODIFIED:20250630T203731Z
UID:10002720-1816156800-1816160400@tenesquire.com
SUMMARY:TEN Mediators
DESCRIPTION:
URL:https://tenesquire.com/calendar/ten-mediators/2027-07-21/
LOCATION:Online Meeting
CATEGORIES:Regular Meetings
ATTACH;FMTTYPE=image/jpeg:https://tenesquire.com/wp-content/uploads/2024/03/Mediators.jpg
ORGANIZER;CN="TEN%3A The Esquire Network":MAILTO:nathan@tenworking.com
END:VEVENT
BEGIN:VEVENT
DTSTART;TZID=America/Los_Angeles:20270818T080000
DTEND;TZID=America/Los_Angeles:20270818T090000
DTSTAMP:20260423T090150
CREATED:20250630T203731Z
LAST-MODIFIED:20250630T203731Z
UID:10002721-1818576000-1818579600@tenesquire.com
SUMMARY:TEN Mediators
DESCRIPTION:
URL:https://tenesquire.com/calendar/ten-mediators/2027-08-18/
LOCATION:Online Meeting
CATEGORIES:Regular Meetings
ATTACH;FMTTYPE=image/jpeg:https://tenesquire.com/wp-content/uploads/2024/03/Mediators.jpg
ORGANIZER;CN="TEN%3A The Esquire Network":MAILTO:nathan@tenworking.com
END:VEVENT
BEGIN:VEVENT
DTSTART;TZID=America/Los_Angeles:20270915T080000
DTEND;TZID=America/Los_Angeles:20270915T090000
DTSTAMP:20260423T090150
CREATED:20250630T203731Z
LAST-MODIFIED:20250630T203731Z
UID:10002722-1820995200-1820998800@tenesquire.com
SUMMARY:TEN Mediators
DESCRIPTION:
URL:https://tenesquire.com/calendar/ten-mediators/2027-09-15/
LOCATION:Online Meeting
CATEGORIES:Regular Meetings
ATTACH;FMTTYPE=image/jpeg:https://tenesquire.com/wp-content/uploads/2024/03/Mediators.jpg
ORGANIZER;CN="TEN%3A The Esquire Network":MAILTO:nathan@tenworking.com
END:VEVENT
BEGIN:VEVENT
DTSTART;TZID=America/Los_Angeles:20271020T080000
DTEND;TZID=America/Los_Angeles:20271020T090000
DTSTAMP:20260423T090150
CREATED:20250630T203731Z
LAST-MODIFIED:20250630T203731Z
UID:10002723-1824019200-1824022800@tenesquire.com
SUMMARY:TEN Mediators
DESCRIPTION:
URL:https://tenesquire.com/calendar/ten-mediators/2027-10-20/
LOCATION:Online Meeting
CATEGORIES:Regular Meetings
ATTACH;FMTTYPE=image/jpeg:https://tenesquire.com/wp-content/uploads/2024/03/Mediators.jpg
ORGANIZER;CN="TEN%3A The Esquire Network":MAILTO:nathan@tenworking.com
END:VEVENT
BEGIN:VEVENT
DTSTART;TZID=America/Los_Angeles:20271117T080000
DTEND;TZID=America/Los_Angeles:20271117T090000
DTSTAMP:20260423T090150
CREATED:20250630T203731Z
LAST-MODIFIED:20250630T203731Z
UID:10002724-1826438400-1826442000@tenesquire.com
SUMMARY:TEN Mediators
DESCRIPTION:
URL:https://tenesquire.com/calendar/ten-mediators/2027-11-17/
LOCATION:Online Meeting
CATEGORIES:Regular Meetings
ATTACH;FMTTYPE=image/jpeg:https://tenesquire.com/wp-content/uploads/2024/03/Mediators.jpg
ORGANIZER;CN="TEN%3A The Esquire Network":MAILTO:nathan@tenworking.com
END:VEVENT
BEGIN:VEVENT
DTSTART;TZID=America/Los_Angeles:20271215T080000
DTEND;TZID=America/Los_Angeles:20271215T090000
DTSTAMP:20260423T090150
CREATED:20250630T203731Z
LAST-MODIFIED:20250630T203731Z
UID:10002725-1828857600-1828861200@tenesquire.com
SUMMARY:TEN Mediators
DESCRIPTION:
URL:https://tenesquire.com/calendar/ten-mediators/2027-12-15/
LOCATION:Online Meeting
CATEGORIES:Regular Meetings
ATTACH;FMTTYPE=image/jpeg:https://tenesquire.com/wp-content/uploads/2024/03/Mediators.jpg
ORGANIZER;CN="TEN%3A The Esquire Network":MAILTO:nathan@tenworking.com
END:VEVENT
BEGIN:VEVENT
DTSTART;TZID=America/Los_Angeles:20280119T080000
DTEND;TZID=America/Los_Angeles:20280119T090000
DTSTAMP:20260423T090150
CREATED:20250630T203731Z
LAST-MODIFIED:20250630T203731Z
UID:10002726-1831881600-1831885200@tenesquire.com
SUMMARY:TEN Mediators
DESCRIPTION:
URL:https://tenesquire.com/calendar/ten-mediators/2028-01-19/
LOCATION:Online Meeting
CATEGORIES:Regular Meetings
ATTACH;FMTTYPE=image/jpeg:https://tenesquire.com/wp-content/uploads/2024/03/Mediators.jpg
ORGANIZER;CN="TEN%3A The Esquire Network":MAILTO:nathan@tenworking.com
END:VEVENT
BEGIN:VEVENT
DTSTART;TZID=America/Los_Angeles:20280216T080000
DTEND;TZID=America/Los_Angeles:20280216T090000
DTSTAMP:20260423T090150
CREATED:20250630T203731Z
LAST-MODIFIED:20250630T203731Z
UID:10002727-1834300800-1834304400@tenesquire.com
SUMMARY:TEN Mediators
DESCRIPTION:
URL:https://tenesquire.com/calendar/ten-mediators/2028-02-16/
LOCATION:Online Meeting
CATEGORIES:Regular Meetings
ATTACH;FMTTYPE=image/jpeg:https://tenesquire.com/wp-content/uploads/2024/03/Mediators.jpg
ORGANIZER;CN="TEN%3A The Esquire Network":MAILTO:nathan@tenworking.com
END:VEVENT
BEGIN:VEVENT
DTSTART;TZID=America/Los_Angeles:20280315T080000
DTEND;TZID=America/Los_Angeles:20280315T090000
DTSTAMP:20260423T090150
CREATED:20250630T203731Z
LAST-MODIFIED:20250630T203731Z
UID:10002728-1836720000-1836723600@tenesquire.com
SUMMARY:TEN Mediators
DESCRIPTION:
URL:https://tenesquire.com/calendar/ten-mediators/2028-03-15/
LOCATION:Online Meeting
CATEGORIES:Regular Meetings
ATTACH;FMTTYPE=image/jpeg:https://tenesquire.com/wp-content/uploads/2024/03/Mediators.jpg
ORGANIZER;CN="TEN%3A The Esquire Network":MAILTO:nathan@tenworking.com
END:VEVENT
BEGIN:VEVENT
DTSTART;TZID=America/Los_Angeles:20280419T080000
DTEND;TZID=America/Los_Angeles:20280419T090000
DTSTAMP:20260423T090150
CREATED:20250630T203731Z
LAST-MODIFIED:20250630T203731Z
UID:10002729-1839744000-1839747600@tenesquire.com
SUMMARY:TEN Mediators
DESCRIPTION:
URL:https://tenesquire.com/calendar/ten-mediators/2028-04-19/
LOCATION:Online Meeting
CATEGORIES:Regular Meetings
ATTACH;FMTTYPE=image/jpeg:https://tenesquire.com/wp-content/uploads/2024/03/Mediators.jpg
ORGANIZER;CN="TEN%3A The Esquire Network":MAILTO:nathan@tenworking.com
END:VEVENT
BEGIN:VEVENT
DTSTART;TZID=America/Los_Angeles:20280517T080000
DTEND;TZID=America/Los_Angeles:20280517T090000
DTSTAMP:20260423T090150
CREATED:20250630T203731Z
LAST-MODIFIED:20250630T203731Z
UID:10002730-1842163200-1842166800@tenesquire.com
SUMMARY:TEN Mediators
DESCRIPTION:
URL:https://tenesquire.com/calendar/ten-mediators/2028-05-17/
LOCATION:Online Meeting
CATEGORIES:Regular Meetings
ATTACH;FMTTYPE=image/jpeg:https://tenesquire.com/wp-content/uploads/2024/03/Mediators.jpg
ORGANIZER;CN="TEN%3A The Esquire Network":MAILTO:nathan@tenworking.com
END:VEVENT
BEGIN:VEVENT
DTSTART;TZID=America/Los_Angeles:20280621T080000
DTEND;TZID=America/Los_Angeles:20280621T090000
DTSTAMP:20260423T090150
CREATED:20250630T203731Z
LAST-MODIFIED:20250630T203731Z
UID:10002731-1845187200-1845190800@tenesquire.com
SUMMARY:TEN Mediators
DESCRIPTION:
URL:https://tenesquire.com/calendar/ten-mediators/2028-06-21/
LOCATION:Online Meeting
CATEGORIES:Regular Meetings
ATTACH;FMTTYPE=image/jpeg:https://tenesquire.com/wp-content/uploads/2024/03/Mediators.jpg
ORGANIZER;CN="TEN%3A The Esquire Network":MAILTO:nathan@tenworking.com
END:VEVENT
BEGIN:VEVENT
DTSTART;TZID=America/Los_Angeles:20280719T080000
DTEND;TZID=America/Los_Angeles:20280719T090000
DTSTAMP:20260423T090150
CREATED:20250630T203731Z
LAST-MODIFIED:20250630T203731Z
UID:10002732-1847606400-1847610000@tenesquire.com
SUMMARY:TEN Mediators
DESCRIPTION:
URL:https://tenesquire.com/calendar/ten-mediators/2028-07-19/
LOCATION:Online Meeting
CATEGORIES:Regular Meetings
ATTACH;FMTTYPE=image/jpeg:https://tenesquire.com/wp-content/uploads/2024/03/Mediators.jpg
ORGANIZER;CN="TEN%3A The Esquire Network":MAILTO:nathan@tenworking.com
END:VEVENT
BEGIN:VEVENT
DTSTART;TZID=America/Los_Angeles:20280816T080000
DTEND;TZID=America/Los_Angeles:20280816T090000
DTSTAMP:20260423T090150
CREATED:20250630T203731Z
LAST-MODIFIED:20250630T203731Z
UID:10002733-1850025600-1850029200@tenesquire.com
SUMMARY:TEN Mediators
DESCRIPTION:
URL:https://tenesquire.com/calendar/ten-mediators/2028-08-16/
LOCATION:Online Meeting
CATEGORIES:Regular Meetings
ATTACH;FMTTYPE=image/jpeg:https://tenesquire.com/wp-content/uploads/2024/03/Mediators.jpg
ORGANIZER;CN="TEN%3A The Esquire Network":MAILTO:nathan@tenworking.com
END:VEVENT
BEGIN:VEVENT
DTSTART;TZID=America/Los_Angeles:20280920T080000
DTEND;TZID=America/Los_Angeles:20280920T090000
DTSTAMP:20260423T090150
CREATED:20250630T203731Z
LAST-MODIFIED:20250630T203731Z
UID:10002734-1853049600-1853053200@tenesquire.com
SUMMARY:TEN Mediators
DESCRIPTION:
URL:https://tenesquire.com/calendar/ten-mediators/2028-09-20/
LOCATION:Online Meeting
CATEGORIES:Regular Meetings
ATTACH;FMTTYPE=image/jpeg:https://tenesquire.com/wp-content/uploads/2024/03/Mediators.jpg
ORGANIZER;CN="TEN%3A The Esquire Network":MAILTO:nathan@tenworking.com
END:VEVENT
BEGIN:VEVENT
DTSTART;TZID=America/Los_Angeles:20281018T080000
DTEND;TZID=America/Los_Angeles:20281018T090000
DTSTAMP:20260423T090150
CREATED:20250630T203731Z
LAST-MODIFIED:20250630T203731Z
UID:10002735-1855468800-1855472400@tenesquire.com
SUMMARY:TEN Mediators
DESCRIPTION:
URL:https://tenesquire.com/calendar/ten-mediators/2028-10-18/
LOCATION:Online Meeting
CATEGORIES:Regular Meetings
ATTACH;FMTTYPE=image/jpeg:https://tenesquire.com/wp-content/uploads/2024/03/Mediators.jpg
ORGANIZER;CN="TEN%3A The Esquire Network":MAILTO:nathan@tenworking.com
END:VEVENT
BEGIN:VEVENT
DTSTART;TZID=America/Los_Angeles:20281115T080000
DTEND;TZID=America/Los_Angeles:20281115T090000
DTSTAMP:20260423T090150
CREATED:20250630T203731Z
LAST-MODIFIED:20250630T203731Z
UID:10002736-1857888000-1857891600@tenesquire.com
SUMMARY:TEN Mediators
DESCRIPTION:
URL:https://tenesquire.com/calendar/ten-mediators/2028-11-15/
LOCATION:Online Meeting
CATEGORIES:Regular Meetings
ATTACH;FMTTYPE=image/jpeg:https://tenesquire.com/wp-content/uploads/2024/03/Mediators.jpg
ORGANIZER;CN="TEN%3A The Esquire Network":MAILTO:nathan@tenworking.com
END:VEVENT
END:VCALENDAR