BEGIN:VCALENDAR
VERSION:2.0
PRODID:-//TEN: The Esquire Network - ECPv6.15.15//NONSGML v1.0//EN
CALSCALE:GREGORIAN
METHOD:PUBLISH
X-WR-CALNAME:TEN: The Esquire Network
X-ORIGINAL-URL:https://tenesquire.com
X-WR-CALDESC:Events for TEN: The Esquire Network
REFRESH-INTERVAL;VALUE=DURATION:PT1H
X-Robots-Tag:noindex
X-PUBLISHED-TTL:PT1H
BEGIN:VTIMEZONE
TZID:America/Los_Angeles
BEGIN:DAYLIGHT
TZOFFSETFROM:-0800
TZOFFSETTO:-0700
TZNAME:PDT
DTSTART:20250309T100000
END:DAYLIGHT
BEGIN:STANDARD
TZOFFSETFROM:-0700
TZOFFSETTO:-0800
TZNAME:PST
DTSTART:20251102T090000
END:STANDARD
BEGIN:DAYLIGHT
TZOFFSETFROM:-0800
TZOFFSETTO:-0700
TZNAME:PDT
DTSTART:20260308T100000
END:DAYLIGHT
BEGIN:STANDARD
TZOFFSETFROM:-0700
TZOFFSETTO:-0800
TZNAME:PST
DTSTART:20261101T090000
END:STANDARD
BEGIN:DAYLIGHT
TZOFFSETFROM:-0800
TZOFFSETTO:-0700
TZNAME:PDT
DTSTART:20270314T100000
END:DAYLIGHT
BEGIN:STANDARD
TZOFFSETFROM:-0700
TZOFFSETTO:-0800
TZNAME:PST
DTSTART:20271107T090000
END:STANDARD
BEGIN:DAYLIGHT
TZOFFSETFROM:-0800
TZOFFSETTO:-0700
TZNAME:PDT
DTSTART:20280312T100000
END:DAYLIGHT
BEGIN:STANDARD
TZOFFSETFROM:-0700
TZOFFSETTO:-0800
TZNAME:PST
DTSTART:20281105T090000
END:STANDARD
BEGIN:DAYLIGHT
TZOFFSETFROM:-0800
TZOFFSETTO:-0700
TZNAME:PDT
DTSTART:20290311T100000
END:DAYLIGHT
BEGIN:STANDARD
TZOFFSETFROM:-0700
TZOFFSETTO:-0800
TZNAME:PST
DTSTART:20291104T090000
END:STANDARD
END:VTIMEZONE
BEGIN:VEVENT
DTSTART;TZID=America/Los_Angeles:20260515T110000
DTEND;TZID=America/Los_Angeles:20260515T120000
DTSTAMP:20260423T103141
CREATED:20260420T191703Z
LAST-MODIFIED:20260420T191736Z
UID:10002325-1778842800-1778846400@tenesquire.com
SUMMARY:TEN West Hollywood
DESCRIPTION:
URL:https://tenesquire.com/calendar/ten-west-hollywood-2026-05-15/
LOCATION:Online Meeting
CATEGORIES:Regular Meetings
ATTACH;FMTTYPE=image/jpeg:https://tenesquire.com/wp-content/uploads/2024/03/West-Hollywood.jpg
END:VEVENT
BEGIN:VEVENT
DTSTART;TZID=America/Los_Angeles:20260619T110000
DTEND;TZID=America/Los_Angeles:20260619T120000
DTSTAMP:20260423T103141
CREATED:20240329T052431Z
LAST-MODIFIED:20250516T174417Z
UID:10002326-1781866800-1781870400@tenesquire.com
SUMMARY:TEN West Hollywood
DESCRIPTION:
URL:https://tenesquire.com/calendar/ten-west-hollywood/2026-06-19/
LOCATION:Online Meeting
CATEGORIES:Regular Meetings
ATTACH;FMTTYPE=image/jpeg:https://tenesquire.com/wp-content/uploads/2024/03/West-Hollywood.jpg
END:VEVENT
BEGIN:VEVENT
DTSTART;TZID=America/Los_Angeles:20260717T110000
DTEND;TZID=America/Los_Angeles:20260717T120000
DTSTAMP:20260423T103141
CREATED:20240329T052431Z
LAST-MODIFIED:20250516T174417Z
UID:10002327-1784286000-1784289600@tenesquire.com
SUMMARY:TEN West Hollywood
DESCRIPTION:
URL:https://tenesquire.com/calendar/ten-west-hollywood/2026-07-17/
LOCATION:Online Meeting
CATEGORIES:Regular Meetings
ATTACH;FMTTYPE=image/jpeg:https://tenesquire.com/wp-content/uploads/2024/03/West-Hollywood.jpg
END:VEVENT
BEGIN:VEVENT
DTSTART;TZID=America/Los_Angeles:20260821T110000
DTEND;TZID=America/Los_Angeles:20260821T120000
DTSTAMP:20260423T103141
CREATED:20240329T052431Z
LAST-MODIFIED:20250516T174417Z
UID:10002328-1787310000-1787313600@tenesquire.com
SUMMARY:TEN West Hollywood
DESCRIPTION:
URL:https://tenesquire.com/calendar/ten-west-hollywood/2026-08-21/
LOCATION:Online Meeting
CATEGORIES:Regular Meetings
ATTACH;FMTTYPE=image/jpeg:https://tenesquire.com/wp-content/uploads/2024/03/West-Hollywood.jpg
END:VEVENT
BEGIN:VEVENT
DTSTART;TZID=America/Los_Angeles:20260918T110000
DTEND;TZID=America/Los_Angeles:20260918T120000
DTSTAMP:20260423T103141
CREATED:20240329T052431Z
LAST-MODIFIED:20250516T174417Z
UID:10002329-1789729200-1789732800@tenesquire.com
SUMMARY:TEN West Hollywood
DESCRIPTION:
URL:https://tenesquire.com/calendar/ten-west-hollywood/2026-09-18/
LOCATION:Online Meeting
CATEGORIES:Regular Meetings
ATTACH;FMTTYPE=image/jpeg:https://tenesquire.com/wp-content/uploads/2024/03/West-Hollywood.jpg
END:VEVENT
BEGIN:VEVENT
DTSTART;TZID=America/Los_Angeles:20261016T110000
DTEND;TZID=America/Los_Angeles:20261016T120000
DTSTAMP:20260423T103141
CREATED:20240329T052431Z
LAST-MODIFIED:20250516T174417Z
UID:10002330-1792148400-1792152000@tenesquire.com
SUMMARY:TEN West Hollywood
DESCRIPTION:
URL:https://tenesquire.com/calendar/ten-west-hollywood/2026-10-16/
LOCATION:Online Meeting
CATEGORIES:Regular Meetings
ATTACH;FMTTYPE=image/jpeg:https://tenesquire.com/wp-content/uploads/2024/03/West-Hollywood.jpg
END:VEVENT
BEGIN:VEVENT
DTSTART;TZID=America/Los_Angeles:20261120T110000
DTEND;TZID=America/Los_Angeles:20261120T120000
DTSTAMP:20260423T103141
CREATED:20240329T052431Z
LAST-MODIFIED:20250516T174417Z
UID:10002331-1795172400-1795176000@tenesquire.com
SUMMARY:TEN West Hollywood
DESCRIPTION:
URL:https://tenesquire.com/calendar/ten-west-hollywood/2026-11-20/
LOCATION:Online Meeting
CATEGORIES:Regular Meetings
ATTACH;FMTTYPE=image/jpeg:https://tenesquire.com/wp-content/uploads/2024/03/West-Hollywood.jpg
END:VEVENT
BEGIN:VEVENT
DTSTART;TZID=America/Los_Angeles:20261218T110000
DTEND;TZID=America/Los_Angeles:20261218T120000
DTSTAMP:20260423T103141
CREATED:20240329T052431Z
LAST-MODIFIED:20250516T174417Z
UID:10002332-1797591600-1797595200@tenesquire.com
SUMMARY:TEN West Hollywood
DESCRIPTION:
URL:https://tenesquire.com/calendar/ten-west-hollywood/2026-12-18/
LOCATION:Online Meeting
CATEGORIES:Regular Meetings
ATTACH;FMTTYPE=image/jpeg:https://tenesquire.com/wp-content/uploads/2024/03/West-Hollywood.jpg
END:VEVENT
BEGIN:VEVENT
DTSTART;TZID=America/Los_Angeles:20270115T110000
DTEND;TZID=America/Los_Angeles:20270115T120000
DTSTAMP:20260423T103141
CREATED:20240329T052431Z
LAST-MODIFIED:20250516T174417Z
UID:10002333-1800010800-1800014400@tenesquire.com
SUMMARY:TEN West Hollywood
DESCRIPTION:
URL:https://tenesquire.com/calendar/ten-west-hollywood/2027-01-15/
LOCATION:Online Meeting
CATEGORIES:Regular Meetings
ATTACH;FMTTYPE=image/jpeg:https://tenesquire.com/wp-content/uploads/2024/03/West-Hollywood.jpg
END:VEVENT
BEGIN:VEVENT
DTSTART;TZID=America/Los_Angeles:20270219T110000
DTEND;TZID=America/Los_Angeles:20270219T120000
DTSTAMP:20260423T103141
CREATED:20240329T052431Z
LAST-MODIFIED:20250516T174417Z
UID:10002334-1803034800-1803038400@tenesquire.com
SUMMARY:TEN West Hollywood
DESCRIPTION:
URL:https://tenesquire.com/calendar/ten-west-hollywood/2027-02-19/
LOCATION:Online Meeting
CATEGORIES:Regular Meetings
ATTACH;FMTTYPE=image/jpeg:https://tenesquire.com/wp-content/uploads/2024/03/West-Hollywood.jpg
END:VEVENT
BEGIN:VEVENT
DTSTART;TZID=America/Los_Angeles:20270319T110000
DTEND;TZID=America/Los_Angeles:20270319T120000
DTSTAMP:20260423T103141
CREATED:20240329T052431Z
LAST-MODIFIED:20250516T174417Z
UID:10002335-1805454000-1805457600@tenesquire.com
SUMMARY:TEN West Hollywood
DESCRIPTION:
URL:https://tenesquire.com/calendar/ten-west-hollywood/2027-03-19/
LOCATION:Online Meeting
CATEGORIES:Regular Meetings
ATTACH;FMTTYPE=image/jpeg:https://tenesquire.com/wp-content/uploads/2024/03/West-Hollywood.jpg
END:VEVENT
BEGIN:VEVENT
DTSTART;TZID=America/Los_Angeles:20270416T110000
DTEND;TZID=America/Los_Angeles:20270416T120000
DTSTAMP:20260423T103141
CREATED:20240329T052431Z
LAST-MODIFIED:20250516T174417Z
UID:10002336-1807873200-1807876800@tenesquire.com
SUMMARY:TEN West Hollywood
DESCRIPTION:
URL:https://tenesquire.com/calendar/ten-west-hollywood/2027-04-16/
LOCATION:Online Meeting
CATEGORIES:Regular Meetings
ATTACH;FMTTYPE=image/jpeg:https://tenesquire.com/wp-content/uploads/2024/03/West-Hollywood.jpg
END:VEVENT
BEGIN:VEVENT
DTSTART;TZID=America/Los_Angeles:20270521T110000
DTEND;TZID=America/Los_Angeles:20270521T120000
DTSTAMP:20260423T103141
CREATED:20240329T052431Z
LAST-MODIFIED:20250516T174417Z
UID:10002337-1810897200-1810900800@tenesquire.com
SUMMARY:TEN West Hollywood
DESCRIPTION:
URL:https://tenesquire.com/calendar/ten-west-hollywood/2027-05-21/
LOCATION:Online Meeting
CATEGORIES:Regular Meetings
ATTACH;FMTTYPE=image/jpeg:https://tenesquire.com/wp-content/uploads/2024/03/West-Hollywood.jpg
END:VEVENT
BEGIN:VEVENT
DTSTART;TZID=America/Los_Angeles:20270618T110000
DTEND;TZID=America/Los_Angeles:20270618T120000
DTSTAMP:20260423T103141
CREATED:20240329T052431Z
LAST-MODIFIED:20250516T174417Z
UID:10002338-1813316400-1813320000@tenesquire.com
SUMMARY:TEN West Hollywood
DESCRIPTION:
URL:https://tenesquire.com/calendar/ten-west-hollywood/2027-06-18/
LOCATION:Online Meeting
CATEGORIES:Regular Meetings
ATTACH;FMTTYPE=image/jpeg:https://tenesquire.com/wp-content/uploads/2024/03/West-Hollywood.jpg
END:VEVENT
BEGIN:VEVENT
DTSTART;TZID=America/Los_Angeles:20270716T110000
DTEND;TZID=America/Los_Angeles:20270716T120000
DTSTAMP:20260423T103141
CREATED:20240329T052431Z
LAST-MODIFIED:20250516T174417Z
UID:10002339-1815735600-1815739200@tenesquire.com
SUMMARY:TEN West Hollywood
DESCRIPTION:
URL:https://tenesquire.com/calendar/ten-west-hollywood/2027-07-16/
LOCATION:Online Meeting
CATEGORIES:Regular Meetings
ATTACH;FMTTYPE=image/jpeg:https://tenesquire.com/wp-content/uploads/2024/03/West-Hollywood.jpg
END:VEVENT
BEGIN:VEVENT
DTSTART;TZID=America/Los_Angeles:20270820T110000
DTEND;TZID=America/Los_Angeles:20270820T120000
DTSTAMP:20260423T103141
CREATED:20240329T052431Z
LAST-MODIFIED:20250516T174417Z
UID:10002340-1818759600-1818763200@tenesquire.com
SUMMARY:TEN West Hollywood
DESCRIPTION:
URL:https://tenesquire.com/calendar/ten-west-hollywood/2027-08-20/
LOCATION:Online Meeting
CATEGORIES:Regular Meetings
ATTACH;FMTTYPE=image/jpeg:https://tenesquire.com/wp-content/uploads/2024/03/West-Hollywood.jpg
END:VEVENT
BEGIN:VEVENT
DTSTART;TZID=America/Los_Angeles:20270917T110000
DTEND;TZID=America/Los_Angeles:20270917T120000
DTSTAMP:20260423T103141
CREATED:20240329T052431Z
LAST-MODIFIED:20250516T174417Z
UID:10002341-1821178800-1821182400@tenesquire.com
SUMMARY:TEN West Hollywood
DESCRIPTION:
URL:https://tenesquire.com/calendar/ten-west-hollywood/2027-09-17/
LOCATION:Online Meeting
CATEGORIES:Regular Meetings
ATTACH;FMTTYPE=image/jpeg:https://tenesquire.com/wp-content/uploads/2024/03/West-Hollywood.jpg
END:VEVENT
BEGIN:VEVENT
DTSTART;TZID=America/Los_Angeles:20271015T110000
DTEND;TZID=America/Los_Angeles:20271015T120000
DTSTAMP:20260423T103141
CREATED:20240329T052431Z
LAST-MODIFIED:20250516T174417Z
UID:10002342-1823598000-1823601600@tenesquire.com
SUMMARY:TEN West Hollywood
DESCRIPTION:
URL:https://tenesquire.com/calendar/ten-west-hollywood/2027-10-15/
LOCATION:Online Meeting
CATEGORIES:Regular Meetings
ATTACH;FMTTYPE=image/jpeg:https://tenesquire.com/wp-content/uploads/2024/03/West-Hollywood.jpg
END:VEVENT
BEGIN:VEVENT
DTSTART;TZID=America/Los_Angeles:20271119T110000
DTEND;TZID=America/Los_Angeles:20271119T120000
DTSTAMP:20260423T103141
CREATED:20240329T052431Z
LAST-MODIFIED:20250516T174417Z
UID:10002343-1826622000-1826625600@tenesquire.com
SUMMARY:TEN West Hollywood
DESCRIPTION:
URL:https://tenesquire.com/calendar/ten-west-hollywood/2027-11-19/
LOCATION:Online Meeting
CATEGORIES:Regular Meetings
ATTACH;FMTTYPE=image/jpeg:https://tenesquire.com/wp-content/uploads/2024/03/West-Hollywood.jpg
END:VEVENT
BEGIN:VEVENT
DTSTART;TZID=America/Los_Angeles:20271217T110000
DTEND;TZID=America/Los_Angeles:20271217T120000
DTSTAMP:20260423T103141
CREATED:20240329T052431Z
LAST-MODIFIED:20250516T174417Z
UID:10002344-1829041200-1829044800@tenesquire.com
SUMMARY:TEN West Hollywood
DESCRIPTION:
URL:https://tenesquire.com/calendar/ten-west-hollywood/2027-12-17/
LOCATION:Online Meeting
CATEGORIES:Regular Meetings
ATTACH;FMTTYPE=image/jpeg:https://tenesquire.com/wp-content/uploads/2024/03/West-Hollywood.jpg
END:VEVENT
BEGIN:VEVENT
DTSTART;TZID=America/Los_Angeles:20280121T110000
DTEND;TZID=America/Los_Angeles:20280121T120000
DTSTAMP:20260423T103141
CREATED:20240329T052431Z
LAST-MODIFIED:20250516T174417Z
UID:10002345-1832065200-1832068800@tenesquire.com
SUMMARY:TEN West Hollywood
DESCRIPTION:
URL:https://tenesquire.com/calendar/ten-west-hollywood/2028-01-21/
LOCATION:Online Meeting
CATEGORIES:Regular Meetings
ATTACH;FMTTYPE=image/jpeg:https://tenesquire.com/wp-content/uploads/2024/03/West-Hollywood.jpg
END:VEVENT
BEGIN:VEVENT
DTSTART;TZID=America/Los_Angeles:20280218T110000
DTEND;TZID=America/Los_Angeles:20280218T120000
DTSTAMP:20260423T103141
CREATED:20240329T052431Z
LAST-MODIFIED:20250516T174417Z
UID:10002346-1834484400-1834488000@tenesquire.com
SUMMARY:TEN West Hollywood
DESCRIPTION:
URL:https://tenesquire.com/calendar/ten-west-hollywood/2028-02-18/
LOCATION:Online Meeting
CATEGORIES:Regular Meetings
ATTACH;FMTTYPE=image/jpeg:https://tenesquire.com/wp-content/uploads/2024/03/West-Hollywood.jpg
END:VEVENT
BEGIN:VEVENT
DTSTART;TZID=America/Los_Angeles:20280317T110000
DTEND;TZID=America/Los_Angeles:20280317T120000
DTSTAMP:20260423T103141
CREATED:20240329T052431Z
LAST-MODIFIED:20250516T174417Z
UID:10002347-1836903600-1836907200@tenesquire.com
SUMMARY:TEN West Hollywood
DESCRIPTION:
URL:https://tenesquire.com/calendar/ten-west-hollywood/2028-03-17/
LOCATION:Online Meeting
CATEGORIES:Regular Meetings
ATTACH;FMTTYPE=image/jpeg:https://tenesquire.com/wp-content/uploads/2024/03/West-Hollywood.jpg
END:VEVENT
BEGIN:VEVENT
DTSTART;TZID=America/Los_Angeles:20280421T110000
DTEND;TZID=America/Los_Angeles:20280421T120000
DTSTAMP:20260423T103141
CREATED:20240329T052431Z
LAST-MODIFIED:20250516T174417Z
UID:10002348-1839927600-1839931200@tenesquire.com
SUMMARY:TEN West Hollywood
DESCRIPTION:
URL:https://tenesquire.com/calendar/ten-west-hollywood/2028-04-21/
LOCATION:Online Meeting
CATEGORIES:Regular Meetings
ATTACH;FMTTYPE=image/jpeg:https://tenesquire.com/wp-content/uploads/2024/03/West-Hollywood.jpg
END:VEVENT
BEGIN:VEVENT
DTSTART;TZID=America/Los_Angeles:20280519T110000
DTEND;TZID=America/Los_Angeles:20280519T120000
DTSTAMP:20260423T103141
CREATED:20240329T052431Z
LAST-MODIFIED:20250516T174417Z
UID:10002349-1842346800-1842350400@tenesquire.com
SUMMARY:TEN West Hollywood
DESCRIPTION:
URL:https://tenesquire.com/calendar/ten-west-hollywood/2028-05-19/
LOCATION:Online Meeting
CATEGORIES:Regular Meetings
ATTACH;FMTTYPE=image/jpeg:https://tenesquire.com/wp-content/uploads/2024/03/West-Hollywood.jpg
END:VEVENT
BEGIN:VEVENT
DTSTART;TZID=America/Los_Angeles:20280616T110000
DTEND;TZID=America/Los_Angeles:20280616T120000
DTSTAMP:20260423T103141
CREATED:20240329T052431Z
LAST-MODIFIED:20250516T174417Z
UID:10002350-1844766000-1844769600@tenesquire.com
SUMMARY:TEN West Hollywood
DESCRIPTION:
URL:https://tenesquire.com/calendar/ten-west-hollywood/2028-06-16/
LOCATION:Online Meeting
CATEGORIES:Regular Meetings
ATTACH;FMTTYPE=image/jpeg:https://tenesquire.com/wp-content/uploads/2024/03/West-Hollywood.jpg
END:VEVENT
BEGIN:VEVENT
DTSTART;TZID=America/Los_Angeles:20280721T110000
DTEND;TZID=America/Los_Angeles:20280721T120000
DTSTAMP:20260423T103141
CREATED:20240329T052431Z
LAST-MODIFIED:20250516T174417Z
UID:10002351-1847790000-1847793600@tenesquire.com
SUMMARY:TEN West Hollywood
DESCRIPTION:
URL:https://tenesquire.com/calendar/ten-west-hollywood/2028-07-21/
LOCATION:Online Meeting
CATEGORIES:Regular Meetings
ATTACH;FMTTYPE=image/jpeg:https://tenesquire.com/wp-content/uploads/2024/03/West-Hollywood.jpg
END:VEVENT
BEGIN:VEVENT
DTSTART;TZID=America/Los_Angeles:20280818T110000
DTEND;TZID=America/Los_Angeles:20280818T120000
DTSTAMP:20260423T103141
CREATED:20240329T052431Z
LAST-MODIFIED:20250516T174417Z
UID:10002352-1850209200-1850212800@tenesquire.com
SUMMARY:TEN West Hollywood
DESCRIPTION:
URL:https://tenesquire.com/calendar/ten-west-hollywood/2028-08-18/
LOCATION:Online Meeting
CATEGORIES:Regular Meetings
ATTACH;FMTTYPE=image/jpeg:https://tenesquire.com/wp-content/uploads/2024/03/West-Hollywood.jpg
END:VEVENT
BEGIN:VEVENT
DTSTART;TZID=America/Los_Angeles:20280915T110000
DTEND;TZID=America/Los_Angeles:20280915T120000
DTSTAMP:20260423T103141
CREATED:20240329T052431Z
LAST-MODIFIED:20250516T174417Z
UID:10002353-1852628400-1852632000@tenesquire.com
SUMMARY:TEN West Hollywood
DESCRIPTION:
URL:https://tenesquire.com/calendar/ten-west-hollywood/2028-09-15/
LOCATION:Online Meeting
CATEGORIES:Regular Meetings
ATTACH;FMTTYPE=image/jpeg:https://tenesquire.com/wp-content/uploads/2024/03/West-Hollywood.jpg
END:VEVENT
BEGIN:VEVENT
DTSTART;TZID=America/Los_Angeles:20281020T110000
DTEND;TZID=America/Los_Angeles:20281020T120000
DTSTAMP:20260423T103141
CREATED:20240329T052431Z
LAST-MODIFIED:20250516T174417Z
UID:10002354-1855652400-1855656000@tenesquire.com
SUMMARY:TEN West Hollywood
DESCRIPTION:
URL:https://tenesquire.com/calendar/ten-west-hollywood/2028-10-20/
LOCATION:Online Meeting
CATEGORIES:Regular Meetings
ATTACH;FMTTYPE=image/jpeg:https://tenesquire.com/wp-content/uploads/2024/03/West-Hollywood.jpg
END:VEVENT
END:VCALENDAR