BEGIN:VCALENDAR
VERSION:2.0
PRODID:-//TEN: The Esquire Network - ECPv6.15.15//NONSGML v1.0//EN
CALSCALE:GREGORIAN
METHOD:PUBLISH
X-WR-CALNAME:TEN: The Esquire Network
X-ORIGINAL-URL:https://tenesquire.com
X-WR-CALDESC:Events for TEN: The Esquire Network
REFRESH-INTERVAL;VALUE=DURATION:PT1H
X-Robots-Tag:noindex
X-PUBLISHED-TTL:PT1H
BEGIN:VTIMEZONE
TZID:America/Los_Angeles
BEGIN:DAYLIGHT
TZOFFSETFROM:-0800
TZOFFSETTO:-0700
TZNAME:PDT
DTSTART:20250309T100000
END:DAYLIGHT
BEGIN:STANDARD
TZOFFSETFROM:-0700
TZOFFSETTO:-0800
TZNAME:PST
DTSTART:20251102T090000
END:STANDARD
BEGIN:DAYLIGHT
TZOFFSETFROM:-0800
TZOFFSETTO:-0700
TZNAME:PDT
DTSTART:20260308T100000
END:DAYLIGHT
BEGIN:STANDARD
TZOFFSETFROM:-0700
TZOFFSETTO:-0800
TZNAME:PST
DTSTART:20261101T090000
END:STANDARD
BEGIN:DAYLIGHT
TZOFFSETFROM:-0800
TZOFFSETTO:-0700
TZNAME:PDT
DTSTART:20270314T100000
END:DAYLIGHT
BEGIN:STANDARD
TZOFFSETFROM:-0700
TZOFFSETTO:-0800
TZNAME:PST
DTSTART:20271107T090000
END:STANDARD
BEGIN:DAYLIGHT
TZOFFSETFROM:-0800
TZOFFSETTO:-0700
TZNAME:PDT
DTSTART:20280312T100000
END:DAYLIGHT
BEGIN:STANDARD
TZOFFSETFROM:-0700
TZOFFSETTO:-0800
TZNAME:PST
DTSTART:20281105T090000
END:STANDARD
BEGIN:DAYLIGHT
TZOFFSETFROM:-0800
TZOFFSETTO:-0700
TZNAME:PDT
DTSTART:20290311T100000
END:DAYLIGHT
BEGIN:STANDARD
TZOFFSETFROM:-0700
TZOFFSETTO:-0800
TZNAME:PST
DTSTART:20291104T090000
END:STANDARD
END:VTIMEZONE
BEGIN:VEVENT
DTSTART;TZID=America/Los_Angeles:20260611T080000
DTEND;TZID=America/Los_Angeles:20260611T090000
DTSTAMP:20260423T092111
CREATED:20250523T204021Z
LAST-MODIFIED:20250523T204202Z
UID:10002512-1781164800-1781168400@tenesquire.com
SUMMARY:TEN Family Law
DESCRIPTION:
URL:https://tenesquire.com/calendar/family-law/2026-06-11/
LOCATION:Online Meeting
CATEGORIES:Regular Meetings
ATTACH;FMTTYPE=image/jpeg:https://tenesquire.com/wp-content/uploads/2024/03/Family-Law.jpg
ORGANIZER;CN="TEN%3A The Esquire Network":MAILTO:nathan@tenworking.com
END:VEVENT
BEGIN:VEVENT
DTSTART;TZID=America/Los_Angeles:20260709T080000
DTEND;TZID=America/Los_Angeles:20260709T090000
DTSTAMP:20260423T092111
CREATED:20250523T204021Z
LAST-MODIFIED:20250523T204202Z
UID:10002513-1783584000-1783587600@tenesquire.com
SUMMARY:TEN Family Law
DESCRIPTION:
URL:https://tenesquire.com/calendar/family-law/2026-07-09/
LOCATION:Online Meeting
CATEGORIES:Regular Meetings
ATTACH;FMTTYPE=image/jpeg:https://tenesquire.com/wp-content/uploads/2024/03/Family-Law.jpg
ORGANIZER;CN="TEN%3A The Esquire Network":MAILTO:nathan@tenworking.com
END:VEVENT
BEGIN:VEVENT
DTSTART;TZID=America/Los_Angeles:20260813T080000
DTEND;TZID=America/Los_Angeles:20260813T090000
DTSTAMP:20260423T092111
CREATED:20250523T204021Z
LAST-MODIFIED:20250523T204202Z
UID:10002514-1786608000-1786611600@tenesquire.com
SUMMARY:TEN Family Law
DESCRIPTION:
URL:https://tenesquire.com/calendar/family-law/2026-08-13/
LOCATION:Online Meeting
CATEGORIES:Regular Meetings
ATTACH;FMTTYPE=image/jpeg:https://tenesquire.com/wp-content/uploads/2024/03/Family-Law.jpg
ORGANIZER;CN="TEN%3A The Esquire Network":MAILTO:nathan@tenworking.com
END:VEVENT
BEGIN:VEVENT
DTSTART;TZID=America/Los_Angeles:20260910T080000
DTEND;TZID=America/Los_Angeles:20260910T090000
DTSTAMP:20260423T092111
CREATED:20250523T204021Z
LAST-MODIFIED:20250523T204202Z
UID:10002515-1789027200-1789030800@tenesquire.com
SUMMARY:TEN Family Law
DESCRIPTION:
URL:https://tenesquire.com/calendar/family-law/2026-09-10/
LOCATION:Online Meeting
CATEGORIES:Regular Meetings
ATTACH;FMTTYPE=image/jpeg:https://tenesquire.com/wp-content/uploads/2024/03/Family-Law.jpg
ORGANIZER;CN="TEN%3A The Esquire Network":MAILTO:nathan@tenworking.com
END:VEVENT
BEGIN:VEVENT
DTSTART;TZID=America/Los_Angeles:20261008T080000
DTEND;TZID=America/Los_Angeles:20261008T090000
DTSTAMP:20260423T092111
CREATED:20250523T204021Z
LAST-MODIFIED:20250523T204202Z
UID:10002516-1791446400-1791450000@tenesquire.com
SUMMARY:TEN Family Law
DESCRIPTION:
URL:https://tenesquire.com/calendar/family-law/2026-10-08/
LOCATION:Online Meeting
CATEGORIES:Regular Meetings
ATTACH;FMTTYPE=image/jpeg:https://tenesquire.com/wp-content/uploads/2024/03/Family-Law.jpg
ORGANIZER;CN="TEN%3A The Esquire Network":MAILTO:nathan@tenworking.com
END:VEVENT
BEGIN:VEVENT
DTSTART;TZID=America/Los_Angeles:20261112T080000
DTEND;TZID=America/Los_Angeles:20261112T090000
DTSTAMP:20260423T092111
CREATED:20250523T204021Z
LAST-MODIFIED:20250523T204202Z
UID:10002517-1794470400-1794474000@tenesquire.com
SUMMARY:TEN Family Law
DESCRIPTION:
URL:https://tenesquire.com/calendar/family-law/2026-11-12/
LOCATION:Online Meeting
CATEGORIES:Regular Meetings
ATTACH;FMTTYPE=image/jpeg:https://tenesquire.com/wp-content/uploads/2024/03/Family-Law.jpg
ORGANIZER;CN="TEN%3A The Esquire Network":MAILTO:nathan@tenworking.com
END:VEVENT
BEGIN:VEVENT
DTSTART;TZID=America/Los_Angeles:20261210T080000
DTEND;TZID=America/Los_Angeles:20261210T090000
DTSTAMP:20260423T092111
CREATED:20250523T204021Z
LAST-MODIFIED:20250523T204202Z
UID:10002518-1796889600-1796893200@tenesquire.com
SUMMARY:TEN Family Law
DESCRIPTION:
URL:https://tenesquire.com/calendar/family-law/2026-12-10/
LOCATION:Online Meeting
CATEGORIES:Regular Meetings
ATTACH;FMTTYPE=image/jpeg:https://tenesquire.com/wp-content/uploads/2024/03/Family-Law.jpg
ORGANIZER;CN="TEN%3A The Esquire Network":MAILTO:nathan@tenworking.com
END:VEVENT
BEGIN:VEVENT
DTSTART;TZID=America/Los_Angeles:20270114T080000
DTEND;TZID=America/Los_Angeles:20270114T090000
DTSTAMP:20260423T092111
CREATED:20250523T204021Z
LAST-MODIFIED:20250523T204202Z
UID:10002519-1799913600-1799917200@tenesquire.com
SUMMARY:TEN Family Law
DESCRIPTION:
URL:https://tenesquire.com/calendar/family-law/2027-01-14/
LOCATION:Online Meeting
CATEGORIES:Regular Meetings
ATTACH;FMTTYPE=image/jpeg:https://tenesquire.com/wp-content/uploads/2024/03/Family-Law.jpg
ORGANIZER;CN="TEN%3A The Esquire Network":MAILTO:nathan@tenworking.com
END:VEVENT
BEGIN:VEVENT
DTSTART;TZID=America/Los_Angeles:20270211T080000
DTEND;TZID=America/Los_Angeles:20270211T090000
DTSTAMP:20260423T092111
CREATED:20250523T204021Z
LAST-MODIFIED:20250523T204202Z
UID:10002520-1802332800-1802336400@tenesquire.com
SUMMARY:TEN Family Law
DESCRIPTION:
URL:https://tenesquire.com/calendar/family-law/2027-02-11/
LOCATION:Online Meeting
CATEGORIES:Regular Meetings
ATTACH;FMTTYPE=image/jpeg:https://tenesquire.com/wp-content/uploads/2024/03/Family-Law.jpg
ORGANIZER;CN="TEN%3A The Esquire Network":MAILTO:nathan@tenworking.com
END:VEVENT
BEGIN:VEVENT
DTSTART;TZID=America/Los_Angeles:20270311T080000
DTEND;TZID=America/Los_Angeles:20270311T090000
DTSTAMP:20260423T092111
CREATED:20250523T204021Z
LAST-MODIFIED:20250523T204202Z
UID:10002521-1804752000-1804755600@tenesquire.com
SUMMARY:TEN Family Law
DESCRIPTION:
URL:https://tenesquire.com/calendar/family-law/2027-03-11/
LOCATION:Online Meeting
CATEGORIES:Regular Meetings
ATTACH;FMTTYPE=image/jpeg:https://tenesquire.com/wp-content/uploads/2024/03/Family-Law.jpg
ORGANIZER;CN="TEN%3A The Esquire Network":MAILTO:nathan@tenworking.com
END:VEVENT
BEGIN:VEVENT
DTSTART;TZID=America/Los_Angeles:20270408T080000
DTEND;TZID=America/Los_Angeles:20270408T090000
DTSTAMP:20260423T092111
CREATED:20250523T204021Z
LAST-MODIFIED:20250523T204202Z
UID:10002522-1807171200-1807174800@tenesquire.com
SUMMARY:TEN Family Law
DESCRIPTION:
URL:https://tenesquire.com/calendar/family-law/2027-04-08/
LOCATION:Online Meeting
CATEGORIES:Regular Meetings
ATTACH;FMTTYPE=image/jpeg:https://tenesquire.com/wp-content/uploads/2024/03/Family-Law.jpg
ORGANIZER;CN="TEN%3A The Esquire Network":MAILTO:nathan@tenworking.com
END:VEVENT
BEGIN:VEVENT
DTSTART;TZID=America/Los_Angeles:20270513T080000
DTEND;TZID=America/Los_Angeles:20270513T090000
DTSTAMP:20260423T092111
CREATED:20250523T204021Z
LAST-MODIFIED:20250523T204202Z
UID:10002523-1810195200-1810198800@tenesquire.com
SUMMARY:TEN Family Law
DESCRIPTION:
URL:https://tenesquire.com/calendar/family-law/2027-05-13/
LOCATION:Online Meeting
CATEGORIES:Regular Meetings
ATTACH;FMTTYPE=image/jpeg:https://tenesquire.com/wp-content/uploads/2024/03/Family-Law.jpg
ORGANIZER;CN="TEN%3A The Esquire Network":MAILTO:nathan@tenworking.com
END:VEVENT
BEGIN:VEVENT
DTSTART;TZID=America/Los_Angeles:20270610T080000
DTEND;TZID=America/Los_Angeles:20270610T090000
DTSTAMP:20260423T092111
CREATED:20250523T204021Z
LAST-MODIFIED:20250523T204202Z
UID:10002524-1812614400-1812618000@tenesquire.com
SUMMARY:TEN Family Law
DESCRIPTION:
URL:https://tenesquire.com/calendar/family-law/2027-06-10/
LOCATION:Online Meeting
CATEGORIES:Regular Meetings
ATTACH;FMTTYPE=image/jpeg:https://tenesquire.com/wp-content/uploads/2024/03/Family-Law.jpg
ORGANIZER;CN="TEN%3A The Esquire Network":MAILTO:nathan@tenworking.com
END:VEVENT
BEGIN:VEVENT
DTSTART;TZID=America/Los_Angeles:20270708T080000
DTEND;TZID=America/Los_Angeles:20270708T090000
DTSTAMP:20260423T092111
CREATED:20250523T204021Z
LAST-MODIFIED:20250523T204202Z
UID:10002525-1815033600-1815037200@tenesquire.com
SUMMARY:TEN Family Law
DESCRIPTION:
URL:https://tenesquire.com/calendar/family-law/2027-07-08/
LOCATION:Online Meeting
CATEGORIES:Regular Meetings
ATTACH;FMTTYPE=image/jpeg:https://tenesquire.com/wp-content/uploads/2024/03/Family-Law.jpg
ORGANIZER;CN="TEN%3A The Esquire Network":MAILTO:nathan@tenworking.com
END:VEVENT
BEGIN:VEVENT
DTSTART;TZID=America/Los_Angeles:20270812T080000
DTEND;TZID=America/Los_Angeles:20270812T090000
DTSTAMP:20260423T092111
CREATED:20250523T204021Z
LAST-MODIFIED:20250523T204202Z
UID:10002526-1818057600-1818061200@tenesquire.com
SUMMARY:TEN Family Law
DESCRIPTION:
URL:https://tenesquire.com/calendar/family-law/2027-08-12/
LOCATION:Online Meeting
CATEGORIES:Regular Meetings
ATTACH;FMTTYPE=image/jpeg:https://tenesquire.com/wp-content/uploads/2024/03/Family-Law.jpg
ORGANIZER;CN="TEN%3A The Esquire Network":MAILTO:nathan@tenworking.com
END:VEVENT
BEGIN:VEVENT
DTSTART;TZID=America/Los_Angeles:20270909T080000
DTEND;TZID=America/Los_Angeles:20270909T090000
DTSTAMP:20260423T092111
CREATED:20250523T204021Z
LAST-MODIFIED:20250523T204202Z
UID:10002527-1820476800-1820480400@tenesquire.com
SUMMARY:TEN Family Law
DESCRIPTION:
URL:https://tenesquire.com/calendar/family-law/2027-09-09/
LOCATION:Online Meeting
CATEGORIES:Regular Meetings
ATTACH;FMTTYPE=image/jpeg:https://tenesquire.com/wp-content/uploads/2024/03/Family-Law.jpg
ORGANIZER;CN="TEN%3A The Esquire Network":MAILTO:nathan@tenworking.com
END:VEVENT
BEGIN:VEVENT
DTSTART;TZID=America/Los_Angeles:20271014T080000
DTEND;TZID=America/Los_Angeles:20271014T090000
DTSTAMP:20260423T092111
CREATED:20250523T204021Z
LAST-MODIFIED:20250523T204202Z
UID:10002528-1823500800-1823504400@tenesquire.com
SUMMARY:TEN Family Law
DESCRIPTION:
URL:https://tenesquire.com/calendar/family-law/2027-10-14/
LOCATION:Online Meeting
CATEGORIES:Regular Meetings
ATTACH;FMTTYPE=image/jpeg:https://tenesquire.com/wp-content/uploads/2024/03/Family-Law.jpg
ORGANIZER;CN="TEN%3A The Esquire Network":MAILTO:nathan@tenworking.com
END:VEVENT
BEGIN:VEVENT
DTSTART;TZID=America/Los_Angeles:20271111T080000
DTEND;TZID=America/Los_Angeles:20271111T090000
DTSTAMP:20260423T092111
CREATED:20250523T204021Z
LAST-MODIFIED:20250523T204202Z
UID:10002529-1825920000-1825923600@tenesquire.com
SUMMARY:TEN Family Law
DESCRIPTION:
URL:https://tenesquire.com/calendar/family-law/2027-11-11/
LOCATION:Online Meeting
CATEGORIES:Regular Meetings
ATTACH;FMTTYPE=image/jpeg:https://tenesquire.com/wp-content/uploads/2024/03/Family-Law.jpg
ORGANIZER;CN="TEN%3A The Esquire Network":MAILTO:nathan@tenworking.com
END:VEVENT
BEGIN:VEVENT
DTSTART;TZID=America/Los_Angeles:20271209T080000
DTEND;TZID=America/Los_Angeles:20271209T090000
DTSTAMP:20260423T092111
CREATED:20250523T204021Z
LAST-MODIFIED:20250523T204202Z
UID:10002530-1828339200-1828342800@tenesquire.com
SUMMARY:TEN Family Law
DESCRIPTION:
URL:https://tenesquire.com/calendar/family-law/2027-12-09/
LOCATION:Online Meeting
CATEGORIES:Regular Meetings
ATTACH;FMTTYPE=image/jpeg:https://tenesquire.com/wp-content/uploads/2024/03/Family-Law.jpg
ORGANIZER;CN="TEN%3A The Esquire Network":MAILTO:nathan@tenworking.com
END:VEVENT
BEGIN:VEVENT
DTSTART;TZID=America/Los_Angeles:20280113T080000
DTEND;TZID=America/Los_Angeles:20280113T090000
DTSTAMP:20260423T092111
CREATED:20250523T204021Z
LAST-MODIFIED:20250523T204202Z
UID:10002531-1831363200-1831366800@tenesquire.com
SUMMARY:TEN Family Law
DESCRIPTION:
URL:https://tenesquire.com/calendar/family-law/2028-01-13/
LOCATION:Online Meeting
CATEGORIES:Regular Meetings
ATTACH;FMTTYPE=image/jpeg:https://tenesquire.com/wp-content/uploads/2024/03/Family-Law.jpg
ORGANIZER;CN="TEN%3A The Esquire Network":MAILTO:nathan@tenworking.com
END:VEVENT
BEGIN:VEVENT
DTSTART;TZID=America/Los_Angeles:20280210T080000
DTEND;TZID=America/Los_Angeles:20280210T090000
DTSTAMP:20260423T092111
CREATED:20250523T204021Z
LAST-MODIFIED:20250523T204202Z
UID:10002532-1833782400-1833786000@tenesquire.com
SUMMARY:TEN Family Law
DESCRIPTION:
URL:https://tenesquire.com/calendar/family-law/2028-02-10/
LOCATION:Online Meeting
CATEGORIES:Regular Meetings
ATTACH;FMTTYPE=image/jpeg:https://tenesquire.com/wp-content/uploads/2024/03/Family-Law.jpg
ORGANIZER;CN="TEN%3A The Esquire Network":MAILTO:nathan@tenworking.com
END:VEVENT
BEGIN:VEVENT
DTSTART;TZID=America/Los_Angeles:20280309T080000
DTEND;TZID=America/Los_Angeles:20280309T090000
DTSTAMP:20260423T092111
CREATED:20250523T204021Z
LAST-MODIFIED:20250523T204202Z
UID:10002533-1836201600-1836205200@tenesquire.com
SUMMARY:TEN Family Law
DESCRIPTION:
URL:https://tenesquire.com/calendar/family-law/2028-03-09/
LOCATION:Online Meeting
CATEGORIES:Regular Meetings
ATTACH;FMTTYPE=image/jpeg:https://tenesquire.com/wp-content/uploads/2024/03/Family-Law.jpg
ORGANIZER;CN="TEN%3A The Esquire Network":MAILTO:nathan@tenworking.com
END:VEVENT
BEGIN:VEVENT
DTSTART;TZID=America/Los_Angeles:20280413T080000
DTEND;TZID=America/Los_Angeles:20280413T090000
DTSTAMP:20260423T092111
CREATED:20250523T204021Z
LAST-MODIFIED:20250523T204202Z
UID:10002534-1839225600-1839229200@tenesquire.com
SUMMARY:TEN Family Law
DESCRIPTION:
URL:https://tenesquire.com/calendar/family-law/2028-04-13/
LOCATION:Online Meeting
CATEGORIES:Regular Meetings
ATTACH;FMTTYPE=image/jpeg:https://tenesquire.com/wp-content/uploads/2024/03/Family-Law.jpg
ORGANIZER;CN="TEN%3A The Esquire Network":MAILTO:nathan@tenworking.com
END:VEVENT
BEGIN:VEVENT
DTSTART;TZID=America/Los_Angeles:20280511T080000
DTEND;TZID=America/Los_Angeles:20280511T090000
DTSTAMP:20260423T092111
CREATED:20250523T204021Z
LAST-MODIFIED:20250523T204202Z
UID:10002535-1841644800-1841648400@tenesquire.com
SUMMARY:TEN Family Law
DESCRIPTION:
URL:https://tenesquire.com/calendar/family-law/2028-05-11/
LOCATION:Online Meeting
CATEGORIES:Regular Meetings
ATTACH;FMTTYPE=image/jpeg:https://tenesquire.com/wp-content/uploads/2024/03/Family-Law.jpg
ORGANIZER;CN="TEN%3A The Esquire Network":MAILTO:nathan@tenworking.com
END:VEVENT
BEGIN:VEVENT
DTSTART;TZID=America/Los_Angeles:20280608T080000
DTEND;TZID=America/Los_Angeles:20280608T090000
DTSTAMP:20260423T092111
CREATED:20250523T204021Z
LAST-MODIFIED:20250523T204202Z
UID:10002536-1844064000-1844067600@tenesquire.com
SUMMARY:TEN Family Law
DESCRIPTION:
URL:https://tenesquire.com/calendar/family-law/2028-06-08/
LOCATION:Online Meeting
CATEGORIES:Regular Meetings
ATTACH;FMTTYPE=image/jpeg:https://tenesquire.com/wp-content/uploads/2024/03/Family-Law.jpg
ORGANIZER;CN="TEN%3A The Esquire Network":MAILTO:nathan@tenworking.com
END:VEVENT
BEGIN:VEVENT
DTSTART;TZID=America/Los_Angeles:20280713T080000
DTEND;TZID=America/Los_Angeles:20280713T090000
DTSTAMP:20260423T092111
CREATED:20250523T204021Z
LAST-MODIFIED:20250523T204202Z
UID:10002537-1847088000-1847091600@tenesquire.com
SUMMARY:TEN Family Law
DESCRIPTION:
URL:https://tenesquire.com/calendar/family-law/2028-07-13/
LOCATION:Online Meeting
CATEGORIES:Regular Meetings
ATTACH;FMTTYPE=image/jpeg:https://tenesquire.com/wp-content/uploads/2024/03/Family-Law.jpg
ORGANIZER;CN="TEN%3A The Esquire Network":MAILTO:nathan@tenworking.com
END:VEVENT
BEGIN:VEVENT
DTSTART;TZID=America/Los_Angeles:20280810T080000
DTEND;TZID=America/Los_Angeles:20280810T090000
DTSTAMP:20260423T092111
CREATED:20250523T204021Z
LAST-MODIFIED:20250523T204202Z
UID:10002538-1849507200-1849510800@tenesquire.com
SUMMARY:TEN Family Law
DESCRIPTION:
URL:https://tenesquire.com/calendar/family-law/2028-08-10/
LOCATION:Online Meeting
CATEGORIES:Regular Meetings
ATTACH;FMTTYPE=image/jpeg:https://tenesquire.com/wp-content/uploads/2024/03/Family-Law.jpg
ORGANIZER;CN="TEN%3A The Esquire Network":MAILTO:nathan@tenworking.com
END:VEVENT
BEGIN:VEVENT
DTSTART;TZID=America/Los_Angeles:20280914T080000
DTEND;TZID=America/Los_Angeles:20280914T090000
DTSTAMP:20260423T092111
CREATED:20250523T204021Z
LAST-MODIFIED:20250523T204202Z
UID:10002539-1852531200-1852534800@tenesquire.com
SUMMARY:TEN Family Law
DESCRIPTION:
URL:https://tenesquire.com/calendar/family-law/2028-09-14/
LOCATION:Online Meeting
CATEGORIES:Regular Meetings
ATTACH;FMTTYPE=image/jpeg:https://tenesquire.com/wp-content/uploads/2024/03/Family-Law.jpg
ORGANIZER;CN="TEN%3A The Esquire Network":MAILTO:nathan@tenworking.com
END:VEVENT
BEGIN:VEVENT
DTSTART;TZID=America/Los_Angeles:20281012T080000
DTEND;TZID=America/Los_Angeles:20281012T090000
DTSTAMP:20260423T092111
CREATED:20250523T204021Z
LAST-MODIFIED:20250523T204202Z
UID:10002540-1854950400-1854954000@tenesquire.com
SUMMARY:TEN Family Law
DESCRIPTION:
URL:https://tenesquire.com/calendar/family-law/2028-10-12/
LOCATION:Online Meeting
CATEGORIES:Regular Meetings
ATTACH;FMTTYPE=image/jpeg:https://tenesquire.com/wp-content/uploads/2024/03/Family-Law.jpg
ORGANIZER;CN="TEN%3A The Esquire Network":MAILTO:nathan@tenworking.com
END:VEVENT
BEGIN:VEVENT
DTSTART;TZID=America/Los_Angeles:20281109T080000
DTEND;TZID=America/Los_Angeles:20281109T090000
DTSTAMP:20260423T092111
CREATED:20250523T204021Z
LAST-MODIFIED:20250523T204202Z
UID:10002541-1857369600-1857373200@tenesquire.com
SUMMARY:TEN Family Law
DESCRIPTION:
URL:https://tenesquire.com/calendar/family-law/2028-11-09/
LOCATION:Online Meeting
CATEGORIES:Regular Meetings
ATTACH;FMTTYPE=image/jpeg:https://tenesquire.com/wp-content/uploads/2024/03/Family-Law.jpg
ORGANIZER;CN="TEN%3A The Esquire Network":MAILTO:nathan@tenworking.com
END:VEVENT
END:VCALENDAR