BEGIN:VCALENDAR
VERSION:2.0
PRODID:-//TEN: The Esquire Network - ECPv6.15.15//NONSGML v1.0//EN
CALSCALE:GREGORIAN
METHOD:PUBLISH
X-WR-CALNAME:TEN: The Esquire Network
X-ORIGINAL-URL:https://tenesquire.com
X-WR-CALDESC:Events for TEN: The Esquire Network
REFRESH-INTERVAL;VALUE=DURATION:PT1H
X-Robots-Tag:noindex
X-PUBLISHED-TTL:PT1H
BEGIN:VTIMEZONE
TZID:America/Los_Angeles
BEGIN:DAYLIGHT
TZOFFSETFROM:-0800
TZOFFSETTO:-0700
TZNAME:PDT
DTSTART:20250309T100000
END:DAYLIGHT
BEGIN:STANDARD
TZOFFSETFROM:-0700
TZOFFSETTO:-0800
TZNAME:PST
DTSTART:20251102T090000
END:STANDARD
BEGIN:DAYLIGHT
TZOFFSETFROM:-0800
TZOFFSETTO:-0700
TZNAME:PDT
DTSTART:20260308T100000
END:DAYLIGHT
BEGIN:STANDARD
TZOFFSETFROM:-0700
TZOFFSETTO:-0800
TZNAME:PST
DTSTART:20261101T090000
END:STANDARD
BEGIN:DAYLIGHT
TZOFFSETFROM:-0800
TZOFFSETTO:-0700
TZNAME:PDT
DTSTART:20270314T100000
END:DAYLIGHT
BEGIN:STANDARD
TZOFFSETFROM:-0700
TZOFFSETTO:-0800
TZNAME:PST
DTSTART:20271107T090000
END:STANDARD
END:VTIMEZONE
BEGIN:VEVENT
DTSTART;TZID=America/Los_Angeles:20260601T120000
DTEND;TZID=America/Los_Angeles:20260601T130000
DTSTAMP:20260423T104402
CREATED:20260311T213238Z
LAST-MODIFIED:20260420T185004Z
UID:10002958-1780315200-1780318800@tenesquire.com
SUMMARY:TEN Santa Clarita
DESCRIPTION:
URL:https://tenesquire.com/calendar/ten-santa-clarita/2026-06-01/
LOCATION:Online Meeting
CATEGORIES:Regular Meetings
ORGANIZER;CN="TEN%3A The Esquire Network":MAILTO:nathan@tenworking.com
END:VEVENT
BEGIN:VEVENT
DTSTART;TZID=America/Los_Angeles:20260602T173000
DTEND;TZID=America/Los_Angeles:20260602T190000
DTSTAMP:20260423T104402
CREATED:20240329T053837Z
LAST-MODIFIED:20260420T185354Z
UID:10003044-1780421400-1780426800@tenesquire.com
SUMMARY:TEN Encino
DESCRIPTION:
URL:https://tenesquire.com/calendar/ten-encino/2026-06-02/
LOCATION:Lewitt Hackman\, 16633 Ventura Blvd 11th Fl.\, Encino\, CA\, 91436\, United States
CATEGORIES:Regular Meetings
ATTACH;FMTTYPE=image/jpeg:https://tenesquire.com/wp-content/uploads/2024/03/Encino.jpg
END:VEVENT
BEGIN:VEVENT
DTSTART;TZID=America/Los_Angeles:20260604T130000
DTEND;TZID=America/Los_Angeles:20260604T140000
DTSTAMP:20260423T104402
CREATED:20240329T051133Z
LAST-MODIFIED:20240404T162614Z
UID:10000467-1780578000-1780581600@tenesquire.com
SUMMARY:TEN Employment Law
DESCRIPTION:
URL:https://tenesquire.com/calendar/ten-employment-law/2026-06-04/
LOCATION:Online Meeting
CATEGORIES:Regular Meetings
ATTACH;FMTTYPE=image/jpeg:https://tenesquire.com/wp-content/uploads/2024/03/Employment-Law.jpg
END:VEVENT
BEGIN:VEVENT
DTSTART;TZID=America/Los_Angeles:20260604T173000
DTEND;TZID=America/Los_Angeles:20260604T183000
DTSTAMP:20260423T104402
CREATED:20240329T051254Z
LAST-MODIFIED:20240329T054601Z
UID:10000527-1780594200-1780597800@tenesquire.com
SUMMARY:TEN South Bay
DESCRIPTION:
URL:https://tenesquire.com/calendar/ten-south-bay/2026-06-04/
LOCATION:Online Meeting
CATEGORIES:Regular Meetings
ATTACH;FMTTYPE=image/jpeg:https://tenesquire.com/wp-content/uploads/2024/03/South-Bay.jpg
END:VEVENT
BEGIN:VEVENT
DTSTART;TZID=America/Los_Angeles:20260605T070000
DTEND;TZID=America/Los_Angeles:20260605T083000
DTSTAMP:20260423T104402
CREATED:20240329T051441Z
LAST-MODIFIED:20240329T051441Z
UID:10000587-1780642800-1780648200@tenesquire.com
SUMMARY:TEN Pasadena
DESCRIPTION:
URL:https://tenesquire.com/calendar/ten-pasadena/2026-06-05/
LOCATION:Lagerlof LLP\, 155 N. Lake Ave.\, Pasadena\, CA\, 91101\, United States
CATEGORIES:Regular Meetings
ATTACH;FMTTYPE=image/jpeg:https://tenesquire.com/wp-content/uploads/2024/03/Pasadena.jpg
ORGANIZER;CN="TEN%3A The Esquire Network":MAILTO:nathan@tenworking.com
GEO:34.1484824;-118.1327948
X-APPLE-STRUCTURED-LOCATION;VALUE=URI;X-ADDRESS=Lagerlof LLP 155 N. Lake Ave. Pasadena CA 91101 United States;X-APPLE-RADIUS=500;X-TITLE=155 N. Lake Ave.:geo:-118.1327948,34.1484824
END:VEVENT
BEGIN:VEVENT
DTSTART;TZID=America/Los_Angeles:20260608T150000
DTEND;TZID=America/Los_Angeles:20260608T160000
DTSTAMP:20260423T104402
CREATED:20240329T051627Z
LAST-MODIFIED:20250516T175243Z
UID:10000647-1780930800-1780934400@tenesquire.com
SUMMARY:TEN Bankruptcy Law
DESCRIPTION:If your practice involves bankruptcy law\, this is a perfect opportunity to find mentorship\, referral sources\, and build relationships with experts in your practice area. Whether you find yourself referring clients and/or potential clients to bankruptcy attorneys\, you find yourself needing to bring in a bankruptcy attorney on cases\, or there are certain aspects of bankruptcy law that you don’t practice\, you’re more than welcome to join us on the second Monday of every month! We’re excited to have you join us. See you soon!
URL:https://tenesquire.com/calendar/ten-bankruptcy-law/2026-06-08/
LOCATION:Online Meeting
CATEGORIES:Regular Meetings
ATTACH;FMTTYPE=image/jpeg:https://tenesquire.com/wp-content/uploads/2024/03/Bankruptcy-Law.jpg
END:VEVENT
BEGIN:VEVENT
DTSTART;TZID=America/Los_Angeles:20260609T120000
DTEND;TZID=America/Los_Angeles:20260609T130000
DTSTAMP:20260423T104402
CREATED:20240329T051741Z
LAST-MODIFIED:20250516T180153Z
UID:10000707-1781006400-1781010000@tenesquire.com
SUMMARY:TEN Sherman Oaks
DESCRIPTION:TEN Sherman Oaks for their annual TEN-FL event
URL:https://tenesquire.com/calendar/ten-sherman-oaks/2026-06-09/
LOCATION:Online Meeting
CATEGORIES:Regular Meetings
ATTACH;FMTTYPE=image/jpeg:https://tenesquire.com/wp-content/uploads/2024/03/Sherman-Oaks.jpg
ORGANIZER;CN="TEN%3A The Esquire Network":MAILTO:nathan@tenworking.com
END:VEVENT
BEGIN:VEVENT
DTSTART;TZID=America/Los_Angeles:20260611T080000
DTEND;TZID=America/Los_Angeles:20260611T090000
DTSTAMP:20260423T104402
CREATED:20250523T204021Z
LAST-MODIFIED:20250523T204202Z
UID:10002512-1781164800-1781168400@tenesquire.com
SUMMARY:TEN Family Law
DESCRIPTION:
URL:https://tenesquire.com/calendar/family-law/2026-06-11/
LOCATION:Online Meeting
CATEGORIES:Regular Meetings
ATTACH;FMTTYPE=image/jpeg:https://tenesquire.com/wp-content/uploads/2024/03/Family-Law.jpg
ORGANIZER;CN="TEN%3A The Esquire Network":MAILTO:nathan@tenworking.com
END:VEVENT
BEGIN:VEVENT
DTSTART;TZID=America/Los_Angeles:20260611T173000
DTEND;TZID=America/Los_Angeles:20260611T190000
DTSTAMP:20260423T104402
CREATED:20240329T052306Z
LAST-MODIFIED:20250619T220805Z
UID:10000887-1781199000-1781204400@tenesquire.com
SUMMARY:TEN Tasters
DESCRIPTION:TEN Beverly Hills Tasters went to San Diego with Attorney Sommelier Chris Celentino of Jace Wines and Toured Alesmith Brewery \nTEN Tasters Group Photo\, July 2023 \nTEN Beverly Hills Tasters in San Diego \nTEN Tasters Group Photo
URL:https://tenesquire.com/calendar/ten-tasters/2026-06-11/
LOCATION:Online Meeting
CATEGORIES:Regular Meetings
ATTACH;FMTTYPE=image/jpeg:https://tenesquire.com/wp-content/uploads/2024/03/Sherman-Oaks-2.jpg
ORGANIZER;CN="Amira Hasenbush":MAILTO:amira@allfamilylegal.com
END:VEVENT
BEGIN:VEVENT
DTSTART;TZID=America/Los_Angeles:20260614T070000
DTEND;TZID=America/Los_Angeles:20260614T120000
DTSTAMP:20260423T104402
CREATED:20240329T052744Z
LAST-MODIFIED:20260325T195747Z
UID:10001067-1781420400-1781438400@tenesquire.com
SUMMARY:TEN-Nine Golf Group
DESCRIPTION:You are cordially invited to participate in our next TEN Nine Golf Outing & Networking Breakfast with moderator Jacqueline Loza. This activity is open to: TEN members and guests of TEN members\, and practicing attorneys who are not (yet) TEN Members. All skill levels welcome! \nWhere: Roosevelt Golf Course\, 2650 N. Vermont Ave.\, Los Angeles\, CA 90027 \nTime: Exact times will be communicated upon RSVP \nWhat: Nine-holes of golf\, followed by breakfast \nCost: $27 green fee\, plus food & beverage \nChip & Putt Pot: $10/player (optional) \n\nRSVP now – tee times are limited\nRSVP deadline: 5 PM on January 30\, 2025.\nCancelation deadline: 11:59 pm on February 7\, 2025.  To cancel your RSVP\, please email Jacqueline Loza jacquelinesloza@gmail.com. \nNon-refundable Deposit/No Show Fee:  All RSVPs are subject to L.A. City Golf’s deposit/no-show policy (see below). Should you cancel your RSVP or fail to show up\, you will be asked to cover any deposit lost and/or no-show fee paid.\nContact Jacqueline Loza (jacquelinesloza@gmail.com or (818) 317-5580\, if you have any questions.\n\nRSVP Required \nFrom L.A. City Golf:  \n“Beginning immediately\, all tee time reservations booked through our website\, mobile app\, golf courses\, or 24 hour call center will require a $10 per person non refundable deposit and this amount will be credited towards each golfers green fee upon check-in. Your deposit will be forfeited if you cancel your tee time for any reason (note: the separate $10 per person no show/short show penalties also remain in effect). A refund of your deposit may be issued if a course is closed due to adverse weather and/or other course closure events or if electric carts are not available for rent preventing you or your group from playing. \nThank you for understand while we strive to make our booking process as fair and equitable as possible.”
URL:https://tenesquire.com/calendar/ten-nine-golf-group/2026-06-14/
LOCATION:Roosevelt Municipal Golf Course\, 2650 N. Vermont Ave.\, Los Angeles\, CA\, 90027\, United States
CATEGORIES:Regular Meetings
ATTACH;FMTTYPE=image/jpeg:https://tenesquire.com/wp-content/uploads/2024/03/Golf.jpg
ORGANIZER;CN="Jacqueline Loza":MAILTO:jacquelinesloza@gmail.com
GEO:34.118308;-118.2937803
X-APPLE-STRUCTURED-LOCATION;VALUE=URI;X-ADDRESS=Roosevelt Municipal Golf Course 2650 N. Vermont Ave. Los Angeles CA 90027 United States;X-APPLE-RADIUS=500;X-TITLE=2650 N. Vermont Ave.:geo:-118.2937803,34.118308
END:VEVENT
BEGIN:VEVENT
DTSTART;TZID=America/Los_Angeles:20260615T113000
DTEND;TZID=America/Los_Angeles:20260615T123000
DTSTAMP:20260423T104402
CREATED:20240329T053042Z
LAST-MODIFIED:20240329T054637Z
UID:10001637-1781523000-1781526600@tenesquire.com
SUMMARY:TEN Probate and Estate Planning Law Group
DESCRIPTION:
URL:https://tenesquire.com/calendar/ten-probate-and-estate-planning-law-group/2026-06-15/
LOCATION:Online Meeting
CATEGORIES:Regular Meetings
ATTACH;FMTTYPE=image/jpeg:https://tenesquire.com/wp-content/uploads/2024/03/Mediators-2.jpg
END:VEVENT
BEGIN:VEVENT
DTSTART;TZID=America/Los_Angeles:20260616T080000
DTEND;TZID=America/Los_Angeles:20260616T090000
DTSTAMP:20260423T104402
CREATED:20240329T053319Z
LAST-MODIFIED:20240814T220752Z
UID:10001247-1781596800-1781600400@tenesquire.com
SUMMARY:TEN Ventura
DESCRIPTION:
URL:https://tenesquire.com/calendar/ten-ventura/2026-06-16/
LOCATION:Online Meeting
CATEGORIES:Regular Meetings
ATTACH;FMTTYPE=image/jpeg:https://tenesquire.com/wp-content/uploads/2024/03/Ventura_online.jpg
END:VEVENT
BEGIN:VEVENT
DTSTART;TZID=America/Los_Angeles:20260617T080000
DTEND;TZID=America/Los_Angeles:20260617T090000
DTSTAMP:20260423T104402
CREATED:20250630T203731Z
LAST-MODIFIED:20250630T203731Z
UID:10002707-1781683200-1781686800@tenesquire.com
SUMMARY:TEN Mediators
DESCRIPTION:
URL:https://tenesquire.com/calendar/ten-mediators/2026-06-17/
LOCATION:Online Meeting
CATEGORIES:Regular Meetings
ATTACH;FMTTYPE=image/jpeg:https://tenesquire.com/wp-content/uploads/2024/03/Mediators.jpg
ORGANIZER;CN="TEN%3A The Esquire Network":MAILTO:nathan@tenworking.com
END:VEVENT
BEGIN:VEVENT
DTSTART;TZID=America/Los_Angeles:20260618T080000
DTEND;TZID=America/Los_Angeles:20260618T090000
DTSTAMP:20260423T104402
CREATED:20240329T053642Z
LAST-MODIFIED:20240329T053642Z
UID:10001354-1781769600-1781773200@tenesquire.com
SUMMARY:TEN Woodland Hills - Online
DESCRIPTION:
URL:https://tenesquire.com/calendar/ten-woodland-hills-online/2026-06-18/
LOCATION:Online Meeting
CATEGORIES:Regular Meetings
ATTACH;FMTTYPE=image/jpeg:https://tenesquire.com/wp-content/uploads/2024/03/Woodland-Hills_online.jpg
END:VEVENT
BEGIN:VEVENT
DTSTART;TZID=America/Los_Angeles:20260619T110000
DTEND;TZID=America/Los_Angeles:20260619T120000
DTSTAMP:20260423T104402
CREATED:20240329T052431Z
LAST-MODIFIED:20250516T174417Z
UID:10002326-1781866800-1781870400@tenesquire.com
SUMMARY:TEN West Hollywood
DESCRIPTION:
URL:https://tenesquire.com/calendar/ten-west-hollywood/2026-06-19/
LOCATION:Online Meeting
CATEGORIES:Regular Meetings
ATTACH;FMTTYPE=image/jpeg:https://tenesquire.com/wp-content/uploads/2024/03/West-Hollywood.jpg
END:VEVENT
BEGIN:VEVENT
DTSTART;TZID=America/Los_Angeles:20260622T114500
DTEND;TZID=America/Los_Angeles:20260622T131500
DTSTAMP:20260423T104402
CREATED:20260218T182004Z
LAST-MODIFIED:20260218T182004Z
UID:10002883-1782128700-1782134100@tenesquire.com
SUMMARY:TEN DTLA
DESCRIPTION:
URL:https://tenesquire.com/calendar/ten-dtla/2026-06-22/
LOCATION:Biltmore Towers\, 500 South Grand Avenue\, Suite 2010\, Los Angeles\, CA\, 90071\, United States
CATEGORIES:Regular Meetings
ORGANIZER;CN="TEN%3A The Esquire Network":MAILTO:nathan@tenworking.com
END:VEVENT
BEGIN:VEVENT
DTSTART;TZID=America/Los_Angeles:20260624T173000
DTEND;TZID=America/Los_Angeles:20260624T190000
DTSTAMP:20260423T104402
CREATED:20240329T054051Z
LAST-MODIFIED:20240814T222011Z
UID:10001457-1782322200-1782327600@tenesquire.com
SUMMARY:TEN Calabasas
DESCRIPTION:TEN Calabasas Group Photo\, May 2024 \nTEN Calabasas Group Photo\, February 2023
URL:https://tenesquire.com/calendar/ten-calabasas/2026-06-24/
LOCATION:Workwise Law\, 23945 Calabasas Road\, Suite 200\, Calabasas\, CA\, 91302\, United States
CATEGORIES:Regular Meetings
ATTACH;FMTTYPE=image/jpeg:https://tenesquire.com/wp-content/uploads/2024/03/Calabasas.jpg
GEO:34.1539263;-118.6493726
X-APPLE-STRUCTURED-LOCATION;VALUE=URI;X-ADDRESS=Workwise Law 23945 Calabasas Road Suite 200 Calabasas CA 91302 United States;X-APPLE-RADIUS=500;X-TITLE=23945 Calabasas Road\, Suite 200:geo:-118.6493726,34.1539263
END:VEVENT
BEGIN:VEVENT
DTSTART;TZID=America/Los_Angeles:20260625T120000
DTEND;TZID=America/Los_Angeles:20260625T130000
DTSTAMP:20260423T104402
CREATED:20240329T054209Z
LAST-MODIFIED:20240329T054209Z
UID:10001517-1782388800-1782392400@tenesquire.com
SUMMARY:TEN Business and Corporate Law Group
DESCRIPTION:
URL:https://tenesquire.com/calendar/ten-business-and-corporate-law-group/2026-06-25/
LOCATION:Online Meeting
CATEGORIES:Regular Meetings
ATTACH;FMTTYPE=image/jpeg:https://tenesquire.com/wp-content/uploads/2024/03/Business-Corporate.jpg
ORGANIZER;CN="Alan Insul":MAILTO:ami@insullaw.com
END:VEVENT
BEGIN:VEVENT
DTSTART;TZID=America/Los_Angeles:20260625T190000
DTEND;TZID=America/Los_Angeles:20260625T203000
DTSTAMP:20260423T104402
CREATED:20250523T203504Z
LAST-MODIFIED:20250618T220931Z
UID:10002452-1782414000-1782419400@tenesquire.com
SUMMARY:TEN On Tap and Off the Record
DESCRIPTION:
URL:https://tenesquire.com/calendar/ten-on-tap-and-off-the-record/2026-06-25/
LOCATION:In Person – TBA
CATEGORIES:Mixers,Regular Meetings
ORGANIZER;CN="TEN%3A The Esquire Network":MAILTO:nathan@tenworking.com
END:VEVENT
END:VCALENDAR