BEGIN:VCALENDAR
VERSION:2.0
PRODID:-//TEN: The Esquire Network - ECPv6.15.15//NONSGML v1.0//EN
CALSCALE:GREGORIAN
METHOD:PUBLISH
X-ORIGINAL-URL:https://tenesquire.com
X-WR-CALDESC:Events for TEN: The Esquire Network
REFRESH-INTERVAL;VALUE=DURATION:PT1H
X-Robots-Tag:noindex
X-PUBLISHED-TTL:PT1H
BEGIN:VTIMEZONE
TZID:America/Los_Angeles
BEGIN:DAYLIGHT
TZOFFSETFROM:-0800
TZOFFSETTO:-0700
TZNAME:PDT
DTSTART:20250309T100000
END:DAYLIGHT
BEGIN:STANDARD
TZOFFSETFROM:-0700
TZOFFSETTO:-0800
TZNAME:PST
DTSTART:20251102T090000
END:STANDARD
BEGIN:DAYLIGHT
TZOFFSETFROM:-0800
TZOFFSETTO:-0700
TZNAME:PDT
DTSTART:20260308T100000
END:DAYLIGHT
BEGIN:STANDARD
TZOFFSETFROM:-0700
TZOFFSETTO:-0800
TZNAME:PST
DTSTART:20261101T090000
END:STANDARD
BEGIN:DAYLIGHT
TZOFFSETFROM:-0800
TZOFFSETTO:-0700
TZNAME:PDT
DTSTART:20270314T100000
END:DAYLIGHT
BEGIN:STANDARD
TZOFFSETFROM:-0700
TZOFFSETTO:-0800
TZNAME:PST
DTSTART:20271107T090000
END:STANDARD
END:VTIMEZONE
BEGIN:VEVENT
DTSTART;TZID=America/Los_Angeles:20260501T070000
DTEND;TZID=America/Los_Angeles:20260501T083000
DTSTAMP:20260423T091422
CREATED:20260420T181819Z
LAST-MODIFIED:20260420T181900Z
UID:10000586-1777618800-1777624200@tenesquire.com
SUMMARY:TEN Pasadena
DESCRIPTION:
URL:https://tenesquire.com/calendar/ten-pasadena-2026-05-01/
LOCATION:Lagerlof LLP\, 155 N. Lake Ave.\, Pasadena\, CA\, 91101\, United States
CATEGORIES:Regular Meetings
ATTACH;FMTTYPE=image/jpeg:https://tenesquire.com/wp-content/uploads/2024/03/Pasadena.jpg
ORGANIZER;CN="TEN%3A The Esquire Network":MAILTO:nathan@tenworking.com
GEO:34.1484824;-118.1327948
X-APPLE-STRUCTURED-LOCATION;VALUE=URI;X-ADDRESS=Lagerlof LLP 155 N. Lake Ave. Pasadena CA 91101 United States;X-APPLE-RADIUS=500;X-TITLE=155 N. Lake Ave.:geo:-118.1327948,34.1484824
END:VEVENT
BEGIN:VEVENT
DTSTART;TZID=America/Los_Angeles:20260504T120000
DTEND;TZID=America/Los_Angeles:20260504T130000
DTSTAMP:20260423T091422
CREATED:20260420T185137Z
LAST-MODIFIED:20260420T185249Z
UID:10002957-1777896000-1777899600@tenesquire.com
SUMMARY:TEN Santa Clarita
DESCRIPTION:
URL:https://tenesquire.com/calendar/ten-santa-clarita-2026-05-04/
LOCATION:Online Meeting
CATEGORIES:Regular Meetings
ORGANIZER;CN="TEN%3A The Esquire Network":MAILTO:nathan@tenworking.com
END:VEVENT
BEGIN:VEVENT
DTSTART;TZID=America/Los_Angeles:20260505T173000
DTEND;TZID=America/Los_Angeles:20260505T190000
DTSTAMP:20260423T091422
CREATED:20260420T185455Z
LAST-MODIFIED:20260420T185620Z
UID:10003043-1778002200-1778007600@tenesquire.com
SUMMARY:TEN Encino
DESCRIPTION:
URL:https://tenesquire.com/calendar/ten-encino-2026-05-05/
LOCATION:Lewitt Hackman\, 16633 Ventura Blvd 11th Fl.\, Encino\, CA\, 91436\, United States
CATEGORIES:Regular Meetings
ATTACH;FMTTYPE=image/jpeg:https://tenesquire.com/wp-content/uploads/2024/03/Encino.jpg
END:VEVENT
BEGIN:VEVENT
DTSTART;TZID=America/Los_Angeles:20260507T130000
DTEND;TZID=America/Los_Angeles:20260507T140000
DTSTAMP:20260423T091422
CREATED:20260420T185845Z
LAST-MODIFIED:20260420T185922Z
UID:10000466-1778158800-1778162400@tenesquire.com
SUMMARY:TEN Employment Law
DESCRIPTION:
URL:https://tenesquire.com/calendar/ten-employment-law-2026-05-07/
LOCATION:Online Meeting
CATEGORIES:Regular Meetings
ATTACH;FMTTYPE=image/jpeg:https://tenesquire.com/wp-content/uploads/2024/03/Employment-Law.jpg
END:VEVENT
BEGIN:VEVENT
DTSTART;TZID=America/Los_Angeles:20260507T173000
DTEND;TZID=America/Los_Angeles:20260507T183000
DTSTAMP:20260423T091422
CREATED:20260420T185937Z
LAST-MODIFIED:20260420T190011Z
UID:10000526-1778175000-1778178600@tenesquire.com
SUMMARY:TEN South Bay
DESCRIPTION:
URL:https://tenesquire.com/calendar/ten-south-bay-2026-05-07/
LOCATION:Online Meeting
CATEGORIES:Regular Meetings
ATTACH;FMTTYPE=image/jpeg:https://tenesquire.com/wp-content/uploads/2024/03/South-Bay.jpg
END:VEVENT
BEGIN:VEVENT
DTSTART;TZID=America/Los_Angeles:20260510T070000
DTEND;TZID=America/Los_Angeles:20260510T120000
DTSTAMP:20260423T091422
CREATED:20260420T191054Z
LAST-MODIFIED:20260420T191304Z
UID:10001066-1778396400-1778414400@tenesquire.com
SUMMARY:TEN-Nine Golf Group
DESCRIPTION:You are cordially invited to participate in our next TEN Nine Golf Outing & Networking Breakfast with moderator Jacqueline Loza. This activity is open to: TEN members and guests of TEN members\, and practicing attorneys who are not (yet) TEN Members. All skill levels welcome! \nWhere: Roosevelt Golf Course\, 2650 N. Vermont Ave.\, Los Angeles\, CA 90027 \nTime: Exact times will be communicated upon RSVP \nWhat: Nine-holes of golf\, followed by breakfast \nCost: $27 green fee\, plus food & beverage \nChip & Putt Pot: $10/player (optional) \n\nRSVP now – tee times are limited\nRSVP deadline: 5 PM on April 30\, 2026.\nCancelation deadline: 11:59 pm on May 7\, 2026.  To cancel your RSVP\, please email Jacqueline Loza jacquelinesloza@gmail.com. \nNon-refundable Deposit/No Show Fee:  All RSVPs are subject to L.A. City Golf’s deposit/no-show policy (see below). Should you cancel your RSVP or fail to show up\, you will be asked to cover any deposit lost and/or no-show fee paid.\nContact Jacqueline Loza (jacquelinesloza@gmail.com or (818) 317-5580\, if you have any questions.\n\nRSVP Required \nFrom L.A. City Golf:  \n“Beginning immediately\, all tee time reservations booked through our website\, mobile app\, golf courses\, or 24 hour call center will require a $10 per person non refundable deposit and this amount will be credited towards each golfers green fee upon check-in. Your deposit will be forfeited if you cancel your tee time for any reason (note: the separate $10 per person no show/short show penalties also remain in effect). A refund of your deposit may be issued if a course is closed due to adverse weather and/or other course closure events or if electric carts are not available for rent preventing you or your group from playing. \nThank you for understand while we strive to make our booking process as fair and equitable as possible.”
URL:https://tenesquire.com/calendar/ten-nine-golf-group-2026-05-10/
LOCATION:Roosevelt Municipal Golf Course\, 2650 N. Vermont Ave.\, Los Angeles\, CA\, 90027\, United States
CATEGORIES:Regular Meetings
ATTACH;FMTTYPE=image/jpeg:https://tenesquire.com/wp-content/uploads/2024/03/Golf.jpg
ORGANIZER;CN="Jacqueline Loza":MAILTO:jacquelinesloza@gmail.com
GEO:34.118308;-118.2937803
X-APPLE-STRUCTURED-LOCATION;VALUE=URI;X-ADDRESS=Roosevelt Municipal Golf Course 2650 N. Vermont Ave. Los Angeles CA 90027 United States;X-APPLE-RADIUS=500;X-TITLE=2650 N. Vermont Ave.:geo:-118.2937803,34.118308
END:VEVENT
BEGIN:VEVENT
DTSTART;TZID=America/Los_Angeles:20260511T150000
DTEND;TZID=America/Los_Angeles:20260511T160000
DTSTAMP:20260423T091422
CREATED:20260420T191332Z
LAST-MODIFIED:20260420T191408Z
UID:10000646-1778511600-1778515200@tenesquire.com
SUMMARY:TEN Bankruptcy Law
DESCRIPTION:If your practice involves bankruptcy law\, this is a perfect opportunity to find mentorship\, referral sources\, and build relationships with experts in your practice area. Whether you find yourself referring clients and/or potential clients to bankruptcy attorneys\, you find yourself needing to bring in a bankruptcy attorney on cases\, or there are certain aspects of bankruptcy law that you don’t practice\, you’re more than welcome to join us on the second Monday of every month! We’re excited to have you join us. See you soon!
URL:https://tenesquire.com/calendar/ten-bankruptcy-law-2026-05-11/
LOCATION:Online Meeting
CATEGORIES:Regular Meetings
ATTACH;FMTTYPE=image/jpeg:https://tenesquire.com/wp-content/uploads/2024/03/Bankruptcy-Law.jpg
END:VEVENT
BEGIN:VEVENT
DTSTART;TZID=America/Los_Angeles:20260512T120000
DTEND;TZID=America/Los_Angeles:20260512T130000
DTSTAMP:20260423T091422
CREATED:20260420T191421Z
LAST-MODIFIED:20260420T191456Z
UID:10000706-1778587200-1778590800@tenesquire.com
SUMMARY:TEN Sherman Oaks
DESCRIPTION:TEN Sherman Oaks for their annual TEN-FL event
URL:https://tenesquire.com/calendar/ten-sherman-oaks-2026-05-12/
LOCATION:Online Meeting
CATEGORIES:Regular Meetings
ATTACH;FMTTYPE=image/jpeg:https://tenesquire.com/wp-content/uploads/2024/03/Sherman-Oaks.jpg
ORGANIZER;CN="TEN%3A The Esquire Network":MAILTO:nathan@tenworking.com
END:VEVENT
BEGIN:VEVENT
DTSTART;TZID=America/Los_Angeles:20260514T173000
DTEND;TZID=America/Los_Angeles:20260514T190000
DTSTAMP:20260423T091422
CREATED:20260420T191613Z
LAST-MODIFIED:20260420T191648Z
UID:10000886-1778779800-1778785200@tenesquire.com
SUMMARY:TEN Tasters
DESCRIPTION:TEN Beverly Hills Tasters went to San Diego with Attorney Sommelier Chris Celentino of Jace Wines and Toured Alesmith Brewery \nTEN Tasters Group Photo\, July 2023 \nTEN Beverly Hills Tasters in San Diego \nTEN Tasters Group Photo
URL:https://tenesquire.com/calendar/ten-tasters-2026-05-14/
LOCATION:Online Meeting
CATEGORIES:Regular Meetings
ATTACH;FMTTYPE=image/jpeg:https://tenesquire.com/wp-content/uploads/2024/03/Sherman-Oaks-2.jpg
ORGANIZER;CN="Amira Hasenbush":MAILTO:amira@allfamilylegal.com
END:VEVENT
BEGIN:VEVENT
DTSTART;TZID=America/Los_Angeles:20260515T110000
DTEND;TZID=America/Los_Angeles:20260515T120000
DTSTAMP:20260423T091422
CREATED:20260420T191703Z
LAST-MODIFIED:20260420T191736Z
UID:10002325-1778842800-1778846400@tenesquire.com
SUMMARY:TEN West Hollywood
DESCRIPTION:
URL:https://tenesquire.com/calendar/ten-west-hollywood-2026-05-15/
LOCATION:Online Meeting
CATEGORIES:Regular Meetings
ATTACH;FMTTYPE=image/jpeg:https://tenesquire.com/wp-content/uploads/2024/03/West-Hollywood.jpg
END:VEVENT
BEGIN:VEVENT
DTSTART;TZID=America/Los_Angeles:20260518T113000
DTEND;TZID=America/Los_Angeles:20260518T123000
DTSTAMP:20260423T091422
CREATED:20260420T191836Z
LAST-MODIFIED:20260420T192016Z
UID:10001636-1779103800-1779107400@tenesquire.com
SUMMARY:TEN Probate and Estate Planning Law Group
DESCRIPTION:
URL:https://tenesquire.com/calendar/ten-probate-2026-05-18/
LOCATION:Online Meeting
CATEGORIES:Regular Meetings
ATTACH;FMTTYPE=image/jpeg:https://tenesquire.com/wp-content/uploads/2024/03/Mediators-2.jpg
END:VEVENT
BEGIN:VEVENT
DTSTART;TZID=America/Los_Angeles:20260519T080000
DTEND;TZID=America/Los_Angeles:20260519T090000
DTSTAMP:20260423T091422
CREATED:20260420T192041Z
LAST-MODIFIED:20260420T192115Z
UID:10001246-1779177600-1779181200@tenesquire.com
SUMMARY:TEN Ventura
DESCRIPTION:
URL:https://tenesquire.com/calendar/ten-ventura-2026-05-19/
LOCATION:Online Meeting
CATEGORIES:Regular Meetings
ATTACH;FMTTYPE=image/jpeg:https://tenesquire.com/wp-content/uploads/2024/03/Ventura_online.jpg
END:VEVENT
BEGIN:VEVENT
DTSTART;TZID=America/Los_Angeles:20260521T180000
DTEND;TZID=America/Los_Angeles:20260521T200000
DTSTAMP:20260423T091422
CREATED:20260420T192135Z
LAST-MODIFIED:20260420T192215Z
UID:10002667-1779386400-1779393600@tenesquire.com
SUMMARY:TEN Woodland Hills - In Person
DESCRIPTION:
URL:https://tenesquire.com/calendar/ten-woodland-hills-in-person-2026-05-21/
LOCATION:Sagebrush Cantina\, 23527 Calabasas Rd\, Calabasas\, California\, 91302\, United States
CATEGORIES:Mixers,Regular Meetings
ATTACH;FMTTYPE=image/jpeg:https://tenesquire.com/wp-content/uploads/2024/03/Woodland-Hills_in-person.jpg
ORGANIZER;CN="TEN%3A The Esquire Network":MAILTO:nathan@tenworking.com
GEO:34.157641;-118.63956
X-APPLE-STRUCTURED-LOCATION;VALUE=URI;X-ADDRESS=Sagebrush Cantina 23527 Calabasas Rd Calabasas California 91302 United States;X-APPLE-RADIUS=500;X-TITLE=23527 Calabasas Rd:geo:-118.63956,34.157641
END:VEVENT
BEGIN:VEVENT
DTSTART;TZID=America/Los_Angeles:20260525T114500
DTEND;TZID=America/Los_Angeles:20260525T131500
DTSTAMP:20260423T091422
CREATED:20260420T192314Z
LAST-MODIFIED:20260420T192407Z
UID:10002882-1779709500-1779714900@tenesquire.com
SUMMARY:TEN DTLA
DESCRIPTION:
URL:https://tenesquire.com/calendar/ten-dtla-2026-05-25/
LOCATION:Biltmore Towers\, 500 South Grand Avenue\, Suite 2010\, Los Angeles\, CA\, 90071\, United States
CATEGORIES:Regular Meetings
ORGANIZER;CN="TEN%3A The Esquire Network":MAILTO:nathan@tenworking.com
END:VEVENT
BEGIN:VEVENT
DTSTART;TZID=America/Los_Angeles:20260527T173000
DTEND;TZID=America/Los_Angeles:20260527T190000
DTSTAMP:20260423T091422
CREATED:20260420T192454Z
LAST-MODIFIED:20260420T192551Z
UID:10001456-1779903000-1779908400@tenesquire.com
SUMMARY:TEN Calabasas
DESCRIPTION:TEN Calabasas Group Photo\, May 2024 \nTEN Calabasas Group Photo\, February 2023
URL:https://tenesquire.com/calendar/ten-calabasas-2026-05-27/
LOCATION:Workwise Law\, 23945 Calabasas Road\, Suite 200\, Calabasas\, CA\, 91302\, United States
CATEGORIES:Regular Meetings
ATTACH;FMTTYPE=image/jpeg:https://tenesquire.com/wp-content/uploads/2024/03/Calabasas.jpg
GEO:34.1539263;-118.6493726
X-APPLE-STRUCTURED-LOCATION;VALUE=URI;X-ADDRESS=Workwise Law 23945 Calabasas Road Suite 200 Calabasas CA 91302 United States;X-APPLE-RADIUS=500;X-TITLE=23945 Calabasas Road\, Suite 200:geo:-118.6493726,34.1539263
END:VEVENT
BEGIN:VEVENT
DTSTART;TZID=America/Los_Angeles:20260528T120000
DTEND;TZID=America/Los_Angeles:20260528T130000
DTSTAMP:20260423T091422
CREATED:20260420T192654Z
LAST-MODIFIED:20260420T192758Z
UID:10001516-1779969600-1779973200@tenesquire.com
SUMMARY:TEN Business and Corporate Law Group
DESCRIPTION:
URL:https://tenesquire.com/calendar/ten-business-corporate-2026-05-28/
LOCATION:Online Meeting
CATEGORIES:Regular Meetings
ATTACH;FMTTYPE=image/jpeg:https://tenesquire.com/wp-content/uploads/2024/03/Business-Corporate.jpg
ORGANIZER;CN="Alan Insul":MAILTO:ami@insullaw.com
END:VEVENT
END:VCALENDAR