BEGIN:VCALENDAR
VERSION:2.0
PRODID:-//TEN: The Esquire Network - ECPv6.15.15//NONSGML v1.0//EN
CALSCALE:GREGORIAN
METHOD:PUBLISH
X-ORIGINAL-URL:https://tenesquire.com
X-WR-CALDESC:Events for TEN: The Esquire Network
REFRESH-INTERVAL;VALUE=DURATION:PT1H
X-Robots-Tag:noindex
X-PUBLISHED-TTL:PT1H
BEGIN:VTIMEZONE
TZID:America/Los_Angeles
BEGIN:DAYLIGHT
TZOFFSETFROM:-0800
TZOFFSETTO:-0700
TZNAME:PDT
DTSTART:20250309T100000
END:DAYLIGHT
BEGIN:STANDARD
TZOFFSETFROM:-0700
TZOFFSETTO:-0800
TZNAME:PST
DTSTART:20251102T090000
END:STANDARD
BEGIN:DAYLIGHT
TZOFFSETFROM:-0800
TZOFFSETTO:-0700
TZNAME:PDT
DTSTART:20260308T100000
END:DAYLIGHT
BEGIN:STANDARD
TZOFFSETFROM:-0700
TZOFFSETTO:-0800
TZNAME:PST
DTSTART:20261101T090000
END:STANDARD
BEGIN:DAYLIGHT
TZOFFSETFROM:-0800
TZOFFSETTO:-0700
TZNAME:PDT
DTSTART:20270314T100000
END:DAYLIGHT
BEGIN:STANDARD
TZOFFSETFROM:-0700
TZOFFSETTO:-0800
TZNAME:PST
DTSTART:20271107T090000
END:STANDARD
END:VTIMEZONE
BEGIN:VEVENT
DTSTART;TZID=America/Los_Angeles:20260326T120000
DTEND;TZID=America/Los_Angeles:20260326T130000
DTSTAMP:20260423T091422
CREATED:20260218T204533Z
LAST-MODIFIED:20260323T185947Z
UID:10001514-1774526400-1774530000@tenesquire.com
SUMMARY:TEN Business and Corporate Law Group
DESCRIPTION:
URL:https://tenesquire.com/calendar/ten-business-2026-03-26/
LOCATION:Online Meeting
CATEGORIES:Regular Meetings
ATTACH;FMTTYPE=image/jpeg:https://tenesquire.com/wp-content/uploads/2024/03/Business-Corporate.jpg
ORGANIZER;CN="Alan Insul":MAILTO:ami@insullaw.com
END:VEVENT
BEGIN:VEVENT
DTSTART;TZID=America/Los_Angeles:20260331T173000
DTEND;TZID=America/Los_Angeles:20260331T190000
DTSTAMP:20260423T091422
CREATED:20260218T204329Z
LAST-MODIFIED:20260327T175528Z
UID:10001394-1774978200-1774983600@tenesquire.com
SUMMARY:TEN Encino
DESCRIPTION:Please note: This meeting will be moving to the first Tuesday of the month starting May 5th. 
URL:https://tenesquire.com/calendar/ten-encino-2026-03-24/
LOCATION:Lewitt Hackman\, 16633 Ventura Blvd 11th Fl.\, Encino\, CA\, 91436\, United States
CATEGORIES:Regular Meetings
ATTACH;FMTTYPE=image/jpeg:https://tenesquire.com/wp-content/uploads/2024/03/Encino.jpg
END:VEVENT
END:VCALENDAR